BEGIN:VCALENDAR
VERSION:2.0
PRODID:-//Saint Francis Of Assisi / Roman Catholic Church - ECPv6.15.6//NONSGML v1.0//EN
CALSCALE:GREGORIAN
METHOD:PUBLISH
X-WR-CALNAME:Saint Francis Of Assisi / Roman Catholic Church
X-ORIGINAL-URL:https://saintfrancisnecedah.org
X-WR-CALDESC:Events for Saint Francis Of Assisi / Roman Catholic Church
REFRESH-INTERVAL;VALUE=DURATION:PT1H
X-Robots-Tag:noindex
X-PUBLISHED-TTL:PT1H
BEGIN:VTIMEZONE
TZID:UTC
BEGIN:STANDARD
TZOFFSETFROM:+0000
TZOFFSETTO:+0000
TZNAME:UTC
DTSTART:20250101T000000
END:STANDARD
END:VTIMEZONE
BEGIN:VEVENT
DTSTART;TZID=UTC:20260425T150000
DTEND;TZID=UTC:20260425T161500
DTSTAMP:20260425T022050
CREATED:20220912T213207Z
LAST-MODIFIED:20250227T191457Z
UID:10002549-1777129200-1777133700@saintfrancisnecedah.org
SUMMARY:Confession
DESCRIPTION:Sacrament of Reconciliation – Saturday 3:00pm – 4:15pm at St. Francis of Assisi\, Necedah and 30 minutes before each Mass except the 8:45am Mass \n 
URL:https://saintfrancisnecedah.org/event/confession/2026-04-25/
ATTACH;FMTTYPE=image/jpeg:https://saintfrancisnecedah.org/wp-content/uploads/2022/09/confession.jpg
END:VEVENT
BEGIN:VEVENT
DTSTART;TZID=UTC:20260425T163000
DTEND;TZID=UTC:20260425T173000
DTSTAMP:20260425T022050
CREATED:20250227T185502Z
LAST-MODIFIED:20250227T191917Z
UID:10004435-1777134600-1777138200@saintfrancisnecedah.org
SUMMARY:Saturday Mass (St Francis of Assisi) English
DESCRIPTION:Saturday Evening Mass at St. Francis of Assisi\, Necedah  English Mass 4:30pm
URL:https://saintfrancisnecedah.org/event/saturday-mass-st-francis-of-assisi-english-2/2026-04-25/
LOCATION:St Francis of Assisi Church\, 2001 S Main St\, Necedah\, WI\, 54646\, United States
ATTACH;FMTTYPE=image/jpeg:https://saintfrancisnecedah.org/wp-content/uploads/2022/12/Outside-church-St.Francis-w.jpg
END:VEVENT
END:VCALENDAR