BEGIN:VCALENDAR
VERSION:2.0
PRODID:-//Saint Francis Of Assisi / Roman Catholic Church - ECPv6.15.6//NONSGML v1.0//EN
CALSCALE:GREGORIAN
METHOD:PUBLISH
X-ORIGINAL-URL:https://saintfrancisnecedah.org
X-WR-CALDESC:Events for Saint Francis Of Assisi / Roman Catholic Church
REFRESH-INTERVAL;VALUE=DURATION:PT1H
X-Robots-Tag:noindex
X-PUBLISHED-TTL:PT1H
BEGIN:VTIMEZONE
TZID:UTC
BEGIN:STANDARD
TZOFFSETFROM:+0000
TZOFFSETTO:+0000
TZNAME:UTC
DTSTART:20230101T000000
END:STANDARD
END:VTIMEZONE
BEGIN:VEVENT
DTSTART;TZID=UTC:20241215T073000
DTEND;TZID=UTC:20241215T083000
DTSTAMP:20260421T131846
CREATED:20231025T195219Z
LAST-MODIFIED:20231025T201453Z
UID:10003322-1734247800-1734251400@saintfrancisnecedah.org
SUMMARY:Sunday Mass (Lady of the Lake) English
DESCRIPTION:English Sunday Mass at Our Lady of the Lake – 7:30am
URL:https://saintfrancisnecedah.org/event/sunday-mass-lady-of-the-lake-english/2024-12-15/
LOCATION:Our Lady of the Lake\, 6865 Evergreen St\,\, Mauston\, WI\, 53948\, United States
ATTACH;FMTTYPE=image/jpeg:https://saintfrancisnecedah.org/wp-content/uploads/2022/12/Outside-church-LOL-w.jpg
END:VEVENT
BEGIN:VEVENT
DTSTART;TZID=UTC:20241208T073000
DTEND;TZID=UTC:20241208T083000
DTSTAMP:20260421T131846
CREATED:20231025T195219Z
LAST-MODIFIED:20231025T201453Z
UID:10003321-1733643000-1733646600@saintfrancisnecedah.org
SUMMARY:Sunday Mass (Lady of the Lake) English
DESCRIPTION:English Sunday Mass at Our Lady of the Lake – 7:30am
URL:https://saintfrancisnecedah.org/event/sunday-mass-lady-of-the-lake-english/2024-12-08/
LOCATION:Our Lady of the Lake\, 6865 Evergreen St\,\, Mauston\, WI\, 53948\, United States
ATTACH;FMTTYPE=image/jpeg:https://saintfrancisnecedah.org/wp-content/uploads/2022/12/Outside-church-LOL-w.jpg
END:VEVENT
BEGIN:VEVENT
DTSTART;TZID=UTC:20241201T073000
DTEND;TZID=UTC:20241201T083000
DTSTAMP:20260421T131846
CREATED:20231025T195219Z
LAST-MODIFIED:20231025T201453Z
UID:10003320-1733038200-1733041800@saintfrancisnecedah.org
SUMMARY:Sunday Mass (Lady of the Lake) English
DESCRIPTION:English Sunday Mass at Our Lady of the Lake – 7:30am
URL:https://saintfrancisnecedah.org/event/sunday-mass-lady-of-the-lake-english/2024-12-01/
LOCATION:Our Lady of the Lake\, 6865 Evergreen St\,\, Mauston\, WI\, 53948\, United States
ATTACH;FMTTYPE=image/jpeg:https://saintfrancisnecedah.org/wp-content/uploads/2022/12/Outside-church-LOL-w.jpg
END:VEVENT
BEGIN:VEVENT
DTSTART;TZID=UTC:20241124T073000
DTEND;TZID=UTC:20241124T083000
DTSTAMP:20260421T131846
CREATED:20231025T195219Z
LAST-MODIFIED:20231025T201453Z
UID:10003319-1732433400-1732437000@saintfrancisnecedah.org
SUMMARY:Sunday Mass (Lady of the Lake) English
DESCRIPTION:English Sunday Mass at Our Lady of the Lake – 7:30am
URL:https://saintfrancisnecedah.org/event/sunday-mass-lady-of-the-lake-english/2024-11-24/
LOCATION:Our Lady of the Lake\, 6865 Evergreen St\,\, Mauston\, WI\, 53948\, United States
ATTACH;FMTTYPE=image/jpeg:https://saintfrancisnecedah.org/wp-content/uploads/2022/12/Outside-church-LOL-w.jpg
END:VEVENT
BEGIN:VEVENT
DTSTART;TZID=UTC:20241117T073000
DTEND;TZID=UTC:20241117T083000
DTSTAMP:20260421T131846
CREATED:20231025T195219Z
LAST-MODIFIED:20231025T201453Z
UID:10003318-1731828600-1731832200@saintfrancisnecedah.org
SUMMARY:Sunday Mass (Lady of the Lake) English
DESCRIPTION:English Sunday Mass at Our Lady of the Lake – 7:30am
URL:https://saintfrancisnecedah.org/event/sunday-mass-lady-of-the-lake-english/2024-11-17/
LOCATION:Our Lady of the Lake\, 6865 Evergreen St\,\, Mauston\, WI\, 53948\, United States
ATTACH;FMTTYPE=image/jpeg:https://saintfrancisnecedah.org/wp-content/uploads/2022/12/Outside-church-LOL-w.jpg
END:VEVENT
BEGIN:VEVENT
DTSTART;TZID=UTC:20241110T073000
DTEND;TZID=UTC:20241110T083000
DTSTAMP:20260421T131846
CREATED:20231025T195219Z
LAST-MODIFIED:20231025T201453Z
UID:10003317-1731223800-1731227400@saintfrancisnecedah.org
SUMMARY:Sunday Mass (Lady of the Lake) English
DESCRIPTION:English Sunday Mass at Our Lady of the Lake – 7:30am
URL:https://saintfrancisnecedah.org/event/sunday-mass-lady-of-the-lake-english/2024-11-10/
LOCATION:Our Lady of the Lake\, 6865 Evergreen St\,\, Mauston\, WI\, 53948\, United States
ATTACH;FMTTYPE=image/jpeg:https://saintfrancisnecedah.org/wp-content/uploads/2022/12/Outside-church-LOL-w.jpg
END:VEVENT
BEGIN:VEVENT
DTSTART;TZID=UTC:20241103T073000
DTEND;TZID=UTC:20241103T083000
DTSTAMP:20260421T131846
CREATED:20231025T195219Z
LAST-MODIFIED:20231025T201453Z
UID:10003316-1730619000-1730622600@saintfrancisnecedah.org
SUMMARY:Sunday Mass (Lady of the Lake) English
DESCRIPTION:English Sunday Mass at Our Lady of the Lake – 7:30am
URL:https://saintfrancisnecedah.org/event/sunday-mass-lady-of-the-lake-english/2024-11-03/
LOCATION:Our Lady of the Lake\, 6865 Evergreen St\,\, Mauston\, WI\, 53948\, United States
ATTACH;FMTTYPE=image/jpeg:https://saintfrancisnecedah.org/wp-content/uploads/2022/12/Outside-church-LOL-w.jpg
END:VEVENT
BEGIN:VEVENT
DTSTART;TZID=UTC:20241027T073000
DTEND;TZID=UTC:20241027T083000
DTSTAMP:20260421T131846
CREATED:20231025T195219Z
LAST-MODIFIED:20231025T201453Z
UID:10003315-1730014200-1730017800@saintfrancisnecedah.org
SUMMARY:Sunday Mass (Lady of the Lake) English
DESCRIPTION:English Sunday Mass at Our Lady of the Lake – 7:30am
URL:https://saintfrancisnecedah.org/event/sunday-mass-lady-of-the-lake-english/2024-10-27/
LOCATION:Our Lady of the Lake\, 6865 Evergreen St\,\, Mauston\, WI\, 53948\, United States
ATTACH;FMTTYPE=image/jpeg:https://saintfrancisnecedah.org/wp-content/uploads/2022/12/Outside-church-LOL-w.jpg
END:VEVENT
BEGIN:VEVENT
DTSTART;TZID=UTC:20241020T073000
DTEND;TZID=UTC:20241020T083000
DTSTAMP:20260421T131846
CREATED:20231025T195219Z
LAST-MODIFIED:20231025T201453Z
UID:10003314-1729409400-1729413000@saintfrancisnecedah.org
SUMMARY:Sunday Mass (Lady of the Lake) English
DESCRIPTION:English Sunday Mass at Our Lady of the Lake – 7:30am
URL:https://saintfrancisnecedah.org/event/sunday-mass-lady-of-the-lake-english/2024-10-20/
LOCATION:Our Lady of the Lake\, 6865 Evergreen St\,\, Mauston\, WI\, 53948\, United States
ATTACH;FMTTYPE=image/jpeg:https://saintfrancisnecedah.org/wp-content/uploads/2022/12/Outside-church-LOL-w.jpg
END:VEVENT
BEGIN:VEVENT
DTSTART;TZID=UTC:20241013T073000
DTEND;TZID=UTC:20241013T083000
DTSTAMP:20260421T131846
CREATED:20231025T195219Z
LAST-MODIFIED:20231025T201453Z
UID:10003313-1728804600-1728808200@saintfrancisnecedah.org
SUMMARY:Sunday Mass (Lady of the Lake) English
DESCRIPTION:English Sunday Mass at Our Lady of the Lake – 7:30am
URL:https://saintfrancisnecedah.org/event/sunday-mass-lady-of-the-lake-english/2024-10-13/
LOCATION:Our Lady of the Lake\, 6865 Evergreen St\,\, Mauston\, WI\, 53948\, United States
ATTACH;FMTTYPE=image/jpeg:https://saintfrancisnecedah.org/wp-content/uploads/2022/12/Outside-church-LOL-w.jpg
END:VEVENT
BEGIN:VEVENT
DTSTART;TZID=UTC:20241006T073000
DTEND;TZID=UTC:20241006T083000
DTSTAMP:20260421T131846
CREATED:20231025T195219Z
LAST-MODIFIED:20231025T201453Z
UID:10003312-1728199800-1728203400@saintfrancisnecedah.org
SUMMARY:Sunday Mass (Lady of the Lake) English
DESCRIPTION:English Sunday Mass at Our Lady of the Lake – 7:30am
URL:https://saintfrancisnecedah.org/event/sunday-mass-lady-of-the-lake-english/2024-10-06/
LOCATION:Our Lady of the Lake\, 6865 Evergreen St\,\, Mauston\, WI\, 53948\, United States
ATTACH;FMTTYPE=image/jpeg:https://saintfrancisnecedah.org/wp-content/uploads/2022/12/Outside-church-LOL-w.jpg
END:VEVENT
BEGIN:VEVENT
DTSTART;TZID=UTC:20240929T073000
DTEND;TZID=UTC:20240929T083000
DTSTAMP:20260421T131846
CREATED:20231025T195219Z
LAST-MODIFIED:20231025T201453Z
UID:10003311-1727595000-1727598600@saintfrancisnecedah.org
SUMMARY:Sunday Mass (Lady of the Lake) English
DESCRIPTION:English Sunday Mass at Our Lady of the Lake – 7:30am
URL:https://saintfrancisnecedah.org/event/sunday-mass-lady-of-the-lake-english/2024-09-29/
LOCATION:Our Lady of the Lake\, 6865 Evergreen St\,\, Mauston\, WI\, 53948\, United States
ATTACH;FMTTYPE=image/jpeg:https://saintfrancisnecedah.org/wp-content/uploads/2022/12/Outside-church-LOL-w.jpg
END:VEVENT
BEGIN:VEVENT
DTSTART;TZID=UTC:20240922T073000
DTEND;TZID=UTC:20240922T083000
DTSTAMP:20260421T131846
CREATED:20231025T195219Z
LAST-MODIFIED:20231025T201453Z
UID:10003310-1726990200-1726993800@saintfrancisnecedah.org
SUMMARY:Sunday Mass (Lady of the Lake) English
DESCRIPTION:English Sunday Mass at Our Lady of the Lake – 7:30am
URL:https://saintfrancisnecedah.org/event/sunday-mass-lady-of-the-lake-english/2024-09-22/
LOCATION:Our Lady of the Lake\, 6865 Evergreen St\,\, Mauston\, WI\, 53948\, United States
ATTACH;FMTTYPE=image/jpeg:https://saintfrancisnecedah.org/wp-content/uploads/2022/12/Outside-church-LOL-w.jpg
END:VEVENT
BEGIN:VEVENT
DTSTART;TZID=UTC:20240915T073000
DTEND;TZID=UTC:20240915T083000
DTSTAMP:20260421T131846
CREATED:20231025T195219Z
LAST-MODIFIED:20231025T201453Z
UID:10003309-1726385400-1726389000@saintfrancisnecedah.org
SUMMARY:Sunday Mass (Lady of the Lake) English
DESCRIPTION:English Sunday Mass at Our Lady of the Lake – 7:30am
URL:https://saintfrancisnecedah.org/event/sunday-mass-lady-of-the-lake-english/2024-09-15/
LOCATION:Our Lady of the Lake\, 6865 Evergreen St\,\, Mauston\, WI\, 53948\, United States
ATTACH;FMTTYPE=image/jpeg:https://saintfrancisnecedah.org/wp-content/uploads/2022/12/Outside-church-LOL-w.jpg
END:VEVENT
BEGIN:VEVENT
DTSTART;TZID=UTC:20240908T073000
DTEND;TZID=UTC:20240908T083000
DTSTAMP:20260421T131846
CREATED:20231025T195219Z
LAST-MODIFIED:20231025T201453Z
UID:10003308-1725780600-1725784200@saintfrancisnecedah.org
SUMMARY:Sunday Mass (Lady of the Lake) English
DESCRIPTION:English Sunday Mass at Our Lady of the Lake – 7:30am
URL:https://saintfrancisnecedah.org/event/sunday-mass-lady-of-the-lake-english/2024-09-08/
LOCATION:Our Lady of the Lake\, 6865 Evergreen St\,\, Mauston\, WI\, 53948\, United States
ATTACH;FMTTYPE=image/jpeg:https://saintfrancisnecedah.org/wp-content/uploads/2022/12/Outside-church-LOL-w.jpg
END:VEVENT
BEGIN:VEVENT
DTSTART;TZID=UTC:20240901T073000
DTEND;TZID=UTC:20240901T083000
DTSTAMP:20260421T131846
CREATED:20231025T195219Z
LAST-MODIFIED:20231025T201453Z
UID:10003307-1725175800-1725179400@saintfrancisnecedah.org
SUMMARY:Sunday Mass (Lady of the Lake) English
DESCRIPTION:English Sunday Mass at Our Lady of the Lake – 7:30am
URL:https://saintfrancisnecedah.org/event/sunday-mass-lady-of-the-lake-english/2024-09-01/
LOCATION:Our Lady of the Lake\, 6865 Evergreen St\,\, Mauston\, WI\, 53948\, United States
ATTACH;FMTTYPE=image/jpeg:https://saintfrancisnecedah.org/wp-content/uploads/2022/12/Outside-church-LOL-w.jpg
END:VEVENT
BEGIN:VEVENT
DTSTART;TZID=UTC:20240825T073000
DTEND;TZID=UTC:20240825T083000
DTSTAMP:20260421T131846
CREATED:20231025T195219Z
LAST-MODIFIED:20231025T201453Z
UID:10003306-1724571000-1724574600@saintfrancisnecedah.org
SUMMARY:Sunday Mass (Lady of the Lake) English
DESCRIPTION:English Sunday Mass at Our Lady of the Lake – 7:30am
URL:https://saintfrancisnecedah.org/event/sunday-mass-lady-of-the-lake-english/2024-08-25/
LOCATION:Our Lady of the Lake\, 6865 Evergreen St\,\, Mauston\, WI\, 53948\, United States
ATTACH;FMTTYPE=image/jpeg:https://saintfrancisnecedah.org/wp-content/uploads/2022/12/Outside-church-LOL-w.jpg
END:VEVENT
BEGIN:VEVENT
DTSTART;TZID=UTC:20240818T073000
DTEND;TZID=UTC:20240818T083000
DTSTAMP:20260421T131846
CREATED:20231025T195219Z
LAST-MODIFIED:20231025T201453Z
UID:10003305-1723966200-1723969800@saintfrancisnecedah.org
SUMMARY:Sunday Mass (Lady of the Lake) English
DESCRIPTION:English Sunday Mass at Our Lady of the Lake – 7:30am
URL:https://saintfrancisnecedah.org/event/sunday-mass-lady-of-the-lake-english/2024-08-18/
LOCATION:Our Lady of the Lake\, 6865 Evergreen St\,\, Mauston\, WI\, 53948\, United States
ATTACH;FMTTYPE=image/jpeg:https://saintfrancisnecedah.org/wp-content/uploads/2022/12/Outside-church-LOL-w.jpg
END:VEVENT
BEGIN:VEVENT
DTSTART;TZID=UTC:20240811T073000
DTEND;TZID=UTC:20240811T083000
DTSTAMP:20260421T131846
CREATED:20231025T195219Z
LAST-MODIFIED:20231025T201453Z
UID:10003304-1723361400-1723365000@saintfrancisnecedah.org
SUMMARY:Sunday Mass (Lady of the Lake) English
DESCRIPTION:English Sunday Mass at Our Lady of the Lake – 7:30am
URL:https://saintfrancisnecedah.org/event/sunday-mass-lady-of-the-lake-english/2024-08-11/
LOCATION:Our Lady of the Lake\, 6865 Evergreen St\,\, Mauston\, WI\, 53948\, United States
ATTACH;FMTTYPE=image/jpeg:https://saintfrancisnecedah.org/wp-content/uploads/2022/12/Outside-church-LOL-w.jpg
END:VEVENT
BEGIN:VEVENT
DTSTART;TZID=UTC:20240804T073000
DTEND;TZID=UTC:20240804T083000
DTSTAMP:20260421T131846
CREATED:20231025T195219Z
LAST-MODIFIED:20231025T201453Z
UID:10003303-1722756600-1722760200@saintfrancisnecedah.org
SUMMARY:Sunday Mass (Lady of the Lake) English
DESCRIPTION:English Sunday Mass at Our Lady of the Lake – 7:30am
URL:https://saintfrancisnecedah.org/event/sunday-mass-lady-of-the-lake-english/2024-08-04/
LOCATION:Our Lady of the Lake\, 6865 Evergreen St\,\, Mauston\, WI\, 53948\, United States
ATTACH;FMTTYPE=image/jpeg:https://saintfrancisnecedah.org/wp-content/uploads/2022/12/Outside-church-LOL-w.jpg
END:VEVENT
BEGIN:VEVENT
DTSTART;TZID=UTC:20240728T073000
DTEND;TZID=UTC:20240728T083000
DTSTAMP:20260421T131846
CREATED:20231025T195219Z
LAST-MODIFIED:20231025T201453Z
UID:10003302-1722151800-1722155400@saintfrancisnecedah.org
SUMMARY:Sunday Mass (Lady of the Lake) English
DESCRIPTION:English Sunday Mass at Our Lady of the Lake – 7:30am
URL:https://saintfrancisnecedah.org/event/sunday-mass-lady-of-the-lake-english/2024-07-28/
LOCATION:Our Lady of the Lake\, 6865 Evergreen St\,\, Mauston\, WI\, 53948\, United States
ATTACH;FMTTYPE=image/jpeg:https://saintfrancisnecedah.org/wp-content/uploads/2022/12/Outside-church-LOL-w.jpg
END:VEVENT
BEGIN:VEVENT
DTSTART;TZID=UTC:20240721T073000
DTEND;TZID=UTC:20240721T083000
DTSTAMP:20260421T131846
CREATED:20231025T195219Z
LAST-MODIFIED:20231025T201453Z
UID:10003301-1721547000-1721550600@saintfrancisnecedah.org
SUMMARY:Sunday Mass (Lady of the Lake) English
DESCRIPTION:English Sunday Mass at Our Lady of the Lake – 7:30am
URL:https://saintfrancisnecedah.org/event/sunday-mass-lady-of-the-lake-english/2024-07-21/
LOCATION:Our Lady of the Lake\, 6865 Evergreen St\,\, Mauston\, WI\, 53948\, United States
ATTACH;FMTTYPE=image/jpeg:https://saintfrancisnecedah.org/wp-content/uploads/2022/12/Outside-church-LOL-w.jpg
END:VEVENT
BEGIN:VEVENT
DTSTART;TZID=UTC:20240714T073000
DTEND;TZID=UTC:20240714T083000
DTSTAMP:20260421T131846
CREATED:20231025T195219Z
LAST-MODIFIED:20231025T201453Z
UID:10003300-1720942200-1720945800@saintfrancisnecedah.org
SUMMARY:Sunday Mass (Lady of the Lake) English
DESCRIPTION:English Sunday Mass at Our Lady of the Lake – 7:30am
URL:https://saintfrancisnecedah.org/event/sunday-mass-lady-of-the-lake-english/2024-07-14/
LOCATION:Our Lady of the Lake\, 6865 Evergreen St\,\, Mauston\, WI\, 53948\, United States
ATTACH;FMTTYPE=image/jpeg:https://saintfrancisnecedah.org/wp-content/uploads/2022/12/Outside-church-LOL-w.jpg
END:VEVENT
BEGIN:VEVENT
DTSTART;TZID=UTC:20240707T073000
DTEND;TZID=UTC:20240707T083000
DTSTAMP:20260421T131846
CREATED:20231025T195219Z
LAST-MODIFIED:20231025T201453Z
UID:10003299-1720337400-1720341000@saintfrancisnecedah.org
SUMMARY:Sunday Mass (Lady of the Lake) English
DESCRIPTION:English Sunday Mass at Our Lady of the Lake – 7:30am
URL:https://saintfrancisnecedah.org/event/sunday-mass-lady-of-the-lake-english/2024-07-07/
LOCATION:Our Lady of the Lake\, 6865 Evergreen St\,\, Mauston\, WI\, 53948\, United States
ATTACH;FMTTYPE=image/jpeg:https://saintfrancisnecedah.org/wp-content/uploads/2022/12/Outside-church-LOL-w.jpg
END:VEVENT
BEGIN:VEVENT
DTSTART;TZID=UTC:20240630T073000
DTEND;TZID=UTC:20240630T083000
DTSTAMP:20260421T131846
CREATED:20231025T195219Z
LAST-MODIFIED:20231025T201453Z
UID:10003298-1719732600-1719736200@saintfrancisnecedah.org
SUMMARY:Sunday Mass (Lady of the Lake) English
DESCRIPTION:English Sunday Mass at Our Lady of the Lake – 7:30am
URL:https://saintfrancisnecedah.org/event/sunday-mass-lady-of-the-lake-english/2024-06-30/
LOCATION:Our Lady of the Lake\, 6865 Evergreen St\,\, Mauston\, WI\, 53948\, United States
ATTACH;FMTTYPE=image/jpeg:https://saintfrancisnecedah.org/wp-content/uploads/2022/12/Outside-church-LOL-w.jpg
END:VEVENT
BEGIN:VEVENT
DTSTART;TZID=UTC:20240623T073000
DTEND;TZID=UTC:20240623T083000
DTSTAMP:20260421T131846
CREATED:20231025T195219Z
LAST-MODIFIED:20231025T201453Z
UID:10003297-1719127800-1719131400@saintfrancisnecedah.org
SUMMARY:Sunday Mass (Lady of the Lake) English
DESCRIPTION:English Sunday Mass at Our Lady of the Lake – 7:30am
URL:https://saintfrancisnecedah.org/event/sunday-mass-lady-of-the-lake-english/2024-06-23/
LOCATION:Our Lady of the Lake\, 6865 Evergreen St\,\, Mauston\, WI\, 53948\, United States
ATTACH;FMTTYPE=image/jpeg:https://saintfrancisnecedah.org/wp-content/uploads/2022/12/Outside-church-LOL-w.jpg
END:VEVENT
BEGIN:VEVENT
DTSTART;TZID=UTC:20240616T073000
DTEND;TZID=UTC:20240616T083000
DTSTAMP:20260421T131846
CREATED:20231025T195219Z
LAST-MODIFIED:20231025T201453Z
UID:10003296-1718523000-1718526600@saintfrancisnecedah.org
SUMMARY:Sunday Mass (Lady of the Lake) English
DESCRIPTION:English Sunday Mass at Our Lady of the Lake – 7:30am
URL:https://saintfrancisnecedah.org/event/sunday-mass-lady-of-the-lake-english/2024-06-16/
LOCATION:Our Lady of the Lake\, 6865 Evergreen St\,\, Mauston\, WI\, 53948\, United States
ATTACH;FMTTYPE=image/jpeg:https://saintfrancisnecedah.org/wp-content/uploads/2022/12/Outside-church-LOL-w.jpg
END:VEVENT
BEGIN:VEVENT
DTSTART;TZID=UTC:20240609T073000
DTEND;TZID=UTC:20240609T083000
DTSTAMP:20260421T131846
CREATED:20231025T195219Z
LAST-MODIFIED:20231025T201453Z
UID:10003295-1717918200-1717921800@saintfrancisnecedah.org
SUMMARY:Sunday Mass (Lady of the Lake) English
DESCRIPTION:English Sunday Mass at Our Lady of the Lake – 7:30am
URL:https://saintfrancisnecedah.org/event/sunday-mass-lady-of-the-lake-english/2024-06-09/
LOCATION:Our Lady of the Lake\, 6865 Evergreen St\,\, Mauston\, WI\, 53948\, United States
ATTACH;FMTTYPE=image/jpeg:https://saintfrancisnecedah.org/wp-content/uploads/2022/12/Outside-church-LOL-w.jpg
END:VEVENT
BEGIN:VEVENT
DTSTART;TZID=UTC:20240602T073000
DTEND;TZID=UTC:20240602T083000
DTSTAMP:20260421T131846
CREATED:20231025T195219Z
LAST-MODIFIED:20231025T201453Z
UID:10003294-1717313400-1717317000@saintfrancisnecedah.org
SUMMARY:Sunday Mass (Lady of the Lake) English
DESCRIPTION:English Sunday Mass at Our Lady of the Lake – 7:30am
URL:https://saintfrancisnecedah.org/event/sunday-mass-lady-of-the-lake-english/2024-06-02/
LOCATION:Our Lady of the Lake\, 6865 Evergreen St\,\, Mauston\, WI\, 53948\, United States
ATTACH;FMTTYPE=image/jpeg:https://saintfrancisnecedah.org/wp-content/uploads/2022/12/Outside-church-LOL-w.jpg
END:VEVENT
BEGIN:VEVENT
DTSTART;TZID=UTC:20240526T073000
DTEND;TZID=UTC:20240526T083000
DTSTAMP:20260421T131846
CREATED:20231025T195219Z
LAST-MODIFIED:20231025T201453Z
UID:10003293-1716708600-1716712200@saintfrancisnecedah.org
SUMMARY:Sunday Mass (Lady of the Lake) English
DESCRIPTION:English Sunday Mass at Our Lady of the Lake – 7:30am
URL:https://saintfrancisnecedah.org/event/sunday-mass-lady-of-the-lake-english/2024-05-26/
LOCATION:Our Lady of the Lake\, 6865 Evergreen St\,\, Mauston\, WI\, 53948\, United States
ATTACH;FMTTYPE=image/jpeg:https://saintfrancisnecedah.org/wp-content/uploads/2022/12/Outside-church-LOL-w.jpg
END:VEVENT
END:VCALENDAR