BEGIN:VCALENDAR
VERSION:2.0
PRODID:-//Saint Francis Of Assisi / Roman Catholic Church - ECPv6.15.6//NONSGML v1.0//EN
CALSCALE:GREGORIAN
METHOD:PUBLISH
X-WR-CALNAME:Saint Francis Of Assisi / Roman Catholic Church
X-ORIGINAL-URL:https://saintfrancisnecedah.org
X-WR-CALDESC:Events for Saint Francis Of Assisi / Roman Catholic Church
REFRESH-INTERVAL;VALUE=DURATION:PT1H
X-Robots-Tag:noindex
X-PUBLISHED-TTL:PT1H
BEGIN:VTIMEZONE
TZID:UTC
BEGIN:STANDARD
TZOFFSETFROM:+0000
TZOFFSETTO:+0000
TZNAME:UTC
DTSTART:20240101T000000
END:STANDARD
END:VTIMEZONE
BEGIN:VEVENT
DTSTART;TZID=UTC:20260315T073000
DTEND;TZID=UTC:20260315T083000
DTSTAMP:20260420T150802
CREATED:20231025T195219Z
LAST-MODIFIED:20231025T201453Z
UID:10003387-1773559800-1773563400@saintfrancisnecedah.org
SUMMARY:Sunday Mass (Lady of the Lake) English
DESCRIPTION:English Sunday Mass at Our Lady of the Lake – 7:30am
URL:https://saintfrancisnecedah.org/event/sunday-mass-lady-of-the-lake-english/2026-03-15/
LOCATION:Our Lady of the Lake\, 6865 Evergreen St\,\, Mauston\, WI\, 53948\, United States
ATTACH;FMTTYPE=image/jpeg:https://saintfrancisnecedah.org/wp-content/uploads/2022/12/Outside-church-LOL-w.jpg
END:VEVENT
BEGIN:VEVENT
DTSTART;TZID=UTC:20260308T073000
DTEND;TZID=UTC:20260308T083000
DTSTAMP:20260420T150802
CREATED:20231025T195219Z
LAST-MODIFIED:20231025T201453Z
UID:10003386-1772955000-1772958600@saintfrancisnecedah.org
SUMMARY:Sunday Mass (Lady of the Lake) English
DESCRIPTION:English Sunday Mass at Our Lady of the Lake – 7:30am
URL:https://saintfrancisnecedah.org/event/sunday-mass-lady-of-the-lake-english/2026-03-08/
LOCATION:Our Lady of the Lake\, 6865 Evergreen St\,\, Mauston\, WI\, 53948\, United States
ATTACH;FMTTYPE=image/jpeg:https://saintfrancisnecedah.org/wp-content/uploads/2022/12/Outside-church-LOL-w.jpg
END:VEVENT
BEGIN:VEVENT
DTSTART;TZID=UTC:20260301T073000
DTEND;TZID=UTC:20260301T083000
DTSTAMP:20260420T150802
CREATED:20231025T195219Z
LAST-MODIFIED:20231025T201453Z
UID:10003385-1772350200-1772353800@saintfrancisnecedah.org
SUMMARY:Sunday Mass (Lady of the Lake) English
DESCRIPTION:English Sunday Mass at Our Lady of the Lake – 7:30am
URL:https://saintfrancisnecedah.org/event/sunday-mass-lady-of-the-lake-english/2026-03-01/
LOCATION:Our Lady of the Lake\, 6865 Evergreen St\,\, Mauston\, WI\, 53948\, United States
ATTACH;FMTTYPE=image/jpeg:https://saintfrancisnecedah.org/wp-content/uploads/2022/12/Outside-church-LOL-w.jpg
END:VEVENT
BEGIN:VEVENT
DTSTART;TZID=UTC:20260222T073000
DTEND;TZID=UTC:20260222T083000
DTSTAMP:20260420T150802
CREATED:20231025T195219Z
LAST-MODIFIED:20231025T201453Z
UID:10003384-1771745400-1771749000@saintfrancisnecedah.org
SUMMARY:Sunday Mass (Lady of the Lake) English
DESCRIPTION:English Sunday Mass at Our Lady of the Lake – 7:30am
URL:https://saintfrancisnecedah.org/event/sunday-mass-lady-of-the-lake-english/2026-02-22/
LOCATION:Our Lady of the Lake\, 6865 Evergreen St\,\, Mauston\, WI\, 53948\, United States
ATTACH;FMTTYPE=image/jpeg:https://saintfrancisnecedah.org/wp-content/uploads/2022/12/Outside-church-LOL-w.jpg
END:VEVENT
BEGIN:VEVENT
DTSTART;TZID=UTC:20260215T073000
DTEND;TZID=UTC:20260215T083000
DTSTAMP:20260420T150802
CREATED:20231025T195219Z
LAST-MODIFIED:20231025T201453Z
UID:10003383-1771140600-1771144200@saintfrancisnecedah.org
SUMMARY:Sunday Mass (Lady of the Lake) English
DESCRIPTION:English Sunday Mass at Our Lady of the Lake – 7:30am
URL:https://saintfrancisnecedah.org/event/sunday-mass-lady-of-the-lake-english/2026-02-15/
LOCATION:Our Lady of the Lake\, 6865 Evergreen St\,\, Mauston\, WI\, 53948\, United States
ATTACH;FMTTYPE=image/jpeg:https://saintfrancisnecedah.org/wp-content/uploads/2022/12/Outside-church-LOL-w.jpg
END:VEVENT
BEGIN:VEVENT
DTSTART;TZID=UTC:20260208T073000
DTEND;TZID=UTC:20260208T083000
DTSTAMP:20260420T150802
CREATED:20231025T195219Z
LAST-MODIFIED:20231025T201453Z
UID:10003382-1770535800-1770539400@saintfrancisnecedah.org
SUMMARY:Sunday Mass (Lady of the Lake) English
DESCRIPTION:English Sunday Mass at Our Lady of the Lake – 7:30am
URL:https://saintfrancisnecedah.org/event/sunday-mass-lady-of-the-lake-english/2026-02-08/
LOCATION:Our Lady of the Lake\, 6865 Evergreen St\,\, Mauston\, WI\, 53948\, United States
ATTACH;FMTTYPE=image/jpeg:https://saintfrancisnecedah.org/wp-content/uploads/2022/12/Outside-church-LOL-w.jpg
END:VEVENT
BEGIN:VEVENT
DTSTART;TZID=UTC:20260201T073000
DTEND;TZID=UTC:20260201T083000
DTSTAMP:20260420T150802
CREATED:20231025T195219Z
LAST-MODIFIED:20231025T201453Z
UID:10003381-1769931000-1769934600@saintfrancisnecedah.org
SUMMARY:Sunday Mass (Lady of the Lake) English
DESCRIPTION:English Sunday Mass at Our Lady of the Lake – 7:30am
URL:https://saintfrancisnecedah.org/event/sunday-mass-lady-of-the-lake-english/2026-02-01/
LOCATION:Our Lady of the Lake\, 6865 Evergreen St\,\, Mauston\, WI\, 53948\, United States
ATTACH;FMTTYPE=image/jpeg:https://saintfrancisnecedah.org/wp-content/uploads/2022/12/Outside-church-LOL-w.jpg
END:VEVENT
BEGIN:VEVENT
DTSTART;TZID=UTC:20260125T073000
DTEND;TZID=UTC:20260125T083000
DTSTAMP:20260420T150802
CREATED:20231025T195219Z
LAST-MODIFIED:20231025T201453Z
UID:10003380-1769326200-1769329800@saintfrancisnecedah.org
SUMMARY:Sunday Mass (Lady of the Lake) English
DESCRIPTION:English Sunday Mass at Our Lady of the Lake – 7:30am
URL:https://saintfrancisnecedah.org/event/sunday-mass-lady-of-the-lake-english/2026-01-25/
LOCATION:Our Lady of the Lake\, 6865 Evergreen St\,\, Mauston\, WI\, 53948\, United States
ATTACH;FMTTYPE=image/jpeg:https://saintfrancisnecedah.org/wp-content/uploads/2022/12/Outside-church-LOL-w.jpg
END:VEVENT
BEGIN:VEVENT
DTSTART;TZID=UTC:20260118T073000
DTEND;TZID=UTC:20260118T083000
DTSTAMP:20260420T150802
CREATED:20231025T195219Z
LAST-MODIFIED:20231025T201453Z
UID:10003379-1768721400-1768725000@saintfrancisnecedah.org
SUMMARY:Sunday Mass (Lady of the Lake) English
DESCRIPTION:English Sunday Mass at Our Lady of the Lake – 7:30am
URL:https://saintfrancisnecedah.org/event/sunday-mass-lady-of-the-lake-english/2026-01-18/
LOCATION:Our Lady of the Lake\, 6865 Evergreen St\,\, Mauston\, WI\, 53948\, United States
ATTACH;FMTTYPE=image/jpeg:https://saintfrancisnecedah.org/wp-content/uploads/2022/12/Outside-church-LOL-w.jpg
END:VEVENT
BEGIN:VEVENT
DTSTART;TZID=UTC:20260111T073000
DTEND;TZID=UTC:20260111T083000
DTSTAMP:20260420T150802
CREATED:20231025T195219Z
LAST-MODIFIED:20231025T201453Z
UID:10003378-1768116600-1768120200@saintfrancisnecedah.org
SUMMARY:Sunday Mass (Lady of the Lake) English
DESCRIPTION:English Sunday Mass at Our Lady of the Lake – 7:30am
URL:https://saintfrancisnecedah.org/event/sunday-mass-lady-of-the-lake-english/2026-01-11/
LOCATION:Our Lady of the Lake\, 6865 Evergreen St\,\, Mauston\, WI\, 53948\, United States
ATTACH;FMTTYPE=image/jpeg:https://saintfrancisnecedah.org/wp-content/uploads/2022/12/Outside-church-LOL-w.jpg
END:VEVENT
BEGIN:VEVENT
DTSTART;TZID=UTC:20260104T073000
DTEND;TZID=UTC:20260104T083000
DTSTAMP:20260420T150802
CREATED:20231025T195219Z
LAST-MODIFIED:20231025T201453Z
UID:10003377-1767511800-1767515400@saintfrancisnecedah.org
SUMMARY:Sunday Mass (Lady of the Lake) English
DESCRIPTION:English Sunday Mass at Our Lady of the Lake – 7:30am
URL:https://saintfrancisnecedah.org/event/sunday-mass-lady-of-the-lake-english/2026-01-04/
LOCATION:Our Lady of the Lake\, 6865 Evergreen St\,\, Mauston\, WI\, 53948\, United States
ATTACH;FMTTYPE=image/jpeg:https://saintfrancisnecedah.org/wp-content/uploads/2022/12/Outside-church-LOL-w.jpg
END:VEVENT
BEGIN:VEVENT
DTSTART;TZID=UTC:20251228T073000
DTEND;TZID=UTC:20251228T083000
DTSTAMP:20260420T150802
CREATED:20231025T195219Z
LAST-MODIFIED:20231025T201453Z
UID:10003376-1766907000-1766910600@saintfrancisnecedah.org
SUMMARY:Sunday Mass (Lady of the Lake) English
DESCRIPTION:English Sunday Mass at Our Lady of the Lake – 7:30am
URL:https://saintfrancisnecedah.org/event/sunday-mass-lady-of-the-lake-english/2025-12-28/
LOCATION:Our Lady of the Lake\, 6865 Evergreen St\,\, Mauston\, WI\, 53948\, United States
ATTACH;FMTTYPE=image/jpeg:https://saintfrancisnecedah.org/wp-content/uploads/2022/12/Outside-church-LOL-w.jpg
END:VEVENT
BEGIN:VEVENT
DTSTART;TZID=UTC:20251221T073000
DTEND;TZID=UTC:20251221T083000
DTSTAMP:20260420T150802
CREATED:20231025T195219Z
LAST-MODIFIED:20231025T201453Z
UID:10003375-1766302200-1766305800@saintfrancisnecedah.org
SUMMARY:Sunday Mass (Lady of the Lake) English
DESCRIPTION:English Sunday Mass at Our Lady of the Lake – 7:30am
URL:https://saintfrancisnecedah.org/event/sunday-mass-lady-of-the-lake-english/2025-12-21/
LOCATION:Our Lady of the Lake\, 6865 Evergreen St\,\, Mauston\, WI\, 53948\, United States
ATTACH;FMTTYPE=image/jpeg:https://saintfrancisnecedah.org/wp-content/uploads/2022/12/Outside-church-LOL-w.jpg
END:VEVENT
BEGIN:VEVENT
DTSTART;TZID=UTC:20251214T073000
DTEND;TZID=UTC:20251214T083000
DTSTAMP:20260420T150802
CREATED:20231025T195219Z
LAST-MODIFIED:20231025T201453Z
UID:10003374-1765697400-1765701000@saintfrancisnecedah.org
SUMMARY:Sunday Mass (Lady of the Lake) English
DESCRIPTION:English Sunday Mass at Our Lady of the Lake – 7:30am
URL:https://saintfrancisnecedah.org/event/sunday-mass-lady-of-the-lake-english/2025-12-14/
LOCATION:Our Lady of the Lake\, 6865 Evergreen St\,\, Mauston\, WI\, 53948\, United States
ATTACH;FMTTYPE=image/jpeg:https://saintfrancisnecedah.org/wp-content/uploads/2022/12/Outside-church-LOL-w.jpg
END:VEVENT
BEGIN:VEVENT
DTSTART;TZID=UTC:20251207T073000
DTEND;TZID=UTC:20251207T083000
DTSTAMP:20260420T150802
CREATED:20231025T195219Z
LAST-MODIFIED:20231025T201453Z
UID:10003373-1765092600-1765096200@saintfrancisnecedah.org
SUMMARY:Sunday Mass (Lady of the Lake) English
DESCRIPTION:English Sunday Mass at Our Lady of the Lake – 7:30am
URL:https://saintfrancisnecedah.org/event/sunday-mass-lady-of-the-lake-english/2025-12-07/
LOCATION:Our Lady of the Lake\, 6865 Evergreen St\,\, Mauston\, WI\, 53948\, United States
ATTACH;FMTTYPE=image/jpeg:https://saintfrancisnecedah.org/wp-content/uploads/2022/12/Outside-church-LOL-w.jpg
END:VEVENT
BEGIN:VEVENT
DTSTART;TZID=UTC:20251130T073000
DTEND;TZID=UTC:20251130T083000
DTSTAMP:20260420T150802
CREATED:20231025T195219Z
LAST-MODIFIED:20231025T201453Z
UID:10003372-1764487800-1764491400@saintfrancisnecedah.org
SUMMARY:Sunday Mass (Lady of the Lake) English
DESCRIPTION:English Sunday Mass at Our Lady of the Lake – 7:30am
URL:https://saintfrancisnecedah.org/event/sunday-mass-lady-of-the-lake-english/2025-11-30/
LOCATION:Our Lady of the Lake\, 6865 Evergreen St\,\, Mauston\, WI\, 53948\, United States
ATTACH;FMTTYPE=image/jpeg:https://saintfrancisnecedah.org/wp-content/uploads/2022/12/Outside-church-LOL-w.jpg
END:VEVENT
BEGIN:VEVENT
DTSTART;TZID=UTC:20251123T073000
DTEND;TZID=UTC:20251123T083000
DTSTAMP:20260420T150802
CREATED:20231025T195219Z
LAST-MODIFIED:20231025T201453Z
UID:10003371-1763883000-1763886600@saintfrancisnecedah.org
SUMMARY:Sunday Mass (Lady of the Lake) English
DESCRIPTION:English Sunday Mass at Our Lady of the Lake – 7:30am
URL:https://saintfrancisnecedah.org/event/sunday-mass-lady-of-the-lake-english/2025-11-23/
LOCATION:Our Lady of the Lake\, 6865 Evergreen St\,\, Mauston\, WI\, 53948\, United States
ATTACH;FMTTYPE=image/jpeg:https://saintfrancisnecedah.org/wp-content/uploads/2022/12/Outside-church-LOL-w.jpg
END:VEVENT
BEGIN:VEVENT
DTSTART;TZID=UTC:20251116T073000
DTEND;TZID=UTC:20251116T083000
DTSTAMP:20260420T150802
CREATED:20231025T195219Z
LAST-MODIFIED:20231025T201453Z
UID:10003370-1763278200-1763281800@saintfrancisnecedah.org
SUMMARY:Sunday Mass (Lady of the Lake) English
DESCRIPTION:English Sunday Mass at Our Lady of the Lake – 7:30am
URL:https://saintfrancisnecedah.org/event/sunday-mass-lady-of-the-lake-english/2025-11-16/
LOCATION:Our Lady of the Lake\, 6865 Evergreen St\,\, Mauston\, WI\, 53948\, United States
ATTACH;FMTTYPE=image/jpeg:https://saintfrancisnecedah.org/wp-content/uploads/2022/12/Outside-church-LOL-w.jpg
END:VEVENT
BEGIN:VEVENT
DTSTART;TZID=UTC:20251109T073000
DTEND;TZID=UTC:20251109T083000
DTSTAMP:20260420T150802
CREATED:20231025T195219Z
LAST-MODIFIED:20231025T201453Z
UID:10003369-1762673400-1762677000@saintfrancisnecedah.org
SUMMARY:Sunday Mass (Lady of the Lake) English
DESCRIPTION:English Sunday Mass at Our Lady of the Lake – 7:30am
URL:https://saintfrancisnecedah.org/event/sunday-mass-lady-of-the-lake-english/2025-11-09/
LOCATION:Our Lady of the Lake\, 6865 Evergreen St\,\, Mauston\, WI\, 53948\, United States
ATTACH;FMTTYPE=image/jpeg:https://saintfrancisnecedah.org/wp-content/uploads/2022/12/Outside-church-LOL-w.jpg
END:VEVENT
BEGIN:VEVENT
DTSTART;TZID=UTC:20251102T073000
DTEND;TZID=UTC:20251102T083000
DTSTAMP:20260420T150802
CREATED:20231025T195219Z
LAST-MODIFIED:20231025T201453Z
UID:10003368-1762068600-1762072200@saintfrancisnecedah.org
SUMMARY:Sunday Mass (Lady of the Lake) English
DESCRIPTION:English Sunday Mass at Our Lady of the Lake – 7:30am
URL:https://saintfrancisnecedah.org/event/sunday-mass-lady-of-the-lake-english/2025-11-02/
LOCATION:Our Lady of the Lake\, 6865 Evergreen St\,\, Mauston\, WI\, 53948\, United States
ATTACH;FMTTYPE=image/jpeg:https://saintfrancisnecedah.org/wp-content/uploads/2022/12/Outside-church-LOL-w.jpg
END:VEVENT
BEGIN:VEVENT
DTSTART;TZID=UTC:20251026T073000
DTEND;TZID=UTC:20251026T083000
DTSTAMP:20260420T150802
CREATED:20231025T195219Z
LAST-MODIFIED:20231025T201453Z
UID:10003367-1761463800-1761467400@saintfrancisnecedah.org
SUMMARY:Sunday Mass (Lady of the Lake) English
DESCRIPTION:English Sunday Mass at Our Lady of the Lake – 7:30am
URL:https://saintfrancisnecedah.org/event/sunday-mass-lady-of-the-lake-english/2025-10-26/
LOCATION:Our Lady of the Lake\, 6865 Evergreen St\,\, Mauston\, WI\, 53948\, United States
ATTACH;FMTTYPE=image/jpeg:https://saintfrancisnecedah.org/wp-content/uploads/2022/12/Outside-church-LOL-w.jpg
END:VEVENT
BEGIN:VEVENT
DTSTART;TZID=UTC:20251019T073000
DTEND;TZID=UTC:20251019T083000
DTSTAMP:20260420T150802
CREATED:20231025T195219Z
LAST-MODIFIED:20231025T201453Z
UID:10003366-1760859000-1760862600@saintfrancisnecedah.org
SUMMARY:Sunday Mass (Lady of the Lake) English
DESCRIPTION:English Sunday Mass at Our Lady of the Lake – 7:30am
URL:https://saintfrancisnecedah.org/event/sunday-mass-lady-of-the-lake-english/2025-10-19/
LOCATION:Our Lady of the Lake\, 6865 Evergreen St\,\, Mauston\, WI\, 53948\, United States
ATTACH;FMTTYPE=image/jpeg:https://saintfrancisnecedah.org/wp-content/uploads/2022/12/Outside-church-LOL-w.jpg
END:VEVENT
BEGIN:VEVENT
DTSTART;TZID=UTC:20251012T073000
DTEND;TZID=UTC:20251012T083000
DTSTAMP:20260420T150802
CREATED:20231025T195219Z
LAST-MODIFIED:20231025T201453Z
UID:10003365-1760254200-1760257800@saintfrancisnecedah.org
SUMMARY:Sunday Mass (Lady of the Lake) English
DESCRIPTION:English Sunday Mass at Our Lady of the Lake – 7:30am
URL:https://saintfrancisnecedah.org/event/sunday-mass-lady-of-the-lake-english/2025-10-12/
LOCATION:Our Lady of the Lake\, 6865 Evergreen St\,\, Mauston\, WI\, 53948\, United States
ATTACH;FMTTYPE=image/jpeg:https://saintfrancisnecedah.org/wp-content/uploads/2022/12/Outside-church-LOL-w.jpg
END:VEVENT
BEGIN:VEVENT
DTSTART;TZID=UTC:20251005T073000
DTEND;TZID=UTC:20251005T083000
DTSTAMP:20260420T150802
CREATED:20231025T195219Z
LAST-MODIFIED:20231025T201453Z
UID:10003364-1759649400-1759653000@saintfrancisnecedah.org
SUMMARY:Sunday Mass (Lady of the Lake) English
DESCRIPTION:English Sunday Mass at Our Lady of the Lake – 7:30am
URL:https://saintfrancisnecedah.org/event/sunday-mass-lady-of-the-lake-english/2025-10-05/
LOCATION:Our Lady of the Lake\, 6865 Evergreen St\,\, Mauston\, WI\, 53948\, United States
ATTACH;FMTTYPE=image/jpeg:https://saintfrancisnecedah.org/wp-content/uploads/2022/12/Outside-church-LOL-w.jpg
END:VEVENT
BEGIN:VEVENT
DTSTART;TZID=UTC:20250928T073000
DTEND;TZID=UTC:20250928T083000
DTSTAMP:20260420T150802
CREATED:20231025T195219Z
LAST-MODIFIED:20231025T201453Z
UID:10003363-1759044600-1759048200@saintfrancisnecedah.org
SUMMARY:Sunday Mass (Lady of the Lake) English
DESCRIPTION:English Sunday Mass at Our Lady of the Lake – 7:30am
URL:https://saintfrancisnecedah.org/event/sunday-mass-lady-of-the-lake-english/2025-09-28/
LOCATION:Our Lady of the Lake\, 6865 Evergreen St\,\, Mauston\, WI\, 53948\, United States
ATTACH;FMTTYPE=image/jpeg:https://saintfrancisnecedah.org/wp-content/uploads/2022/12/Outside-church-LOL-w.jpg
END:VEVENT
BEGIN:VEVENT
DTSTART;TZID=UTC:20250921T073000
DTEND;TZID=UTC:20250921T083000
DTSTAMP:20260420T150802
CREATED:20231025T195219Z
LAST-MODIFIED:20231025T201453Z
UID:10003362-1758439800-1758443400@saintfrancisnecedah.org
SUMMARY:Sunday Mass (Lady of the Lake) English
DESCRIPTION:English Sunday Mass at Our Lady of the Lake – 7:30am
URL:https://saintfrancisnecedah.org/event/sunday-mass-lady-of-the-lake-english/2025-09-21/
LOCATION:Our Lady of the Lake\, 6865 Evergreen St\,\, Mauston\, WI\, 53948\, United States
ATTACH;FMTTYPE=image/jpeg:https://saintfrancisnecedah.org/wp-content/uploads/2022/12/Outside-church-LOL-w.jpg
END:VEVENT
BEGIN:VEVENT
DTSTART;TZID=UTC:20250914T073000
DTEND;TZID=UTC:20250914T083000
DTSTAMP:20260420T150802
CREATED:20231025T195219Z
LAST-MODIFIED:20231025T201453Z
UID:10003361-1757835000-1757838600@saintfrancisnecedah.org
SUMMARY:Sunday Mass (Lady of the Lake) English
DESCRIPTION:English Sunday Mass at Our Lady of the Lake – 7:30am
URL:https://saintfrancisnecedah.org/event/sunday-mass-lady-of-the-lake-english/2025-09-14/
LOCATION:Our Lady of the Lake\, 6865 Evergreen St\,\, Mauston\, WI\, 53948\, United States
ATTACH;FMTTYPE=image/jpeg:https://saintfrancisnecedah.org/wp-content/uploads/2022/12/Outside-church-LOL-w.jpg
END:VEVENT
BEGIN:VEVENT
DTSTART;TZID=UTC:20250907T073000
DTEND;TZID=UTC:20250907T083000
DTSTAMP:20260420T150802
CREATED:20231025T195219Z
LAST-MODIFIED:20231025T201453Z
UID:10003360-1757230200-1757233800@saintfrancisnecedah.org
SUMMARY:Sunday Mass (Lady of the Lake) English
DESCRIPTION:English Sunday Mass at Our Lady of the Lake – 7:30am
URL:https://saintfrancisnecedah.org/event/sunday-mass-lady-of-the-lake-english/2025-09-07/
LOCATION:Our Lady of the Lake\, 6865 Evergreen St\,\, Mauston\, WI\, 53948\, United States
ATTACH;FMTTYPE=image/jpeg:https://saintfrancisnecedah.org/wp-content/uploads/2022/12/Outside-church-LOL-w.jpg
END:VEVENT
BEGIN:VEVENT
DTSTART;TZID=UTC:20250831T073000
DTEND;TZID=UTC:20250831T083000
DTSTAMP:20260420T150802
CREATED:20231025T195219Z
LAST-MODIFIED:20231025T201453Z
UID:10003359-1756625400-1756629000@saintfrancisnecedah.org
SUMMARY:Sunday Mass (Lady of the Lake) English
DESCRIPTION:English Sunday Mass at Our Lady of the Lake – 7:30am
URL:https://saintfrancisnecedah.org/event/sunday-mass-lady-of-the-lake-english/2025-08-31/
LOCATION:Our Lady of the Lake\, 6865 Evergreen St\,\, Mauston\, WI\, 53948\, United States
ATTACH;FMTTYPE=image/jpeg:https://saintfrancisnecedah.org/wp-content/uploads/2022/12/Outside-church-LOL-w.jpg
END:VEVENT
BEGIN:VEVENT
DTSTART;TZID=UTC:20250824T073000
DTEND;TZID=UTC:20250824T083000
DTSTAMP:20260420T150802
CREATED:20231025T195219Z
LAST-MODIFIED:20231025T201453Z
UID:10003358-1756020600-1756024200@saintfrancisnecedah.org
SUMMARY:Sunday Mass (Lady of the Lake) English
DESCRIPTION:English Sunday Mass at Our Lady of the Lake – 7:30am
URL:https://saintfrancisnecedah.org/event/sunday-mass-lady-of-the-lake-english/2025-08-24/
LOCATION:Our Lady of the Lake\, 6865 Evergreen St\,\, Mauston\, WI\, 53948\, United States
ATTACH;FMTTYPE=image/jpeg:https://saintfrancisnecedah.org/wp-content/uploads/2022/12/Outside-church-LOL-w.jpg
END:VEVENT
END:VCALENDAR