BEGIN:VCALENDAR
VERSION:2.0
PRODID:-//Saint Francis Of Assisi / Roman Catholic Church - ECPv6.15.6//NONSGML v1.0//EN
CALSCALE:GREGORIAN
METHOD:PUBLISH
X-WR-CALNAME:Saint Francis Of Assisi / Roman Catholic Church
X-ORIGINAL-URL:https://saintfrancisnecedah.org
X-WR-CALDESC:Events for Saint Francis Of Assisi / Roman Catholic Church
REFRESH-INTERVAL;VALUE=DURATION:PT1H
X-Robots-Tag:noindex
X-PUBLISHED-TTL:PT1H
BEGIN:VTIMEZONE
TZID:UTC
BEGIN:STANDARD
TZOFFSETFROM:+0000
TZOFFSETTO:+0000
TZNAME:UTC
DTSTART:20250101T000000
END:STANDARD
END:VTIMEZONE
BEGIN:VEVENT
DTSTART;TZID=UTC:20260705T073000
DTEND;TZID=UTC:20260705T083000
DTSTAMP:20260420T103135
CREATED:20231025T195219Z
LAST-MODIFIED:20231025T201453Z
UID:10003403-1783236600-1783240200@saintfrancisnecedah.org
SUMMARY:Sunday Mass (Lady of the Lake) English
DESCRIPTION:English Sunday Mass at Our Lady of the Lake – 7:30am
URL:https://saintfrancisnecedah.org/event/sunday-mass-lady-of-the-lake-english/2026-07-05/
LOCATION:Our Lady of the Lake\, 6865 Evergreen St\,\, Mauston\, WI\, 53948\, United States
ATTACH;FMTTYPE=image/jpeg:https://saintfrancisnecedah.org/wp-content/uploads/2022/12/Outside-church-LOL-w.jpg
END:VEVENT
BEGIN:VEVENT
DTSTART;TZID=UTC:20260712T073000
DTEND;TZID=UTC:20260712T083000
DTSTAMP:20260420T103135
CREATED:20231025T195219Z
LAST-MODIFIED:20231025T201453Z
UID:10003404-1783841400-1783845000@saintfrancisnecedah.org
SUMMARY:Sunday Mass (Lady of the Lake) English
DESCRIPTION:English Sunday Mass at Our Lady of the Lake – 7:30am
URL:https://saintfrancisnecedah.org/event/sunday-mass-lady-of-the-lake-english/2026-07-12/
LOCATION:Our Lady of the Lake\, 6865 Evergreen St\,\, Mauston\, WI\, 53948\, United States
ATTACH;FMTTYPE=image/jpeg:https://saintfrancisnecedah.org/wp-content/uploads/2022/12/Outside-church-LOL-w.jpg
END:VEVENT
BEGIN:VEVENT
DTSTART;TZID=UTC:20260719T073000
DTEND;TZID=UTC:20260719T083000
DTSTAMP:20260420T103135
CREATED:20231025T195219Z
LAST-MODIFIED:20231025T201453Z
UID:10003405-1784446200-1784449800@saintfrancisnecedah.org
SUMMARY:Sunday Mass (Lady of the Lake) English
DESCRIPTION:English Sunday Mass at Our Lady of the Lake – 7:30am
URL:https://saintfrancisnecedah.org/event/sunday-mass-lady-of-the-lake-english/2026-07-19/
LOCATION:Our Lady of the Lake\, 6865 Evergreen St\,\, Mauston\, WI\, 53948\, United States
ATTACH;FMTTYPE=image/jpeg:https://saintfrancisnecedah.org/wp-content/uploads/2022/12/Outside-church-LOL-w.jpg
END:VEVENT
BEGIN:VEVENT
DTSTART;TZID=UTC:20260726T073000
DTEND;TZID=UTC:20260726T083000
DTSTAMP:20260420T103135
CREATED:20231025T195219Z
LAST-MODIFIED:20231025T201453Z
UID:10003406-1785051000-1785054600@saintfrancisnecedah.org
SUMMARY:Sunday Mass (Lady of the Lake) English
DESCRIPTION:English Sunday Mass at Our Lady of the Lake – 7:30am
URL:https://saintfrancisnecedah.org/event/sunday-mass-lady-of-the-lake-english/2026-07-26/
LOCATION:Our Lady of the Lake\, 6865 Evergreen St\,\, Mauston\, WI\, 53948\, United States
ATTACH;FMTTYPE=image/jpeg:https://saintfrancisnecedah.org/wp-content/uploads/2022/12/Outside-church-LOL-w.jpg
END:VEVENT
BEGIN:VEVENT
DTSTART;TZID=UTC:20260802T073000
DTEND;TZID=UTC:20260802T083000
DTSTAMP:20260420T103135
CREATED:20231025T195219Z
LAST-MODIFIED:20231025T201453Z
UID:10003407-1785655800-1785659400@saintfrancisnecedah.org
SUMMARY:Sunday Mass (Lady of the Lake) English
DESCRIPTION:English Sunday Mass at Our Lady of the Lake – 7:30am
URL:https://saintfrancisnecedah.org/event/sunday-mass-lady-of-the-lake-english/2026-08-02/
LOCATION:Our Lady of the Lake\, 6865 Evergreen St\,\, Mauston\, WI\, 53948\, United States
ATTACH;FMTTYPE=image/jpeg:https://saintfrancisnecedah.org/wp-content/uploads/2022/12/Outside-church-LOL-w.jpg
END:VEVENT
BEGIN:VEVENT
DTSTART;TZID=UTC:20260809T073000
DTEND;TZID=UTC:20260809T083000
DTSTAMP:20260420T103135
CREATED:20231025T195219Z
LAST-MODIFIED:20231025T201453Z
UID:10003408-1786260600-1786264200@saintfrancisnecedah.org
SUMMARY:Sunday Mass (Lady of the Lake) English
DESCRIPTION:English Sunday Mass at Our Lady of the Lake – 7:30am
URL:https://saintfrancisnecedah.org/event/sunday-mass-lady-of-the-lake-english/2026-08-09/
LOCATION:Our Lady of the Lake\, 6865 Evergreen St\,\, Mauston\, WI\, 53948\, United States
ATTACH;FMTTYPE=image/jpeg:https://saintfrancisnecedah.org/wp-content/uploads/2022/12/Outside-church-LOL-w.jpg
END:VEVENT
BEGIN:VEVENT
DTSTART;TZID=UTC:20260816T073000
DTEND;TZID=UTC:20260816T083000
DTSTAMP:20260420T103135
CREATED:20231025T195219Z
LAST-MODIFIED:20231025T201453Z
UID:10003409-1786865400-1786869000@saintfrancisnecedah.org
SUMMARY:Sunday Mass (Lady of the Lake) English
DESCRIPTION:English Sunday Mass at Our Lady of the Lake – 7:30am
URL:https://saintfrancisnecedah.org/event/sunday-mass-lady-of-the-lake-english/2026-08-16/
LOCATION:Our Lady of the Lake\, 6865 Evergreen St\,\, Mauston\, WI\, 53948\, United States
ATTACH;FMTTYPE=image/jpeg:https://saintfrancisnecedah.org/wp-content/uploads/2022/12/Outside-church-LOL-w.jpg
END:VEVENT
BEGIN:VEVENT
DTSTART;TZID=UTC:20260823T073000
DTEND;TZID=UTC:20260823T083000
DTSTAMP:20260420T103135
CREATED:20231025T195219Z
LAST-MODIFIED:20231025T201453Z
UID:10003410-1787470200-1787473800@saintfrancisnecedah.org
SUMMARY:Sunday Mass (Lady of the Lake) English
DESCRIPTION:English Sunday Mass at Our Lady of the Lake – 7:30am
URL:https://saintfrancisnecedah.org/event/sunday-mass-lady-of-the-lake-english/2026-08-23/
LOCATION:Our Lady of the Lake\, 6865 Evergreen St\,\, Mauston\, WI\, 53948\, United States
ATTACH;FMTTYPE=image/jpeg:https://saintfrancisnecedah.org/wp-content/uploads/2022/12/Outside-church-LOL-w.jpg
END:VEVENT
BEGIN:VEVENT
DTSTART;TZID=UTC:20260830T073000
DTEND;TZID=UTC:20260830T083000
DTSTAMP:20260420T103135
CREATED:20231025T195219Z
LAST-MODIFIED:20231025T201453Z
UID:10003411-1788075000-1788078600@saintfrancisnecedah.org
SUMMARY:Sunday Mass (Lady of the Lake) English
DESCRIPTION:English Sunday Mass at Our Lady of the Lake – 7:30am
URL:https://saintfrancisnecedah.org/event/sunday-mass-lady-of-the-lake-english/2026-08-30/
LOCATION:Our Lady of the Lake\, 6865 Evergreen St\,\, Mauston\, WI\, 53948\, United States
ATTACH;FMTTYPE=image/jpeg:https://saintfrancisnecedah.org/wp-content/uploads/2022/12/Outside-church-LOL-w.jpg
END:VEVENT
BEGIN:VEVENT
DTSTART;TZID=UTC:20260906T073000
DTEND;TZID=UTC:20260906T083000
DTSTAMP:20260420T103135
CREATED:20231025T195219Z
LAST-MODIFIED:20231025T201453Z
UID:10003412-1788679800-1788683400@saintfrancisnecedah.org
SUMMARY:Sunday Mass (Lady of the Lake) English
DESCRIPTION:English Sunday Mass at Our Lady of the Lake – 7:30am
URL:https://saintfrancisnecedah.org/event/sunday-mass-lady-of-the-lake-english/2026-09-06/
LOCATION:Our Lady of the Lake\, 6865 Evergreen St\,\, Mauston\, WI\, 53948\, United States
ATTACH;FMTTYPE=image/jpeg:https://saintfrancisnecedah.org/wp-content/uploads/2022/12/Outside-church-LOL-w.jpg
END:VEVENT
BEGIN:VEVENT
DTSTART;TZID=UTC:20260913T073000
DTEND;TZID=UTC:20260913T083000
DTSTAMP:20260420T103135
CREATED:20231025T195219Z
LAST-MODIFIED:20231025T201453Z
UID:10003413-1789284600-1789288200@saintfrancisnecedah.org
SUMMARY:Sunday Mass (Lady of the Lake) English
DESCRIPTION:English Sunday Mass at Our Lady of the Lake – 7:30am
URL:https://saintfrancisnecedah.org/event/sunday-mass-lady-of-the-lake-english/2026-09-13/
LOCATION:Our Lady of the Lake\, 6865 Evergreen St\,\, Mauston\, WI\, 53948\, United States
ATTACH;FMTTYPE=image/jpeg:https://saintfrancisnecedah.org/wp-content/uploads/2022/12/Outside-church-LOL-w.jpg
END:VEVENT
BEGIN:VEVENT
DTSTART;TZID=UTC:20260920T073000
DTEND;TZID=UTC:20260920T083000
DTSTAMP:20260420T103135
CREATED:20231025T195219Z
LAST-MODIFIED:20231025T201453Z
UID:10003414-1789889400-1789893000@saintfrancisnecedah.org
SUMMARY:Sunday Mass (Lady of the Lake) English
DESCRIPTION:English Sunday Mass at Our Lady of the Lake – 7:30am
URL:https://saintfrancisnecedah.org/event/sunday-mass-lady-of-the-lake-english/2026-09-20/
LOCATION:Our Lady of the Lake\, 6865 Evergreen St\,\, Mauston\, WI\, 53948\, United States
ATTACH;FMTTYPE=image/jpeg:https://saintfrancisnecedah.org/wp-content/uploads/2022/12/Outside-church-LOL-w.jpg
END:VEVENT
BEGIN:VEVENT
DTSTART;TZID=UTC:20260927T073000
DTEND;TZID=UTC:20260927T083000
DTSTAMP:20260420T103135
CREATED:20231025T195219Z
LAST-MODIFIED:20231025T201453Z
UID:10003415-1790494200-1790497800@saintfrancisnecedah.org
SUMMARY:Sunday Mass (Lady of the Lake) English
DESCRIPTION:English Sunday Mass at Our Lady of the Lake – 7:30am
URL:https://saintfrancisnecedah.org/event/sunday-mass-lady-of-the-lake-english/2026-09-27/
LOCATION:Our Lady of the Lake\, 6865 Evergreen St\,\, Mauston\, WI\, 53948\, United States
ATTACH;FMTTYPE=image/jpeg:https://saintfrancisnecedah.org/wp-content/uploads/2022/12/Outside-church-LOL-w.jpg
END:VEVENT
BEGIN:VEVENT
DTSTART;TZID=UTC:20261004T073000
DTEND;TZID=UTC:20261004T083000
DTSTAMP:20260420T103135
CREATED:20231025T195219Z
LAST-MODIFIED:20231025T201453Z
UID:10003416-1791099000-1791102600@saintfrancisnecedah.org
SUMMARY:Sunday Mass (Lady of the Lake) English
DESCRIPTION:English Sunday Mass at Our Lady of the Lake – 7:30am
URL:https://saintfrancisnecedah.org/event/sunday-mass-lady-of-the-lake-english/2026-10-04/
LOCATION:Our Lady of the Lake\, 6865 Evergreen St\,\, Mauston\, WI\, 53948\, United States
ATTACH;FMTTYPE=image/jpeg:https://saintfrancisnecedah.org/wp-content/uploads/2022/12/Outside-church-LOL-w.jpg
END:VEVENT
BEGIN:VEVENT
DTSTART;TZID=UTC:20261011T073000
DTEND;TZID=UTC:20261011T083000
DTSTAMP:20260420T103135
CREATED:20231025T195219Z
LAST-MODIFIED:20231025T201453Z
UID:10003417-1791703800-1791707400@saintfrancisnecedah.org
SUMMARY:Sunday Mass (Lady of the Lake) English
DESCRIPTION:English Sunday Mass at Our Lady of the Lake – 7:30am
URL:https://saintfrancisnecedah.org/event/sunday-mass-lady-of-the-lake-english/2026-10-11/
LOCATION:Our Lady of the Lake\, 6865 Evergreen St\,\, Mauston\, WI\, 53948\, United States
ATTACH;FMTTYPE=image/jpeg:https://saintfrancisnecedah.org/wp-content/uploads/2022/12/Outside-church-LOL-w.jpg
END:VEVENT
BEGIN:VEVENT
DTSTART;TZID=UTC:20261018T073000
DTEND;TZID=UTC:20261018T083000
DTSTAMP:20260420T103135
CREATED:20231025T195219Z
LAST-MODIFIED:20231025T201453Z
UID:10003418-1792308600-1792312200@saintfrancisnecedah.org
SUMMARY:Sunday Mass (Lady of the Lake) English
DESCRIPTION:English Sunday Mass at Our Lady of the Lake – 7:30am
URL:https://saintfrancisnecedah.org/event/sunday-mass-lady-of-the-lake-english/2026-10-18/
LOCATION:Our Lady of the Lake\, 6865 Evergreen St\,\, Mauston\, WI\, 53948\, United States
ATTACH;FMTTYPE=image/jpeg:https://saintfrancisnecedah.org/wp-content/uploads/2022/12/Outside-church-LOL-w.jpg
END:VEVENT
BEGIN:VEVENT
DTSTART;TZID=UTC:20261025T073000
DTEND;TZID=UTC:20261025T083000
DTSTAMP:20260420T103135
CREATED:20231025T195219Z
LAST-MODIFIED:20231025T201453Z
UID:10003419-1792913400-1792917000@saintfrancisnecedah.org
SUMMARY:Sunday Mass (Lady of the Lake) English
DESCRIPTION:English Sunday Mass at Our Lady of the Lake – 7:30am
URL:https://saintfrancisnecedah.org/event/sunday-mass-lady-of-the-lake-english/2026-10-25/
LOCATION:Our Lady of the Lake\, 6865 Evergreen St\,\, Mauston\, WI\, 53948\, United States
ATTACH;FMTTYPE=image/jpeg:https://saintfrancisnecedah.org/wp-content/uploads/2022/12/Outside-church-LOL-w.jpg
END:VEVENT
BEGIN:VEVENT
DTSTART;TZID=UTC:20261101T073000
DTEND;TZID=UTC:20261101T083000
DTSTAMP:20260420T103135
CREATED:20231025T195219Z
LAST-MODIFIED:20231025T201453Z
UID:10003420-1793518200-1793521800@saintfrancisnecedah.org
SUMMARY:Sunday Mass (Lady of the Lake) English
DESCRIPTION:English Sunday Mass at Our Lady of the Lake – 7:30am
URL:https://saintfrancisnecedah.org/event/sunday-mass-lady-of-the-lake-english/2026-11-01/
LOCATION:Our Lady of the Lake\, 6865 Evergreen St\,\, Mauston\, WI\, 53948\, United States
ATTACH;FMTTYPE=image/jpeg:https://saintfrancisnecedah.org/wp-content/uploads/2022/12/Outside-church-LOL-w.jpg
END:VEVENT
BEGIN:VEVENT
DTSTART;TZID=UTC:20261108T073000
DTEND;TZID=UTC:20261108T083000
DTSTAMP:20260420T103135
CREATED:20231025T195219Z
LAST-MODIFIED:20231025T201453Z
UID:10003421-1794123000-1794126600@saintfrancisnecedah.org
SUMMARY:Sunday Mass (Lady of the Lake) English
DESCRIPTION:English Sunday Mass at Our Lady of the Lake – 7:30am
URL:https://saintfrancisnecedah.org/event/sunday-mass-lady-of-the-lake-english/2026-11-08/
LOCATION:Our Lady of the Lake\, 6865 Evergreen St\,\, Mauston\, WI\, 53948\, United States
ATTACH;FMTTYPE=image/jpeg:https://saintfrancisnecedah.org/wp-content/uploads/2022/12/Outside-church-LOL-w.jpg
END:VEVENT
BEGIN:VEVENT
DTSTART;TZID=UTC:20261115T073000
DTEND;TZID=UTC:20261115T083000
DTSTAMP:20260420T103135
CREATED:20231025T195219Z
LAST-MODIFIED:20231025T201453Z
UID:10003422-1794727800-1794731400@saintfrancisnecedah.org
SUMMARY:Sunday Mass (Lady of the Lake) English
DESCRIPTION:English Sunday Mass at Our Lady of the Lake – 7:30am
URL:https://saintfrancisnecedah.org/event/sunday-mass-lady-of-the-lake-english/2026-11-15/
LOCATION:Our Lady of the Lake\, 6865 Evergreen St\,\, Mauston\, WI\, 53948\, United States
ATTACH;FMTTYPE=image/jpeg:https://saintfrancisnecedah.org/wp-content/uploads/2022/12/Outside-church-LOL-w.jpg
END:VEVENT
BEGIN:VEVENT
DTSTART;TZID=UTC:20261122T073000
DTEND;TZID=UTC:20261122T083000
DTSTAMP:20260420T103135
CREATED:20231025T195219Z
LAST-MODIFIED:20231025T201453Z
UID:10003423-1795332600-1795336200@saintfrancisnecedah.org
SUMMARY:Sunday Mass (Lady of the Lake) English
DESCRIPTION:English Sunday Mass at Our Lady of the Lake – 7:30am
URL:https://saintfrancisnecedah.org/event/sunday-mass-lady-of-the-lake-english/2026-11-22/
LOCATION:Our Lady of the Lake\, 6865 Evergreen St\,\, Mauston\, WI\, 53948\, United States
ATTACH;FMTTYPE=image/jpeg:https://saintfrancisnecedah.org/wp-content/uploads/2022/12/Outside-church-LOL-w.jpg
END:VEVENT
BEGIN:VEVENT
DTSTART;TZID=UTC:20261129T073000
DTEND;TZID=UTC:20261129T083000
DTSTAMP:20260420T103135
CREATED:20231025T195219Z
LAST-MODIFIED:20231025T201453Z
UID:10003424-1795937400-1795941000@saintfrancisnecedah.org
SUMMARY:Sunday Mass (Lady of the Lake) English
DESCRIPTION:English Sunday Mass at Our Lady of the Lake – 7:30am
URL:https://saintfrancisnecedah.org/event/sunday-mass-lady-of-the-lake-english/2026-11-29/
LOCATION:Our Lady of the Lake\, 6865 Evergreen St\,\, Mauston\, WI\, 53948\, United States
ATTACH;FMTTYPE=image/jpeg:https://saintfrancisnecedah.org/wp-content/uploads/2022/12/Outside-church-LOL-w.jpg
END:VEVENT
BEGIN:VEVENT
DTSTART;TZID=UTC:20261206T073000
DTEND;TZID=UTC:20261206T083000
DTSTAMP:20260420T103135
CREATED:20231025T195219Z
LAST-MODIFIED:20231025T201453Z
UID:10003425-1796542200-1796545800@saintfrancisnecedah.org
SUMMARY:Sunday Mass (Lady of the Lake) English
DESCRIPTION:English Sunday Mass at Our Lady of the Lake – 7:30am
URL:https://saintfrancisnecedah.org/event/sunday-mass-lady-of-the-lake-english/2026-12-06/
LOCATION:Our Lady of the Lake\, 6865 Evergreen St\,\, Mauston\, WI\, 53948\, United States
ATTACH;FMTTYPE=image/jpeg:https://saintfrancisnecedah.org/wp-content/uploads/2022/12/Outside-church-LOL-w.jpg
END:VEVENT
BEGIN:VEVENT
DTSTART;TZID=UTC:20261213T073000
DTEND;TZID=UTC:20261213T083000
DTSTAMP:20260420T103135
CREATED:20231025T195219Z
LAST-MODIFIED:20231025T201453Z
UID:10003426-1797147000-1797150600@saintfrancisnecedah.org
SUMMARY:Sunday Mass (Lady of the Lake) English
DESCRIPTION:English Sunday Mass at Our Lady of the Lake – 7:30am
URL:https://saintfrancisnecedah.org/event/sunday-mass-lady-of-the-lake-english/2026-12-13/
LOCATION:Our Lady of the Lake\, 6865 Evergreen St\,\, Mauston\, WI\, 53948\, United States
ATTACH;FMTTYPE=image/jpeg:https://saintfrancisnecedah.org/wp-content/uploads/2022/12/Outside-church-LOL-w.jpg
END:VEVENT
BEGIN:VEVENT
DTSTART;TZID=UTC:20261220T073000
DTEND;TZID=UTC:20261220T083000
DTSTAMP:20260420T103135
CREATED:20231025T195219Z
LAST-MODIFIED:20231025T201453Z
UID:10003427-1797751800-1797755400@saintfrancisnecedah.org
SUMMARY:Sunday Mass (Lady of the Lake) English
DESCRIPTION:English Sunday Mass at Our Lady of the Lake – 7:30am
URL:https://saintfrancisnecedah.org/event/sunday-mass-lady-of-the-lake-english/2026-12-20/
LOCATION:Our Lady of the Lake\, 6865 Evergreen St\,\, Mauston\, WI\, 53948\, United States
ATTACH;FMTTYPE=image/jpeg:https://saintfrancisnecedah.org/wp-content/uploads/2022/12/Outside-church-LOL-w.jpg
END:VEVENT
BEGIN:VEVENT
DTSTART;TZID=UTC:20261227T073000
DTEND;TZID=UTC:20261227T083000
DTSTAMP:20260420T103135
CREATED:20231025T195219Z
LAST-MODIFIED:20231025T201453Z
UID:10003428-1798356600-1798360200@saintfrancisnecedah.org
SUMMARY:Sunday Mass (Lady of the Lake) English
DESCRIPTION:English Sunday Mass at Our Lady of the Lake – 7:30am
URL:https://saintfrancisnecedah.org/event/sunday-mass-lady-of-the-lake-english/2026-12-27/
LOCATION:Our Lady of the Lake\, 6865 Evergreen St\,\, Mauston\, WI\, 53948\, United States
ATTACH;FMTTYPE=image/jpeg:https://saintfrancisnecedah.org/wp-content/uploads/2022/12/Outside-church-LOL-w.jpg
END:VEVENT
BEGIN:VEVENT
DTSTART;TZID=UTC:20270103T073000
DTEND;TZID=UTC:20270103T083000
DTSTAMP:20260420T103135
CREATED:20231025T195219Z
LAST-MODIFIED:20231025T201453Z
UID:10003429-1798961400-1798965000@saintfrancisnecedah.org
SUMMARY:Sunday Mass (Lady of the Lake) English
DESCRIPTION:English Sunday Mass at Our Lady of the Lake – 7:30am
URL:https://saintfrancisnecedah.org/event/sunday-mass-lady-of-the-lake-english/2027-01-03/
LOCATION:Our Lady of the Lake\, 6865 Evergreen St\,\, Mauston\, WI\, 53948\, United States
ATTACH;FMTTYPE=image/jpeg:https://saintfrancisnecedah.org/wp-content/uploads/2022/12/Outside-church-LOL-w.jpg
END:VEVENT
BEGIN:VEVENT
DTSTART;TZID=UTC:20270110T073000
DTEND;TZID=UTC:20270110T083000
DTSTAMP:20260420T103135
CREATED:20231025T195219Z
LAST-MODIFIED:20231025T201453Z
UID:10003430-1799566200-1799569800@saintfrancisnecedah.org
SUMMARY:Sunday Mass (Lady of the Lake) English
DESCRIPTION:English Sunday Mass at Our Lady of the Lake – 7:30am
URL:https://saintfrancisnecedah.org/event/sunday-mass-lady-of-the-lake-english/2027-01-10/
LOCATION:Our Lady of the Lake\, 6865 Evergreen St\,\, Mauston\, WI\, 53948\, United States
ATTACH;FMTTYPE=image/jpeg:https://saintfrancisnecedah.org/wp-content/uploads/2022/12/Outside-church-LOL-w.jpg
END:VEVENT
BEGIN:VEVENT
DTSTART;TZID=UTC:20270117T073000
DTEND;TZID=UTC:20270117T083000
DTSTAMP:20260420T103135
CREATED:20231025T195219Z
LAST-MODIFIED:20231025T201453Z
UID:10003431-1800171000-1800174600@saintfrancisnecedah.org
SUMMARY:Sunday Mass (Lady of the Lake) English
DESCRIPTION:English Sunday Mass at Our Lady of the Lake – 7:30am
URL:https://saintfrancisnecedah.org/event/sunday-mass-lady-of-the-lake-english/2027-01-17/
LOCATION:Our Lady of the Lake\, 6865 Evergreen St\,\, Mauston\, WI\, 53948\, United States
ATTACH;FMTTYPE=image/jpeg:https://saintfrancisnecedah.org/wp-content/uploads/2022/12/Outside-church-LOL-w.jpg
END:VEVENT
BEGIN:VEVENT
DTSTART;TZID=UTC:20270124T073000
DTEND;TZID=UTC:20270124T083000
DTSTAMP:20260420T103135
CREATED:20231025T195219Z
LAST-MODIFIED:20231025T201453Z
UID:10003432-1800775800-1800779400@saintfrancisnecedah.org
SUMMARY:Sunday Mass (Lady of the Lake) English
DESCRIPTION:English Sunday Mass at Our Lady of the Lake – 7:30am
URL:https://saintfrancisnecedah.org/event/sunday-mass-lady-of-the-lake-english/2027-01-24/
LOCATION:Our Lady of the Lake\, 6865 Evergreen St\,\, Mauston\, WI\, 53948\, United States
ATTACH;FMTTYPE=image/jpeg:https://saintfrancisnecedah.org/wp-content/uploads/2022/12/Outside-church-LOL-w.jpg
END:VEVENT
END:VCALENDAR