BEGIN:VCALENDAR
VERSION:2.0
PRODID:-//Saint Francis Of Assisi / Roman Catholic Church - ECPv6.15.6//NONSGML v1.0//EN
CALSCALE:GREGORIAN
METHOD:PUBLISH
X-WR-CALNAME:Saint Francis Of Assisi / Roman Catholic Church
X-ORIGINAL-URL:https://saintfrancisnecedah.org
X-WR-CALDESC:Events for Saint Francis Of Assisi / Roman Catholic Church
REFRESH-INTERVAL;VALUE=DURATION:PT1H
X-Robots-Tag:noindex
X-PUBLISHED-TTL:PT1H
BEGIN:VTIMEZONE
TZID:UTC
BEGIN:STANDARD
TZOFFSETFROM:+0000
TZOFFSETTO:+0000
TZNAME:UTC
DTSTART:20230101T000000
END:STANDARD
END:VTIMEZONE
BEGIN:VEVENT
DTSTART;TZID=UTC:20250713T073000
DTEND;TZID=UTC:20250713T083000
DTSTAMP:20260421T031734
CREATED:20231025T195219Z
LAST-MODIFIED:20231025T201453Z
UID:10003352-1752391800-1752395400@saintfrancisnecedah.org
SUMMARY:Sunday Mass (Lady of the Lake) English
DESCRIPTION:English Sunday Mass at Our Lady of the Lake – 7:30am
URL:https://saintfrancisnecedah.org/event/sunday-mass-lady-of-the-lake-english/2025-07-13/
LOCATION:Our Lady of the Lake\, 6865 Evergreen St\,\, Mauston\, WI\, 53948\, United States
ATTACH;FMTTYPE=image/jpeg:https://saintfrancisnecedah.org/wp-content/uploads/2022/12/Outside-church-LOL-w.jpg
END:VEVENT
BEGIN:VEVENT
DTSTART;TZID=UTC:20250706T073000
DTEND;TZID=UTC:20250706T083000
DTSTAMP:20260421T031734
CREATED:20231025T195219Z
LAST-MODIFIED:20231025T201453Z
UID:10003351-1751787000-1751790600@saintfrancisnecedah.org
SUMMARY:Sunday Mass (Lady of the Lake) English
DESCRIPTION:English Sunday Mass at Our Lady of the Lake – 7:30am
URL:https://saintfrancisnecedah.org/event/sunday-mass-lady-of-the-lake-english/2025-07-06/
LOCATION:Our Lady of the Lake\, 6865 Evergreen St\,\, Mauston\, WI\, 53948\, United States
ATTACH;FMTTYPE=image/jpeg:https://saintfrancisnecedah.org/wp-content/uploads/2022/12/Outside-church-LOL-w.jpg
END:VEVENT
BEGIN:VEVENT
DTSTART;TZID=UTC:20250629T073000
DTEND;TZID=UTC:20250629T083000
DTSTAMP:20260421T031734
CREATED:20231025T195219Z
LAST-MODIFIED:20231025T201453Z
UID:10003350-1751182200-1751185800@saintfrancisnecedah.org
SUMMARY:Sunday Mass (Lady of the Lake) English
DESCRIPTION:English Sunday Mass at Our Lady of the Lake – 7:30am
URL:https://saintfrancisnecedah.org/event/sunday-mass-lady-of-the-lake-english/2025-06-29/
LOCATION:Our Lady of the Lake\, 6865 Evergreen St\,\, Mauston\, WI\, 53948\, United States
ATTACH;FMTTYPE=image/jpeg:https://saintfrancisnecedah.org/wp-content/uploads/2022/12/Outside-church-LOL-w.jpg
END:VEVENT
BEGIN:VEVENT
DTSTART;TZID=UTC:20250622T073000
DTEND;TZID=UTC:20250622T083000
DTSTAMP:20260421T031734
CREATED:20231025T195219Z
LAST-MODIFIED:20231025T201453Z
UID:10003349-1750577400-1750581000@saintfrancisnecedah.org
SUMMARY:Sunday Mass (Lady of the Lake) English
DESCRIPTION:English Sunday Mass at Our Lady of the Lake – 7:30am
URL:https://saintfrancisnecedah.org/event/sunday-mass-lady-of-the-lake-english/2025-06-22/
LOCATION:Our Lady of the Lake\, 6865 Evergreen St\,\, Mauston\, WI\, 53948\, United States
ATTACH;FMTTYPE=image/jpeg:https://saintfrancisnecedah.org/wp-content/uploads/2022/12/Outside-church-LOL-w.jpg
END:VEVENT
BEGIN:VEVENT
DTSTART;TZID=UTC:20250615T073000
DTEND;TZID=UTC:20250615T083000
DTSTAMP:20260421T031734
CREATED:20231025T195219Z
LAST-MODIFIED:20231025T201453Z
UID:10003348-1749972600-1749976200@saintfrancisnecedah.org
SUMMARY:Sunday Mass (Lady of the Lake) English
DESCRIPTION:English Sunday Mass at Our Lady of the Lake – 7:30am
URL:https://saintfrancisnecedah.org/event/sunday-mass-lady-of-the-lake-english/2025-06-15/
LOCATION:Our Lady of the Lake\, 6865 Evergreen St\,\, Mauston\, WI\, 53948\, United States
ATTACH;FMTTYPE=image/jpeg:https://saintfrancisnecedah.org/wp-content/uploads/2022/12/Outside-church-LOL-w.jpg
END:VEVENT
BEGIN:VEVENT
DTSTART;TZID=UTC:20250608T073000
DTEND;TZID=UTC:20250608T083000
DTSTAMP:20260421T031734
CREATED:20231025T195219Z
LAST-MODIFIED:20231025T201453Z
UID:10003347-1749367800-1749371400@saintfrancisnecedah.org
SUMMARY:Sunday Mass (Lady of the Lake) English
DESCRIPTION:English Sunday Mass at Our Lady of the Lake – 7:30am
URL:https://saintfrancisnecedah.org/event/sunday-mass-lady-of-the-lake-english/2025-06-08/
LOCATION:Our Lady of the Lake\, 6865 Evergreen St\,\, Mauston\, WI\, 53948\, United States
ATTACH;FMTTYPE=image/jpeg:https://saintfrancisnecedah.org/wp-content/uploads/2022/12/Outside-church-LOL-w.jpg
END:VEVENT
BEGIN:VEVENT
DTSTART;TZID=UTC:20250601T073000
DTEND;TZID=UTC:20250601T083000
DTSTAMP:20260421T031734
CREATED:20231025T195219Z
LAST-MODIFIED:20231025T201453Z
UID:10003346-1748763000-1748766600@saintfrancisnecedah.org
SUMMARY:Sunday Mass (Lady of the Lake) English
DESCRIPTION:English Sunday Mass at Our Lady of the Lake – 7:30am
URL:https://saintfrancisnecedah.org/event/sunday-mass-lady-of-the-lake-english/2025-06-01/
LOCATION:Our Lady of the Lake\, 6865 Evergreen St\,\, Mauston\, WI\, 53948\, United States
ATTACH;FMTTYPE=image/jpeg:https://saintfrancisnecedah.org/wp-content/uploads/2022/12/Outside-church-LOL-w.jpg
END:VEVENT
BEGIN:VEVENT
DTSTART;TZID=UTC:20250525T073000
DTEND;TZID=UTC:20250525T083000
DTSTAMP:20260421T031734
CREATED:20231025T195219Z
LAST-MODIFIED:20231025T201453Z
UID:10003345-1748158200-1748161800@saintfrancisnecedah.org
SUMMARY:Sunday Mass (Lady of the Lake) English
DESCRIPTION:English Sunday Mass at Our Lady of the Lake – 7:30am
URL:https://saintfrancisnecedah.org/event/sunday-mass-lady-of-the-lake-english/2025-05-25/
LOCATION:Our Lady of the Lake\, 6865 Evergreen St\,\, Mauston\, WI\, 53948\, United States
ATTACH;FMTTYPE=image/jpeg:https://saintfrancisnecedah.org/wp-content/uploads/2022/12/Outside-church-LOL-w.jpg
END:VEVENT
BEGIN:VEVENT
DTSTART;TZID=UTC:20250518T073000
DTEND;TZID=UTC:20250518T083000
DTSTAMP:20260421T031734
CREATED:20231025T195219Z
LAST-MODIFIED:20231025T201453Z
UID:10003344-1747553400-1747557000@saintfrancisnecedah.org
SUMMARY:Sunday Mass (Lady of the Lake) English
DESCRIPTION:English Sunday Mass at Our Lady of the Lake – 7:30am
URL:https://saintfrancisnecedah.org/event/sunday-mass-lady-of-the-lake-english/2025-05-18/
LOCATION:Our Lady of the Lake\, 6865 Evergreen St\,\, Mauston\, WI\, 53948\, United States
ATTACH;FMTTYPE=image/jpeg:https://saintfrancisnecedah.org/wp-content/uploads/2022/12/Outside-church-LOL-w.jpg
END:VEVENT
BEGIN:VEVENT
DTSTART;TZID=UTC:20250511T073000
DTEND;TZID=UTC:20250511T083000
DTSTAMP:20260421T031734
CREATED:20231025T195219Z
LAST-MODIFIED:20231025T201453Z
UID:10003343-1746948600-1746952200@saintfrancisnecedah.org
SUMMARY:Sunday Mass (Lady of the Lake) English
DESCRIPTION:English Sunday Mass at Our Lady of the Lake – 7:30am
URL:https://saintfrancisnecedah.org/event/sunday-mass-lady-of-the-lake-english/2025-05-11/
LOCATION:Our Lady of the Lake\, 6865 Evergreen St\,\, Mauston\, WI\, 53948\, United States
ATTACH;FMTTYPE=image/jpeg:https://saintfrancisnecedah.org/wp-content/uploads/2022/12/Outside-church-LOL-w.jpg
END:VEVENT
BEGIN:VEVENT
DTSTART;TZID=UTC:20250504T073000
DTEND;TZID=UTC:20250504T083000
DTSTAMP:20260421T031734
CREATED:20231025T195219Z
LAST-MODIFIED:20231025T201453Z
UID:10003342-1746343800-1746347400@saintfrancisnecedah.org
SUMMARY:Sunday Mass (Lady of the Lake) English
DESCRIPTION:English Sunday Mass at Our Lady of the Lake – 7:30am
URL:https://saintfrancisnecedah.org/event/sunday-mass-lady-of-the-lake-english/2025-05-04/
LOCATION:Our Lady of the Lake\, 6865 Evergreen St\,\, Mauston\, WI\, 53948\, United States
ATTACH;FMTTYPE=image/jpeg:https://saintfrancisnecedah.org/wp-content/uploads/2022/12/Outside-church-LOL-w.jpg
END:VEVENT
BEGIN:VEVENT
DTSTART;TZID=UTC:20250427T073000
DTEND;TZID=UTC:20250427T083000
DTSTAMP:20260421T031734
CREATED:20231025T195219Z
LAST-MODIFIED:20231025T201453Z
UID:10003341-1745739000-1745742600@saintfrancisnecedah.org
SUMMARY:Sunday Mass (Lady of the Lake) English
DESCRIPTION:English Sunday Mass at Our Lady of the Lake – 7:30am
URL:https://saintfrancisnecedah.org/event/sunday-mass-lady-of-the-lake-english/2025-04-27/
LOCATION:Our Lady of the Lake\, 6865 Evergreen St\,\, Mauston\, WI\, 53948\, United States
ATTACH;FMTTYPE=image/jpeg:https://saintfrancisnecedah.org/wp-content/uploads/2022/12/Outside-church-LOL-w.jpg
END:VEVENT
BEGIN:VEVENT
DTSTART;TZID=UTC:20250420T073000
DTEND;TZID=UTC:20250420T083000
DTSTAMP:20260421T031734
CREATED:20231025T195219Z
LAST-MODIFIED:20231025T201453Z
UID:10003340-1745134200-1745137800@saintfrancisnecedah.org
SUMMARY:Sunday Mass (Lady of the Lake) English
DESCRIPTION:English Sunday Mass at Our Lady of the Lake – 7:30am
URL:https://saintfrancisnecedah.org/event/sunday-mass-lady-of-the-lake-english/2025-04-20/
LOCATION:Our Lady of the Lake\, 6865 Evergreen St\,\, Mauston\, WI\, 53948\, United States
ATTACH;FMTTYPE=image/jpeg:https://saintfrancisnecedah.org/wp-content/uploads/2022/12/Outside-church-LOL-w.jpg
END:VEVENT
BEGIN:VEVENT
DTSTART;TZID=UTC:20250413T073000
DTEND;TZID=UTC:20250413T083000
DTSTAMP:20260421T031734
CREATED:20231025T195219Z
LAST-MODIFIED:20231025T201453Z
UID:10003339-1744529400-1744533000@saintfrancisnecedah.org
SUMMARY:Sunday Mass (Lady of the Lake) English
DESCRIPTION:English Sunday Mass at Our Lady of the Lake – 7:30am
URL:https://saintfrancisnecedah.org/event/sunday-mass-lady-of-the-lake-english/2025-04-13/
LOCATION:Our Lady of the Lake\, 6865 Evergreen St\,\, Mauston\, WI\, 53948\, United States
ATTACH;FMTTYPE=image/jpeg:https://saintfrancisnecedah.org/wp-content/uploads/2022/12/Outside-church-LOL-w.jpg
END:VEVENT
BEGIN:VEVENT
DTSTART;TZID=UTC:20250406T073000
DTEND;TZID=UTC:20250406T083000
DTSTAMP:20260421T031734
CREATED:20231025T195219Z
LAST-MODIFIED:20231025T201453Z
UID:10003338-1743924600-1743928200@saintfrancisnecedah.org
SUMMARY:Sunday Mass (Lady of the Lake) English
DESCRIPTION:English Sunday Mass at Our Lady of the Lake – 7:30am
URL:https://saintfrancisnecedah.org/event/sunday-mass-lady-of-the-lake-english/2025-04-06/
LOCATION:Our Lady of the Lake\, 6865 Evergreen St\,\, Mauston\, WI\, 53948\, United States
ATTACH;FMTTYPE=image/jpeg:https://saintfrancisnecedah.org/wp-content/uploads/2022/12/Outside-church-LOL-w.jpg
END:VEVENT
BEGIN:VEVENT
DTSTART;TZID=UTC:20250330T073000
DTEND;TZID=UTC:20250330T083000
DTSTAMP:20260421T031734
CREATED:20231025T195219Z
LAST-MODIFIED:20231025T201453Z
UID:10003337-1743319800-1743323400@saintfrancisnecedah.org
SUMMARY:Sunday Mass (Lady of the Lake) English
DESCRIPTION:English Sunday Mass at Our Lady of the Lake – 7:30am
URL:https://saintfrancisnecedah.org/event/sunday-mass-lady-of-the-lake-english/2025-03-30/
LOCATION:Our Lady of the Lake\, 6865 Evergreen St\,\, Mauston\, WI\, 53948\, United States
ATTACH;FMTTYPE=image/jpeg:https://saintfrancisnecedah.org/wp-content/uploads/2022/12/Outside-church-LOL-w.jpg
END:VEVENT
BEGIN:VEVENT
DTSTART;TZID=UTC:20250323T073000
DTEND;TZID=UTC:20250323T083000
DTSTAMP:20260421T031734
CREATED:20231025T195219Z
LAST-MODIFIED:20231025T201453Z
UID:10003336-1742715000-1742718600@saintfrancisnecedah.org
SUMMARY:Sunday Mass (Lady of the Lake) English
DESCRIPTION:English Sunday Mass at Our Lady of the Lake – 7:30am
URL:https://saintfrancisnecedah.org/event/sunday-mass-lady-of-the-lake-english/2025-03-23/
LOCATION:Our Lady of the Lake\, 6865 Evergreen St\,\, Mauston\, WI\, 53948\, United States
ATTACH;FMTTYPE=image/jpeg:https://saintfrancisnecedah.org/wp-content/uploads/2022/12/Outside-church-LOL-w.jpg
END:VEVENT
BEGIN:VEVENT
DTSTART;TZID=UTC:20250316T073000
DTEND;TZID=UTC:20250316T083000
DTSTAMP:20260421T031734
CREATED:20231025T195219Z
LAST-MODIFIED:20231025T201453Z
UID:10003335-1742110200-1742113800@saintfrancisnecedah.org
SUMMARY:Sunday Mass (Lady of the Lake) English
DESCRIPTION:English Sunday Mass at Our Lady of the Lake – 7:30am
URL:https://saintfrancisnecedah.org/event/sunday-mass-lady-of-the-lake-english/2025-03-16/
LOCATION:Our Lady of the Lake\, 6865 Evergreen St\,\, Mauston\, WI\, 53948\, United States
ATTACH;FMTTYPE=image/jpeg:https://saintfrancisnecedah.org/wp-content/uploads/2022/12/Outside-church-LOL-w.jpg
END:VEVENT
BEGIN:VEVENT
DTSTART;TZID=UTC:20250309T073000
DTEND;TZID=UTC:20250309T083000
DTSTAMP:20260421T031734
CREATED:20231025T195219Z
LAST-MODIFIED:20231025T201453Z
UID:10003334-1741505400-1741509000@saintfrancisnecedah.org
SUMMARY:Sunday Mass (Lady of the Lake) English
DESCRIPTION:English Sunday Mass at Our Lady of the Lake – 7:30am
URL:https://saintfrancisnecedah.org/event/sunday-mass-lady-of-the-lake-english/2025-03-09/
LOCATION:Our Lady of the Lake\, 6865 Evergreen St\,\, Mauston\, WI\, 53948\, United States
ATTACH;FMTTYPE=image/jpeg:https://saintfrancisnecedah.org/wp-content/uploads/2022/12/Outside-church-LOL-w.jpg
END:VEVENT
BEGIN:VEVENT
DTSTART;TZID=UTC:20250302T073000
DTEND;TZID=UTC:20250302T083000
DTSTAMP:20260421T031734
CREATED:20231025T195219Z
LAST-MODIFIED:20231025T201453Z
UID:10003333-1740900600-1740904200@saintfrancisnecedah.org
SUMMARY:Sunday Mass (Lady of the Lake) English
DESCRIPTION:English Sunday Mass at Our Lady of the Lake – 7:30am
URL:https://saintfrancisnecedah.org/event/sunday-mass-lady-of-the-lake-english/2025-03-02/
LOCATION:Our Lady of the Lake\, 6865 Evergreen St\,\, Mauston\, WI\, 53948\, United States
ATTACH;FMTTYPE=image/jpeg:https://saintfrancisnecedah.org/wp-content/uploads/2022/12/Outside-church-LOL-w.jpg
END:VEVENT
BEGIN:VEVENT
DTSTART;TZID=UTC:20250223T073000
DTEND;TZID=UTC:20250223T083000
DTSTAMP:20260421T031734
CREATED:20231025T195219Z
LAST-MODIFIED:20231025T201453Z
UID:10003332-1740295800-1740299400@saintfrancisnecedah.org
SUMMARY:Sunday Mass (Lady of the Lake) English
DESCRIPTION:English Sunday Mass at Our Lady of the Lake – 7:30am
URL:https://saintfrancisnecedah.org/event/sunday-mass-lady-of-the-lake-english/2025-02-23/
LOCATION:Our Lady of the Lake\, 6865 Evergreen St\,\, Mauston\, WI\, 53948\, United States
ATTACH;FMTTYPE=image/jpeg:https://saintfrancisnecedah.org/wp-content/uploads/2022/12/Outside-church-LOL-w.jpg
END:VEVENT
BEGIN:VEVENT
DTSTART;TZID=UTC:20250216T073000
DTEND;TZID=UTC:20250216T083000
DTSTAMP:20260421T031734
CREATED:20231025T195219Z
LAST-MODIFIED:20231025T201453Z
UID:10003331-1739691000-1739694600@saintfrancisnecedah.org
SUMMARY:Sunday Mass (Lady of the Lake) English
DESCRIPTION:English Sunday Mass at Our Lady of the Lake – 7:30am
URL:https://saintfrancisnecedah.org/event/sunday-mass-lady-of-the-lake-english/2025-02-16/
LOCATION:Our Lady of the Lake\, 6865 Evergreen St\,\, Mauston\, WI\, 53948\, United States
ATTACH;FMTTYPE=image/jpeg:https://saintfrancisnecedah.org/wp-content/uploads/2022/12/Outside-church-LOL-w.jpg
END:VEVENT
BEGIN:VEVENT
DTSTART;TZID=UTC:20250209T073000
DTEND;TZID=UTC:20250209T083000
DTSTAMP:20260421T031734
CREATED:20231025T195219Z
LAST-MODIFIED:20231025T201453Z
UID:10003330-1739086200-1739089800@saintfrancisnecedah.org
SUMMARY:Sunday Mass (Lady of the Lake) English
DESCRIPTION:English Sunday Mass at Our Lady of the Lake – 7:30am
URL:https://saintfrancisnecedah.org/event/sunday-mass-lady-of-the-lake-english/2025-02-09/
LOCATION:Our Lady of the Lake\, 6865 Evergreen St\,\, Mauston\, WI\, 53948\, United States
ATTACH;FMTTYPE=image/jpeg:https://saintfrancisnecedah.org/wp-content/uploads/2022/12/Outside-church-LOL-w.jpg
END:VEVENT
BEGIN:VEVENT
DTSTART;TZID=UTC:20250202T073000
DTEND;TZID=UTC:20250202T083000
DTSTAMP:20260421T031734
CREATED:20231025T195219Z
LAST-MODIFIED:20231025T201453Z
UID:10003329-1738481400-1738485000@saintfrancisnecedah.org
SUMMARY:Sunday Mass (Lady of the Lake) English
DESCRIPTION:English Sunday Mass at Our Lady of the Lake – 7:30am
URL:https://saintfrancisnecedah.org/event/sunday-mass-lady-of-the-lake-english/2025-02-02/
LOCATION:Our Lady of the Lake\, 6865 Evergreen St\,\, Mauston\, WI\, 53948\, United States
ATTACH;FMTTYPE=image/jpeg:https://saintfrancisnecedah.org/wp-content/uploads/2022/12/Outside-church-LOL-w.jpg
END:VEVENT
BEGIN:VEVENT
DTSTART;TZID=UTC:20250126T073000
DTEND;TZID=UTC:20250126T083000
DTSTAMP:20260421T031734
CREATED:20231025T195219Z
LAST-MODIFIED:20231025T201453Z
UID:10003328-1737876600-1737880200@saintfrancisnecedah.org
SUMMARY:Sunday Mass (Lady of the Lake) English
DESCRIPTION:English Sunday Mass at Our Lady of the Lake – 7:30am
URL:https://saintfrancisnecedah.org/event/sunday-mass-lady-of-the-lake-english/2025-01-26/
LOCATION:Our Lady of the Lake\, 6865 Evergreen St\,\, Mauston\, WI\, 53948\, United States
ATTACH;FMTTYPE=image/jpeg:https://saintfrancisnecedah.org/wp-content/uploads/2022/12/Outside-church-LOL-w.jpg
END:VEVENT
BEGIN:VEVENT
DTSTART;TZID=UTC:20250119T073000
DTEND;TZID=UTC:20250119T083000
DTSTAMP:20260421T031734
CREATED:20231025T195219Z
LAST-MODIFIED:20231025T201453Z
UID:10003327-1737271800-1737275400@saintfrancisnecedah.org
SUMMARY:Sunday Mass (Lady of the Lake) English
DESCRIPTION:English Sunday Mass at Our Lady of the Lake – 7:30am
URL:https://saintfrancisnecedah.org/event/sunday-mass-lady-of-the-lake-english/2025-01-19/
LOCATION:Our Lady of the Lake\, 6865 Evergreen St\,\, Mauston\, WI\, 53948\, United States
ATTACH;FMTTYPE=image/jpeg:https://saintfrancisnecedah.org/wp-content/uploads/2022/12/Outside-church-LOL-w.jpg
END:VEVENT
BEGIN:VEVENT
DTSTART;TZID=UTC:20250112T073000
DTEND;TZID=UTC:20250112T083000
DTSTAMP:20260421T031734
CREATED:20231025T195219Z
LAST-MODIFIED:20231025T201453Z
UID:10003326-1736667000-1736670600@saintfrancisnecedah.org
SUMMARY:Sunday Mass (Lady of the Lake) English
DESCRIPTION:English Sunday Mass at Our Lady of the Lake – 7:30am
URL:https://saintfrancisnecedah.org/event/sunday-mass-lady-of-the-lake-english/2025-01-12/
LOCATION:Our Lady of the Lake\, 6865 Evergreen St\,\, Mauston\, WI\, 53948\, United States
ATTACH;FMTTYPE=image/jpeg:https://saintfrancisnecedah.org/wp-content/uploads/2022/12/Outside-church-LOL-w.jpg
END:VEVENT
BEGIN:VEVENT
DTSTART;TZID=UTC:20250105T073000
DTEND;TZID=UTC:20250105T083000
DTSTAMP:20260421T031734
CREATED:20231025T195219Z
LAST-MODIFIED:20231025T201453Z
UID:10003325-1736062200-1736065800@saintfrancisnecedah.org
SUMMARY:Sunday Mass (Lady of the Lake) English
DESCRIPTION:English Sunday Mass at Our Lady of the Lake – 7:30am
URL:https://saintfrancisnecedah.org/event/sunday-mass-lady-of-the-lake-english/2025-01-05/
LOCATION:Our Lady of the Lake\, 6865 Evergreen St\,\, Mauston\, WI\, 53948\, United States
ATTACH;FMTTYPE=image/jpeg:https://saintfrancisnecedah.org/wp-content/uploads/2022/12/Outside-church-LOL-w.jpg
END:VEVENT
BEGIN:VEVENT
DTSTART;TZID=UTC:20241229T073000
DTEND;TZID=UTC:20241229T083000
DTSTAMP:20260421T031734
CREATED:20231025T195219Z
LAST-MODIFIED:20231025T201453Z
UID:10003324-1735457400-1735461000@saintfrancisnecedah.org
SUMMARY:Sunday Mass (Lady of the Lake) English
DESCRIPTION:English Sunday Mass at Our Lady of the Lake – 7:30am
URL:https://saintfrancisnecedah.org/event/sunday-mass-lady-of-the-lake-english/2024-12-29/
LOCATION:Our Lady of the Lake\, 6865 Evergreen St\,\, Mauston\, WI\, 53948\, United States
ATTACH;FMTTYPE=image/jpeg:https://saintfrancisnecedah.org/wp-content/uploads/2022/12/Outside-church-LOL-w.jpg
END:VEVENT
BEGIN:VEVENT
DTSTART;TZID=UTC:20241222T073000
DTEND;TZID=UTC:20241222T083000
DTSTAMP:20260421T031734
CREATED:20231025T195219Z
LAST-MODIFIED:20231025T201453Z
UID:10003323-1734852600-1734856200@saintfrancisnecedah.org
SUMMARY:Sunday Mass (Lady of the Lake) English
DESCRIPTION:English Sunday Mass at Our Lady of the Lake – 7:30am
URL:https://saintfrancisnecedah.org/event/sunday-mass-lady-of-the-lake-english/2024-12-22/
LOCATION:Our Lady of the Lake\, 6865 Evergreen St\,\, Mauston\, WI\, 53948\, United States
ATTACH;FMTTYPE=image/jpeg:https://saintfrancisnecedah.org/wp-content/uploads/2022/12/Outside-church-LOL-w.jpg
END:VEVENT
END:VCALENDAR