BEGIN:VCALENDAR
VERSION:2.0
PRODID:-//Saint Francis Of Assisi / Roman Catholic Church - ECPv6.15.6//NONSGML v1.0//EN
CALSCALE:GREGORIAN
METHOD:PUBLISH
X-ORIGINAL-URL:https://saintfrancisnecedah.org
X-WR-CALDESC:Events for Saint Francis Of Assisi / Roman Catholic Church
REFRESH-INTERVAL;VALUE=DURATION:PT1H
X-Robots-Tag:noindex
X-PUBLISHED-TTL:PT1H
BEGIN:VTIMEZONE
TZID:UTC
BEGIN:STANDARD
TZOFFSETFROM:+0000
TZOFFSETTO:+0000
TZNAME:UTC
DTSTART:20230101T000000
END:STANDARD
END:VTIMEZONE
BEGIN:VEVENT
DTSTART;TZID=UTC:20250308T163000
DTEND;TZID=UTC:20250308T173000
DTSTAMP:20260422T171907
CREATED:20231025T201838Z
LAST-MODIFIED:20231025T201838Z
UID:10004376-1741451400-1741455000@saintfrancisnecedah.org
SUMMARY:Saturday Mass (St Francis of Assisi) English
DESCRIPTION:Saturday Evening Mass at St. Francis of Assisi\, Necedah  English Mass 4:30pm
URL:https://saintfrancisnecedah.org/event/saturday-mass-st-francis-of-assisi-english/2025-03-08/
LOCATION:St Francis of Assisi Church\, 2001 S Main St\, Necedah\, WI\, 54646\, United States
ATTACH;FMTTYPE=image/jpeg:https://saintfrancisnecedah.org/wp-content/uploads/2022/12/Outside-church-St.Francis-w.jpg
END:VEVENT
BEGIN:VEVENT
DTSTART;TZID=UTC:20250302T123000
DTEND;TZID=UTC:20250302T133000
DTSTAMP:20260422T171907
CREATED:20231025T201033Z
LAST-MODIFIED:20231025T201322Z
UID:10004114-1740918600-1740922200@saintfrancisnecedah.org
SUMMARY:Sunday Mass (St. Francis of Assisi)  Polish
DESCRIPTION:Sunday Mass at St. Francis of Assisi in Polish 12:30pm
URL:https://saintfrancisnecedah.org/event/sunday-mass-st-francis-of-assisi-polish/2025-03-02/
LOCATION:St Francis of Assisi Church\, 2001 S Main St\, Necedah\, WI\, 54646\, United States
ATTACH;FMTTYPE=image/jpeg:https://saintfrancisnecedah.org/wp-content/uploads/2022/12/Outside-church-St.Francis-w.jpg
END:VEVENT
BEGIN:VEVENT
DTSTART;TZID=UTC:20250302T110000
DTEND;TZID=UTC:20250302T120000
DTSTAMP:20260422T171907
CREATED:20231025T183905Z
LAST-MODIFIED:20250530T191321Z
UID:10003594-1740913200-1740916800@saintfrancisnecedah.org
SUMMARY:Sunday Mass - (St. Francis) Latin
DESCRIPTION:Latin Mass (Not Extraordinary Form) celebrated at 11:00 am St. Francis of Assisi\, Necedah
URL:https://saintfrancisnecedah.org/event/sunday-mass-st-francis-latin/2025-03-02/
LOCATION:St Francis of Assisi Church\, 2001 S Main St\, Necedah\, WI\, 54646\, United States
ATTACH;FMTTYPE=image/jpeg:https://saintfrancisnecedah.org/wp-content/uploads/2022/12/Outside-church-St.Francis-w.jpg
END:VEVENT
BEGIN:VEVENT
DTSTART;TZID=UTC:20250301T163000
DTEND;TZID=UTC:20250301T173000
DTSTAMP:20260422T171907
CREATED:20231025T201838Z
LAST-MODIFIED:20231025T201838Z
UID:10004375-1740846600-1740850200@saintfrancisnecedah.org
SUMMARY:Saturday Mass (St Francis of Assisi) English
DESCRIPTION:Saturday Evening Mass at St. Francis of Assisi\, Necedah  English Mass 4:30pm
URL:https://saintfrancisnecedah.org/event/saturday-mass-st-francis-of-assisi-english/2025-03-01/
LOCATION:St Francis of Assisi Church\, 2001 S Main St\, Necedah\, WI\, 54646\, United States
ATTACH;FMTTYPE=image/jpeg:https://saintfrancisnecedah.org/wp-content/uploads/2022/12/Outside-church-St.Francis-w.jpg
END:VEVENT
BEGIN:VEVENT
DTSTART;TZID=UTC:20250223T123000
DTEND;TZID=UTC:20250223T133000
DTSTAMP:20260422T171907
CREATED:20231025T201033Z
LAST-MODIFIED:20231025T201322Z
UID:10004113-1740313800-1740317400@saintfrancisnecedah.org
SUMMARY:Sunday Mass (St. Francis of Assisi)  Polish
DESCRIPTION:Sunday Mass at St. Francis of Assisi in Polish 12:30pm
URL:https://saintfrancisnecedah.org/event/sunday-mass-st-francis-of-assisi-polish/2025-02-23/
LOCATION:St Francis of Assisi Church\, 2001 S Main St\, Necedah\, WI\, 54646\, United States
ATTACH;FMTTYPE=image/jpeg:https://saintfrancisnecedah.org/wp-content/uploads/2022/12/Outside-church-St.Francis-w.jpg
END:VEVENT
BEGIN:VEVENT
DTSTART;TZID=UTC:20250223T110000
DTEND;TZID=UTC:20250223T120000
DTSTAMP:20260422T171907
CREATED:20231025T183905Z
LAST-MODIFIED:20250530T191321Z
UID:10003593-1740308400-1740312000@saintfrancisnecedah.org
SUMMARY:Sunday Mass - (St. Francis) Latin
DESCRIPTION:Latin Mass (Not Extraordinary Form) celebrated at 11:00 am St. Francis of Assisi\, Necedah
URL:https://saintfrancisnecedah.org/event/sunday-mass-st-francis-latin/2025-02-23/
LOCATION:St Francis of Assisi Church\, 2001 S Main St\, Necedah\, WI\, 54646\, United States
ATTACH;FMTTYPE=image/jpeg:https://saintfrancisnecedah.org/wp-content/uploads/2022/12/Outside-church-St.Francis-w.jpg
END:VEVENT
BEGIN:VEVENT
DTSTART;TZID=UTC:20250222T163000
DTEND;TZID=UTC:20250222T173000
DTSTAMP:20260422T171907
CREATED:20231025T201838Z
LAST-MODIFIED:20231025T201838Z
UID:10004374-1740241800-1740245400@saintfrancisnecedah.org
SUMMARY:Saturday Mass (St Francis of Assisi) English
DESCRIPTION:Saturday Evening Mass at St. Francis of Assisi\, Necedah  English Mass 4:30pm
URL:https://saintfrancisnecedah.org/event/saturday-mass-st-francis-of-assisi-english/2025-02-22/
LOCATION:St Francis of Assisi Church\, 2001 S Main St\, Necedah\, WI\, 54646\, United States
ATTACH;FMTTYPE=image/jpeg:https://saintfrancisnecedah.org/wp-content/uploads/2022/12/Outside-church-St.Francis-w.jpg
END:VEVENT
BEGIN:VEVENT
DTSTART;TZID=UTC:20250216T123000
DTEND;TZID=UTC:20250216T133000
DTSTAMP:20260422T171907
CREATED:20231025T201033Z
LAST-MODIFIED:20231025T201322Z
UID:10004112-1739709000-1739712600@saintfrancisnecedah.org
SUMMARY:Sunday Mass (St. Francis of Assisi)  Polish
DESCRIPTION:Sunday Mass at St. Francis of Assisi in Polish 12:30pm
URL:https://saintfrancisnecedah.org/event/sunday-mass-st-francis-of-assisi-polish/2025-02-16/
LOCATION:St Francis of Assisi Church\, 2001 S Main St\, Necedah\, WI\, 54646\, United States
ATTACH;FMTTYPE=image/jpeg:https://saintfrancisnecedah.org/wp-content/uploads/2022/12/Outside-church-St.Francis-w.jpg
END:VEVENT
BEGIN:VEVENT
DTSTART;TZID=UTC:20250216T110000
DTEND;TZID=UTC:20250216T120000
DTSTAMP:20260422T171907
CREATED:20231025T183905Z
LAST-MODIFIED:20250530T191321Z
UID:10003592-1739703600-1739707200@saintfrancisnecedah.org
SUMMARY:Sunday Mass - (St. Francis) Latin
DESCRIPTION:Latin Mass (Not Extraordinary Form) celebrated at 11:00 am St. Francis of Assisi\, Necedah
URL:https://saintfrancisnecedah.org/event/sunday-mass-st-francis-latin/2025-02-16/
LOCATION:St Francis of Assisi Church\, 2001 S Main St\, Necedah\, WI\, 54646\, United States
ATTACH;FMTTYPE=image/jpeg:https://saintfrancisnecedah.org/wp-content/uploads/2022/12/Outside-church-St.Francis-w.jpg
END:VEVENT
BEGIN:VEVENT
DTSTART;TZID=UTC:20250215T163000
DTEND;TZID=UTC:20250215T173000
DTSTAMP:20260422T171907
CREATED:20231025T201838Z
LAST-MODIFIED:20231025T201838Z
UID:10004373-1739637000-1739640600@saintfrancisnecedah.org
SUMMARY:Saturday Mass (St Francis of Assisi) English
DESCRIPTION:Saturday Evening Mass at St. Francis of Assisi\, Necedah  English Mass 4:30pm
URL:https://saintfrancisnecedah.org/event/saturday-mass-st-francis-of-assisi-english/2025-02-15/
LOCATION:St Francis of Assisi Church\, 2001 S Main St\, Necedah\, WI\, 54646\, United States
ATTACH;FMTTYPE=image/jpeg:https://saintfrancisnecedah.org/wp-content/uploads/2022/12/Outside-church-St.Francis-w.jpg
END:VEVENT
BEGIN:VEVENT
DTSTART;TZID=UTC:20250209T123000
DTEND;TZID=UTC:20250209T133000
DTSTAMP:20260422T171907
CREATED:20231025T201033Z
LAST-MODIFIED:20231025T201322Z
UID:10004111-1739104200-1739107800@saintfrancisnecedah.org
SUMMARY:Sunday Mass (St. Francis of Assisi)  Polish
DESCRIPTION:Sunday Mass at St. Francis of Assisi in Polish 12:30pm
URL:https://saintfrancisnecedah.org/event/sunday-mass-st-francis-of-assisi-polish/2025-02-09/
LOCATION:St Francis of Assisi Church\, 2001 S Main St\, Necedah\, WI\, 54646\, United States
ATTACH;FMTTYPE=image/jpeg:https://saintfrancisnecedah.org/wp-content/uploads/2022/12/Outside-church-St.Francis-w.jpg
END:VEVENT
BEGIN:VEVENT
DTSTART;TZID=UTC:20250209T110000
DTEND;TZID=UTC:20250209T120000
DTSTAMP:20260422T171907
CREATED:20231025T183905Z
LAST-MODIFIED:20250530T191321Z
UID:10003591-1739098800-1739102400@saintfrancisnecedah.org
SUMMARY:Sunday Mass - (St. Francis) Latin
DESCRIPTION:Latin Mass (Not Extraordinary Form) celebrated at 11:00 am St. Francis of Assisi\, Necedah
URL:https://saintfrancisnecedah.org/event/sunday-mass-st-francis-latin/2025-02-09/
LOCATION:St Francis of Assisi Church\, 2001 S Main St\, Necedah\, WI\, 54646\, United States
ATTACH;FMTTYPE=image/jpeg:https://saintfrancisnecedah.org/wp-content/uploads/2022/12/Outside-church-St.Francis-w.jpg
END:VEVENT
BEGIN:VEVENT
DTSTART;TZID=UTC:20250208T163000
DTEND;TZID=UTC:20250208T173000
DTSTAMP:20260422T171907
CREATED:20231025T201838Z
LAST-MODIFIED:20231025T201838Z
UID:10004372-1739032200-1739035800@saintfrancisnecedah.org
SUMMARY:Saturday Mass (St Francis of Assisi) English
DESCRIPTION:Saturday Evening Mass at St. Francis of Assisi\, Necedah  English Mass 4:30pm
URL:https://saintfrancisnecedah.org/event/saturday-mass-st-francis-of-assisi-english/2025-02-08/
LOCATION:St Francis of Assisi Church\, 2001 S Main St\, Necedah\, WI\, 54646\, United States
ATTACH;FMTTYPE=image/jpeg:https://saintfrancisnecedah.org/wp-content/uploads/2022/12/Outside-church-St.Francis-w.jpg
END:VEVENT
BEGIN:VEVENT
DTSTART;TZID=UTC:20250202T123000
DTEND;TZID=UTC:20250202T133000
DTSTAMP:20260422T171907
CREATED:20231025T201033Z
LAST-MODIFIED:20231025T201322Z
UID:10004110-1738499400-1738503000@saintfrancisnecedah.org
SUMMARY:Sunday Mass (St. Francis of Assisi)  Polish
DESCRIPTION:Sunday Mass at St. Francis of Assisi in Polish 12:30pm
URL:https://saintfrancisnecedah.org/event/sunday-mass-st-francis-of-assisi-polish/2025-02-02/
LOCATION:St Francis of Assisi Church\, 2001 S Main St\, Necedah\, WI\, 54646\, United States
ATTACH;FMTTYPE=image/jpeg:https://saintfrancisnecedah.org/wp-content/uploads/2022/12/Outside-church-St.Francis-w.jpg
END:VEVENT
BEGIN:VEVENT
DTSTART;TZID=UTC:20250202T110000
DTEND;TZID=UTC:20250202T120000
DTSTAMP:20260422T171907
CREATED:20231025T183905Z
LAST-MODIFIED:20250530T191321Z
UID:10003590-1738494000-1738497600@saintfrancisnecedah.org
SUMMARY:Sunday Mass - (St. Francis) Latin
DESCRIPTION:Latin Mass (Not Extraordinary Form) celebrated at 11:00 am St. Francis of Assisi\, Necedah
URL:https://saintfrancisnecedah.org/event/sunday-mass-st-francis-latin/2025-02-02/
LOCATION:St Francis of Assisi Church\, 2001 S Main St\, Necedah\, WI\, 54646\, United States
ATTACH;FMTTYPE=image/jpeg:https://saintfrancisnecedah.org/wp-content/uploads/2022/12/Outside-church-St.Francis-w.jpg
END:VEVENT
BEGIN:VEVENT
DTSTART;TZID=UTC:20250201T163000
DTEND;TZID=UTC:20250201T173000
DTSTAMP:20260422T171907
CREATED:20231025T201838Z
LAST-MODIFIED:20231025T201838Z
UID:10004371-1738427400-1738431000@saintfrancisnecedah.org
SUMMARY:Saturday Mass (St Francis of Assisi) English
DESCRIPTION:Saturday Evening Mass at St. Francis of Assisi\, Necedah  English Mass 4:30pm
URL:https://saintfrancisnecedah.org/event/saturday-mass-st-francis-of-assisi-english/2025-02-01/
LOCATION:St Francis of Assisi Church\, 2001 S Main St\, Necedah\, WI\, 54646\, United States
ATTACH;FMTTYPE=image/jpeg:https://saintfrancisnecedah.org/wp-content/uploads/2022/12/Outside-church-St.Francis-w.jpg
END:VEVENT
BEGIN:VEVENT
DTSTART;TZID=UTC:20250126T123000
DTEND;TZID=UTC:20250126T133000
DTSTAMP:20260422T171907
CREATED:20231025T201033Z
LAST-MODIFIED:20231025T201322Z
UID:10004109-1737894600-1737898200@saintfrancisnecedah.org
SUMMARY:Sunday Mass (St. Francis of Assisi)  Polish
DESCRIPTION:Sunday Mass at St. Francis of Assisi in Polish 12:30pm
URL:https://saintfrancisnecedah.org/event/sunday-mass-st-francis-of-assisi-polish/2025-01-26/
LOCATION:St Francis of Assisi Church\, 2001 S Main St\, Necedah\, WI\, 54646\, United States
ATTACH;FMTTYPE=image/jpeg:https://saintfrancisnecedah.org/wp-content/uploads/2022/12/Outside-church-St.Francis-w.jpg
END:VEVENT
BEGIN:VEVENT
DTSTART;TZID=UTC:20250126T110000
DTEND;TZID=UTC:20250126T120000
DTSTAMP:20260422T171907
CREATED:20231025T183905Z
LAST-MODIFIED:20250530T191321Z
UID:10003589-1737889200-1737892800@saintfrancisnecedah.org
SUMMARY:Sunday Mass - (St. Francis) Latin
DESCRIPTION:Latin Mass (Not Extraordinary Form) celebrated at 11:00 am St. Francis of Assisi\, Necedah
URL:https://saintfrancisnecedah.org/event/sunday-mass-st-francis-latin/2025-01-26/
LOCATION:St Francis of Assisi Church\, 2001 S Main St\, Necedah\, WI\, 54646\, United States
ATTACH;FMTTYPE=image/jpeg:https://saintfrancisnecedah.org/wp-content/uploads/2022/12/Outside-church-St.Francis-w.jpg
END:VEVENT
BEGIN:VEVENT
DTSTART;TZID=UTC:20250125T163000
DTEND;TZID=UTC:20250125T173000
DTSTAMP:20260422T171907
CREATED:20231025T201838Z
LAST-MODIFIED:20231025T201838Z
UID:10004370-1737822600-1737826200@saintfrancisnecedah.org
SUMMARY:Saturday Mass (St Francis of Assisi) English
DESCRIPTION:Saturday Evening Mass at St. Francis of Assisi\, Necedah  English Mass 4:30pm
URL:https://saintfrancisnecedah.org/event/saturday-mass-st-francis-of-assisi-english/2025-01-25/
LOCATION:St Francis of Assisi Church\, 2001 S Main St\, Necedah\, WI\, 54646\, United States
ATTACH;FMTTYPE=image/jpeg:https://saintfrancisnecedah.org/wp-content/uploads/2022/12/Outside-church-St.Francis-w.jpg
END:VEVENT
BEGIN:VEVENT
DTSTART;TZID=UTC:20250119T123000
DTEND;TZID=UTC:20250119T133000
DTSTAMP:20260422T171907
CREATED:20231025T201033Z
LAST-MODIFIED:20231025T201322Z
UID:10004108-1737289800-1737293400@saintfrancisnecedah.org
SUMMARY:Sunday Mass (St. Francis of Assisi)  Polish
DESCRIPTION:Sunday Mass at St. Francis of Assisi in Polish 12:30pm
URL:https://saintfrancisnecedah.org/event/sunday-mass-st-francis-of-assisi-polish/2025-01-19/
LOCATION:St Francis of Assisi Church\, 2001 S Main St\, Necedah\, WI\, 54646\, United States
ATTACH;FMTTYPE=image/jpeg:https://saintfrancisnecedah.org/wp-content/uploads/2022/12/Outside-church-St.Francis-w.jpg
END:VEVENT
BEGIN:VEVENT
DTSTART;TZID=UTC:20250119T110000
DTEND;TZID=UTC:20250119T120000
DTSTAMP:20260422T171907
CREATED:20231025T183905Z
LAST-MODIFIED:20250530T191321Z
UID:10003588-1737284400-1737288000@saintfrancisnecedah.org
SUMMARY:Sunday Mass - (St. Francis) Latin
DESCRIPTION:Latin Mass (Not Extraordinary Form) celebrated at 11:00 am St. Francis of Assisi\, Necedah
URL:https://saintfrancisnecedah.org/event/sunday-mass-st-francis-latin/2025-01-19/
LOCATION:St Francis of Assisi Church\, 2001 S Main St\, Necedah\, WI\, 54646\, United States
ATTACH;FMTTYPE=image/jpeg:https://saintfrancisnecedah.org/wp-content/uploads/2022/12/Outside-church-St.Francis-w.jpg
END:VEVENT
BEGIN:VEVENT
DTSTART;TZID=UTC:20250118T163000
DTEND;TZID=UTC:20250118T173000
DTSTAMP:20260422T171907
CREATED:20231025T201838Z
LAST-MODIFIED:20231025T201838Z
UID:10004369-1737217800-1737221400@saintfrancisnecedah.org
SUMMARY:Saturday Mass (St Francis of Assisi) English
DESCRIPTION:Saturday Evening Mass at St. Francis of Assisi\, Necedah  English Mass 4:30pm
URL:https://saintfrancisnecedah.org/event/saturday-mass-st-francis-of-assisi-english/2025-01-18/
LOCATION:St Francis of Assisi Church\, 2001 S Main St\, Necedah\, WI\, 54646\, United States
ATTACH;FMTTYPE=image/jpeg:https://saintfrancisnecedah.org/wp-content/uploads/2022/12/Outside-church-St.Francis-w.jpg
END:VEVENT
BEGIN:VEVENT
DTSTART;TZID=UTC:20250112T123000
DTEND;TZID=UTC:20250112T133000
DTSTAMP:20260422T171907
CREATED:20231025T201033Z
LAST-MODIFIED:20231025T201322Z
UID:10004107-1736685000-1736688600@saintfrancisnecedah.org
SUMMARY:Sunday Mass (St. Francis of Assisi)  Polish
DESCRIPTION:Sunday Mass at St. Francis of Assisi in Polish 12:30pm
URL:https://saintfrancisnecedah.org/event/sunday-mass-st-francis-of-assisi-polish/2025-01-12/
LOCATION:St Francis of Assisi Church\, 2001 S Main St\, Necedah\, WI\, 54646\, United States
ATTACH;FMTTYPE=image/jpeg:https://saintfrancisnecedah.org/wp-content/uploads/2022/12/Outside-church-St.Francis-w.jpg
END:VEVENT
BEGIN:VEVENT
DTSTART;TZID=UTC:20250112T110000
DTEND;TZID=UTC:20250112T120000
DTSTAMP:20260422T171907
CREATED:20231025T183905Z
LAST-MODIFIED:20250530T191321Z
UID:10003587-1736679600-1736683200@saintfrancisnecedah.org
SUMMARY:Sunday Mass - (St. Francis) Latin
DESCRIPTION:Latin Mass (Not Extraordinary Form) celebrated at 11:00 am St. Francis of Assisi\, Necedah
URL:https://saintfrancisnecedah.org/event/sunday-mass-st-francis-latin/2025-01-12/
LOCATION:St Francis of Assisi Church\, 2001 S Main St\, Necedah\, WI\, 54646\, United States
ATTACH;FMTTYPE=image/jpeg:https://saintfrancisnecedah.org/wp-content/uploads/2022/12/Outside-church-St.Francis-w.jpg
END:VEVENT
BEGIN:VEVENT
DTSTART;TZID=UTC:20250111T163000
DTEND;TZID=UTC:20250111T173000
DTSTAMP:20260422T171907
CREATED:20231025T201838Z
LAST-MODIFIED:20231025T201838Z
UID:10004368-1736613000-1736616600@saintfrancisnecedah.org
SUMMARY:Saturday Mass (St Francis of Assisi) English
DESCRIPTION:Saturday Evening Mass at St. Francis of Assisi\, Necedah  English Mass 4:30pm
URL:https://saintfrancisnecedah.org/event/saturday-mass-st-francis-of-assisi-english/2025-01-11/
LOCATION:St Francis of Assisi Church\, 2001 S Main St\, Necedah\, WI\, 54646\, United States
ATTACH;FMTTYPE=image/jpeg:https://saintfrancisnecedah.org/wp-content/uploads/2022/12/Outside-church-St.Francis-w.jpg
END:VEVENT
BEGIN:VEVENT
DTSTART;TZID=UTC:20250105T123000
DTEND;TZID=UTC:20250105T133000
DTSTAMP:20260422T171907
CREATED:20231025T201033Z
LAST-MODIFIED:20231025T201322Z
UID:10004106-1736080200-1736083800@saintfrancisnecedah.org
SUMMARY:Sunday Mass (St. Francis of Assisi)  Polish
DESCRIPTION:Sunday Mass at St. Francis of Assisi in Polish 12:30pm
URL:https://saintfrancisnecedah.org/event/sunday-mass-st-francis-of-assisi-polish/2025-01-05/
LOCATION:St Francis of Assisi Church\, 2001 S Main St\, Necedah\, WI\, 54646\, United States
ATTACH;FMTTYPE=image/jpeg:https://saintfrancisnecedah.org/wp-content/uploads/2022/12/Outside-church-St.Francis-w.jpg
END:VEVENT
BEGIN:VEVENT
DTSTART;TZID=UTC:20250105T110000
DTEND;TZID=UTC:20250105T120000
DTSTAMP:20260422T171907
CREATED:20231025T183905Z
LAST-MODIFIED:20250530T191321Z
UID:10003586-1736074800-1736078400@saintfrancisnecedah.org
SUMMARY:Sunday Mass - (St. Francis) Latin
DESCRIPTION:Latin Mass (Not Extraordinary Form) celebrated at 11:00 am St. Francis of Assisi\, Necedah
URL:https://saintfrancisnecedah.org/event/sunday-mass-st-francis-latin/2025-01-05/
LOCATION:St Francis of Assisi Church\, 2001 S Main St\, Necedah\, WI\, 54646\, United States
ATTACH;FMTTYPE=image/jpeg:https://saintfrancisnecedah.org/wp-content/uploads/2022/12/Outside-church-St.Francis-w.jpg
END:VEVENT
BEGIN:VEVENT
DTSTART;TZID=UTC:20250104T163000
DTEND;TZID=UTC:20250104T173000
DTSTAMP:20260422T171907
CREATED:20231025T201838Z
LAST-MODIFIED:20231025T201838Z
UID:10004367-1736008200-1736011800@saintfrancisnecedah.org
SUMMARY:Saturday Mass (St Francis of Assisi) English
DESCRIPTION:Saturday Evening Mass at St. Francis of Assisi\, Necedah  English Mass 4:30pm
URL:https://saintfrancisnecedah.org/event/saturday-mass-st-francis-of-assisi-english/2025-01-04/
LOCATION:St Francis of Assisi Church\, 2001 S Main St\, Necedah\, WI\, 54646\, United States
ATTACH;FMTTYPE=image/jpeg:https://saintfrancisnecedah.org/wp-content/uploads/2022/12/Outside-church-St.Francis-w.jpg
END:VEVENT
BEGIN:VEVENT
DTSTART;TZID=UTC:20241229T123000
DTEND;TZID=UTC:20241229T133000
DTSTAMP:20260422T171907
CREATED:20231025T201033Z
LAST-MODIFIED:20231025T201322Z
UID:10004105-1735475400-1735479000@saintfrancisnecedah.org
SUMMARY:Sunday Mass (St. Francis of Assisi)  Polish
DESCRIPTION:Sunday Mass at St. Francis of Assisi in Polish 12:30pm
URL:https://saintfrancisnecedah.org/event/sunday-mass-st-francis-of-assisi-polish/2024-12-29/
LOCATION:St Francis of Assisi Church\, 2001 S Main St\, Necedah\, WI\, 54646\, United States
ATTACH;FMTTYPE=image/jpeg:https://saintfrancisnecedah.org/wp-content/uploads/2022/12/Outside-church-St.Francis-w.jpg
END:VEVENT
BEGIN:VEVENT
DTSTART;TZID=UTC:20241229T110000
DTEND;TZID=UTC:20241229T120000
DTSTAMP:20260422T171907
CREATED:20231025T183905Z
LAST-MODIFIED:20250530T191321Z
UID:10003585-1735470000-1735473600@saintfrancisnecedah.org
SUMMARY:Sunday Mass - (St. Francis) Latin
DESCRIPTION:Latin Mass (Not Extraordinary Form) celebrated at 11:00 am St. Francis of Assisi\, Necedah
URL:https://saintfrancisnecedah.org/event/sunday-mass-st-francis-latin/2024-12-29/
LOCATION:St Francis of Assisi Church\, 2001 S Main St\, Necedah\, WI\, 54646\, United States
ATTACH;FMTTYPE=image/jpeg:https://saintfrancisnecedah.org/wp-content/uploads/2022/12/Outside-church-St.Francis-w.jpg
END:VEVENT
END:VCALENDAR