BEGIN:VCALENDAR
VERSION:2.0
PRODID:-//Saint Francis Of Assisi / Roman Catholic Church - ECPv6.15.6//NONSGML v1.0//EN
CALSCALE:GREGORIAN
METHOD:PUBLISH
X-ORIGINAL-URL:https://saintfrancisnecedah.org
X-WR-CALDESC:Events for Saint Francis Of Assisi / Roman Catholic Church
REFRESH-INTERVAL;VALUE=DURATION:PT1H
X-Robots-Tag:noindex
X-PUBLISHED-TTL:PT1H
BEGIN:VTIMEZONE
TZID:UTC
BEGIN:STANDARD
TZOFFSETFROM:+0000
TZOFFSETTO:+0000
TZNAME:UTC
DTSTART:20230101T000000
END:STANDARD
END:VTIMEZONE
BEGIN:VEVENT
DTSTART;TZID=UTC:20240914T163000
DTEND;TZID=UTC:20240914T173000
DTSTAMP:20260423T194730
CREATED:20231025T201838Z
LAST-MODIFIED:20231025T201838Z
UID:10004351-1726331400-1726335000@saintfrancisnecedah.org
SUMMARY:Saturday Mass (St Francis of Assisi) English
DESCRIPTION:Saturday Evening Mass at St. Francis of Assisi\, Necedah  English Mass 4:30pm
URL:https://saintfrancisnecedah.org/event/saturday-mass-st-francis-of-assisi-english/2024-09-14/
LOCATION:St Francis of Assisi Church\, 2001 S Main St\, Necedah\, WI\, 54646\, United States
ATTACH;FMTTYPE=image/jpeg:https://saintfrancisnecedah.org/wp-content/uploads/2022/12/Outside-church-St.Francis-w.jpg
END:VEVENT
BEGIN:VEVENT
DTSTART;TZID=UTC:20240908T123000
DTEND;TZID=UTC:20240908T133000
DTSTAMP:20260423T194730
CREATED:20231025T201033Z
LAST-MODIFIED:20231025T201322Z
UID:10004089-1725798600-1725802200@saintfrancisnecedah.org
SUMMARY:Sunday Mass (St. Francis of Assisi)  Polish
DESCRIPTION:Sunday Mass at St. Francis of Assisi in Polish 12:30pm
URL:https://saintfrancisnecedah.org/event/sunday-mass-st-francis-of-assisi-polish/2024-09-08/
LOCATION:St Francis of Assisi Church\, 2001 S Main St\, Necedah\, WI\, 54646\, United States
ATTACH;FMTTYPE=image/jpeg:https://saintfrancisnecedah.org/wp-content/uploads/2022/12/Outside-church-St.Francis-w.jpg
END:VEVENT
BEGIN:VEVENT
DTSTART;TZID=UTC:20240908T110000
DTEND;TZID=UTC:20240908T120000
DTSTAMP:20260423T194730
CREATED:20231025T183905Z
LAST-MODIFIED:20250530T191321Z
UID:10003569-1725793200-1725796800@saintfrancisnecedah.org
SUMMARY:Sunday Mass - (St. Francis) Latin
DESCRIPTION:Latin Mass (Not Extraordinary Form) celebrated at 11:00 am St. Francis of Assisi\, Necedah
URL:https://saintfrancisnecedah.org/event/sunday-mass-st-francis-latin/2024-09-08/
LOCATION:St Francis of Assisi Church\, 2001 S Main St\, Necedah\, WI\, 54646\, United States
ATTACH;FMTTYPE=image/jpeg:https://saintfrancisnecedah.org/wp-content/uploads/2022/12/Outside-church-St.Francis-w.jpg
END:VEVENT
BEGIN:VEVENT
DTSTART;TZID=UTC:20240907T163000
DTEND;TZID=UTC:20240907T173000
DTSTAMP:20260423T194730
CREATED:20231025T201838Z
LAST-MODIFIED:20231025T201838Z
UID:10004350-1725726600-1725730200@saintfrancisnecedah.org
SUMMARY:Saturday Mass (St Francis of Assisi) English
DESCRIPTION:Saturday Evening Mass at St. Francis of Assisi\, Necedah  English Mass 4:30pm
URL:https://saintfrancisnecedah.org/event/saturday-mass-st-francis-of-assisi-english/2024-09-07/
LOCATION:St Francis of Assisi Church\, 2001 S Main St\, Necedah\, WI\, 54646\, United States
ATTACH;FMTTYPE=image/jpeg:https://saintfrancisnecedah.org/wp-content/uploads/2022/12/Outside-church-St.Francis-w.jpg
END:VEVENT
BEGIN:VEVENT
DTSTART;TZID=UTC:20240901T123000
DTEND;TZID=UTC:20240901T133000
DTSTAMP:20260423T194730
CREATED:20231025T201033Z
LAST-MODIFIED:20231025T201322Z
UID:10004088-1725193800-1725197400@saintfrancisnecedah.org
SUMMARY:Sunday Mass (St. Francis of Assisi)  Polish
DESCRIPTION:Sunday Mass at St. Francis of Assisi in Polish 12:30pm
URL:https://saintfrancisnecedah.org/event/sunday-mass-st-francis-of-assisi-polish/2024-09-01/
LOCATION:St Francis of Assisi Church\, 2001 S Main St\, Necedah\, WI\, 54646\, United States
ATTACH;FMTTYPE=image/jpeg:https://saintfrancisnecedah.org/wp-content/uploads/2022/12/Outside-church-St.Francis-w.jpg
END:VEVENT
BEGIN:VEVENT
DTSTART;TZID=UTC:20240901T110000
DTEND;TZID=UTC:20240901T120000
DTSTAMP:20260423T194730
CREATED:20231025T183905Z
LAST-MODIFIED:20250530T191321Z
UID:10003568-1725188400-1725192000@saintfrancisnecedah.org
SUMMARY:Sunday Mass - (St. Francis) Latin
DESCRIPTION:Latin Mass (Not Extraordinary Form) celebrated at 11:00 am St. Francis of Assisi\, Necedah
URL:https://saintfrancisnecedah.org/event/sunday-mass-st-francis-latin/2024-09-01/
LOCATION:St Francis of Assisi Church\, 2001 S Main St\, Necedah\, WI\, 54646\, United States
ATTACH;FMTTYPE=image/jpeg:https://saintfrancisnecedah.org/wp-content/uploads/2022/12/Outside-church-St.Francis-w.jpg
END:VEVENT
BEGIN:VEVENT
DTSTART;TZID=UTC:20240831T163000
DTEND;TZID=UTC:20240831T173000
DTSTAMP:20260423T194730
CREATED:20231025T201838Z
LAST-MODIFIED:20231025T201838Z
UID:10004349-1725121800-1725125400@saintfrancisnecedah.org
SUMMARY:Saturday Mass (St Francis of Assisi) English
DESCRIPTION:Saturday Evening Mass at St. Francis of Assisi\, Necedah  English Mass 4:30pm
URL:https://saintfrancisnecedah.org/event/saturday-mass-st-francis-of-assisi-english/2024-08-31/
LOCATION:St Francis of Assisi Church\, 2001 S Main St\, Necedah\, WI\, 54646\, United States
ATTACH;FMTTYPE=image/jpeg:https://saintfrancisnecedah.org/wp-content/uploads/2022/12/Outside-church-St.Francis-w.jpg
END:VEVENT
BEGIN:VEVENT
DTSTART;TZID=UTC:20240825T123000
DTEND;TZID=UTC:20240825T133000
DTSTAMP:20260423T194730
CREATED:20231025T201033Z
LAST-MODIFIED:20231025T201322Z
UID:10004087-1724589000-1724592600@saintfrancisnecedah.org
SUMMARY:Sunday Mass (St. Francis of Assisi)  Polish
DESCRIPTION:Sunday Mass at St. Francis of Assisi in Polish 12:30pm
URL:https://saintfrancisnecedah.org/event/sunday-mass-st-francis-of-assisi-polish/2024-08-25/
LOCATION:St Francis of Assisi Church\, 2001 S Main St\, Necedah\, WI\, 54646\, United States
ATTACH;FMTTYPE=image/jpeg:https://saintfrancisnecedah.org/wp-content/uploads/2022/12/Outside-church-St.Francis-w.jpg
END:VEVENT
BEGIN:VEVENT
DTSTART;TZID=UTC:20240825T110000
DTEND;TZID=UTC:20240825T120000
DTSTAMP:20260423T194730
CREATED:20231025T183905Z
LAST-MODIFIED:20250530T191321Z
UID:10003567-1724583600-1724587200@saintfrancisnecedah.org
SUMMARY:Sunday Mass - (St. Francis) Latin
DESCRIPTION:Latin Mass (Not Extraordinary Form) celebrated at 11:00 am St. Francis of Assisi\, Necedah
URL:https://saintfrancisnecedah.org/event/sunday-mass-st-francis-latin/2024-08-25/
LOCATION:St Francis of Assisi Church\, 2001 S Main St\, Necedah\, WI\, 54646\, United States
ATTACH;FMTTYPE=image/jpeg:https://saintfrancisnecedah.org/wp-content/uploads/2022/12/Outside-church-St.Francis-w.jpg
END:VEVENT
BEGIN:VEVENT
DTSTART;TZID=UTC:20240824T163000
DTEND;TZID=UTC:20240824T173000
DTSTAMP:20260423T194730
CREATED:20231025T201838Z
LAST-MODIFIED:20231025T201838Z
UID:10004348-1724517000-1724520600@saintfrancisnecedah.org
SUMMARY:Saturday Mass (St Francis of Assisi) English
DESCRIPTION:Saturday Evening Mass at St. Francis of Assisi\, Necedah  English Mass 4:30pm
URL:https://saintfrancisnecedah.org/event/saturday-mass-st-francis-of-assisi-english/2024-08-24/
LOCATION:St Francis of Assisi Church\, 2001 S Main St\, Necedah\, WI\, 54646\, United States
ATTACH;FMTTYPE=image/jpeg:https://saintfrancisnecedah.org/wp-content/uploads/2022/12/Outside-church-St.Francis-w.jpg
END:VEVENT
BEGIN:VEVENT
DTSTART;TZID=UTC:20240818T123000
DTEND;TZID=UTC:20240818T133000
DTSTAMP:20260423T194730
CREATED:20231025T201033Z
LAST-MODIFIED:20231025T201322Z
UID:10004086-1723984200-1723987800@saintfrancisnecedah.org
SUMMARY:Sunday Mass (St. Francis of Assisi)  Polish
DESCRIPTION:Sunday Mass at St. Francis of Assisi in Polish 12:30pm
URL:https://saintfrancisnecedah.org/event/sunday-mass-st-francis-of-assisi-polish/2024-08-18/
LOCATION:St Francis of Assisi Church\, 2001 S Main St\, Necedah\, WI\, 54646\, United States
ATTACH;FMTTYPE=image/jpeg:https://saintfrancisnecedah.org/wp-content/uploads/2022/12/Outside-church-St.Francis-w.jpg
END:VEVENT
BEGIN:VEVENT
DTSTART;TZID=UTC:20240818T110000
DTEND;TZID=UTC:20240818T120000
DTSTAMP:20260423T194730
CREATED:20231025T183905Z
LAST-MODIFIED:20250530T191321Z
UID:10003566-1723978800-1723982400@saintfrancisnecedah.org
SUMMARY:Sunday Mass - (St. Francis) Latin
DESCRIPTION:Latin Mass (Not Extraordinary Form) celebrated at 11:00 am St. Francis of Assisi\, Necedah
URL:https://saintfrancisnecedah.org/event/sunday-mass-st-francis-latin/2024-08-18/
LOCATION:St Francis of Assisi Church\, 2001 S Main St\, Necedah\, WI\, 54646\, United States
ATTACH;FMTTYPE=image/jpeg:https://saintfrancisnecedah.org/wp-content/uploads/2022/12/Outside-church-St.Francis-w.jpg
END:VEVENT
BEGIN:VEVENT
DTSTART;TZID=UTC:20240817T163000
DTEND;TZID=UTC:20240817T173000
DTSTAMP:20260423T194730
CREATED:20231025T201838Z
LAST-MODIFIED:20231025T201838Z
UID:10004347-1723912200-1723915800@saintfrancisnecedah.org
SUMMARY:Saturday Mass (St Francis of Assisi) English
DESCRIPTION:Saturday Evening Mass at St. Francis of Assisi\, Necedah  English Mass 4:30pm
URL:https://saintfrancisnecedah.org/event/saturday-mass-st-francis-of-assisi-english/2024-08-17/
LOCATION:St Francis of Assisi Church\, 2001 S Main St\, Necedah\, WI\, 54646\, United States
ATTACH;FMTTYPE=image/jpeg:https://saintfrancisnecedah.org/wp-content/uploads/2022/12/Outside-church-St.Francis-w.jpg
END:VEVENT
BEGIN:VEVENT
DTSTART;TZID=UTC:20240811T123000
DTEND;TZID=UTC:20240811T133000
DTSTAMP:20260423T194730
CREATED:20231025T201033Z
LAST-MODIFIED:20231025T201322Z
UID:10004085-1723379400-1723383000@saintfrancisnecedah.org
SUMMARY:Sunday Mass (St. Francis of Assisi)  Polish
DESCRIPTION:Sunday Mass at St. Francis of Assisi in Polish 12:30pm
URL:https://saintfrancisnecedah.org/event/sunday-mass-st-francis-of-assisi-polish/2024-08-11/
LOCATION:St Francis of Assisi Church\, 2001 S Main St\, Necedah\, WI\, 54646\, United States
ATTACH;FMTTYPE=image/jpeg:https://saintfrancisnecedah.org/wp-content/uploads/2022/12/Outside-church-St.Francis-w.jpg
END:VEVENT
BEGIN:VEVENT
DTSTART;TZID=UTC:20240811T110000
DTEND;TZID=UTC:20240811T120000
DTSTAMP:20260423T194730
CREATED:20231025T183905Z
LAST-MODIFIED:20250530T191321Z
UID:10003565-1723374000-1723377600@saintfrancisnecedah.org
SUMMARY:Sunday Mass - (St. Francis) Latin
DESCRIPTION:Latin Mass (Not Extraordinary Form) celebrated at 11:00 am St. Francis of Assisi\, Necedah
URL:https://saintfrancisnecedah.org/event/sunday-mass-st-francis-latin/2024-08-11/
LOCATION:St Francis of Assisi Church\, 2001 S Main St\, Necedah\, WI\, 54646\, United States
ATTACH;FMTTYPE=image/jpeg:https://saintfrancisnecedah.org/wp-content/uploads/2022/12/Outside-church-St.Francis-w.jpg
END:VEVENT
BEGIN:VEVENT
DTSTART;TZID=UTC:20240810T163000
DTEND;TZID=UTC:20240810T173000
DTSTAMP:20260423T194730
CREATED:20231025T201838Z
LAST-MODIFIED:20231025T201838Z
UID:10004346-1723307400-1723311000@saintfrancisnecedah.org
SUMMARY:Saturday Mass (St Francis of Assisi) English
DESCRIPTION:Saturday Evening Mass at St. Francis of Assisi\, Necedah  English Mass 4:30pm
URL:https://saintfrancisnecedah.org/event/saturday-mass-st-francis-of-assisi-english/2024-08-10/
LOCATION:St Francis of Assisi Church\, 2001 S Main St\, Necedah\, WI\, 54646\, United States
ATTACH;FMTTYPE=image/jpeg:https://saintfrancisnecedah.org/wp-content/uploads/2022/12/Outside-church-St.Francis-w.jpg
END:VEVENT
BEGIN:VEVENT
DTSTART;TZID=UTC:20240804T123000
DTEND;TZID=UTC:20240804T133000
DTSTAMP:20260423T194730
CREATED:20231025T201033Z
LAST-MODIFIED:20231025T201322Z
UID:10004084-1722774600-1722778200@saintfrancisnecedah.org
SUMMARY:Sunday Mass (St. Francis of Assisi)  Polish
DESCRIPTION:Sunday Mass at St. Francis of Assisi in Polish 12:30pm
URL:https://saintfrancisnecedah.org/event/sunday-mass-st-francis-of-assisi-polish/2024-08-04/
LOCATION:St Francis of Assisi Church\, 2001 S Main St\, Necedah\, WI\, 54646\, United States
ATTACH;FMTTYPE=image/jpeg:https://saintfrancisnecedah.org/wp-content/uploads/2022/12/Outside-church-St.Francis-w.jpg
END:VEVENT
BEGIN:VEVENT
DTSTART;TZID=UTC:20240804T110000
DTEND;TZID=UTC:20240804T120000
DTSTAMP:20260423T194730
CREATED:20231025T183905Z
LAST-MODIFIED:20250530T191321Z
UID:10003564-1722769200-1722772800@saintfrancisnecedah.org
SUMMARY:Sunday Mass - (St. Francis) Latin
DESCRIPTION:Latin Mass (Not Extraordinary Form) celebrated at 11:00 am St. Francis of Assisi\, Necedah
URL:https://saintfrancisnecedah.org/event/sunday-mass-st-francis-latin/2024-08-04/
LOCATION:St Francis of Assisi Church\, 2001 S Main St\, Necedah\, WI\, 54646\, United States
ATTACH;FMTTYPE=image/jpeg:https://saintfrancisnecedah.org/wp-content/uploads/2022/12/Outside-church-St.Francis-w.jpg
END:VEVENT
BEGIN:VEVENT
DTSTART;TZID=UTC:20240803T163000
DTEND;TZID=UTC:20240803T173000
DTSTAMP:20260423T194730
CREATED:20231025T201838Z
LAST-MODIFIED:20231025T201838Z
UID:10004345-1722702600-1722706200@saintfrancisnecedah.org
SUMMARY:Saturday Mass (St Francis of Assisi) English
DESCRIPTION:Saturday Evening Mass at St. Francis of Assisi\, Necedah  English Mass 4:30pm
URL:https://saintfrancisnecedah.org/event/saturday-mass-st-francis-of-assisi-english/2024-08-03/
LOCATION:St Francis of Assisi Church\, 2001 S Main St\, Necedah\, WI\, 54646\, United States
ATTACH;FMTTYPE=image/jpeg:https://saintfrancisnecedah.org/wp-content/uploads/2022/12/Outside-church-St.Francis-w.jpg
END:VEVENT
BEGIN:VEVENT
DTSTART;TZID=UTC:20240728T123000
DTEND;TZID=UTC:20240728T133000
DTSTAMP:20260423T194730
CREATED:20231025T201033Z
LAST-MODIFIED:20231025T201322Z
UID:10004083-1722169800-1722173400@saintfrancisnecedah.org
SUMMARY:Sunday Mass (St. Francis of Assisi)  Polish
DESCRIPTION:Sunday Mass at St. Francis of Assisi in Polish 12:30pm
URL:https://saintfrancisnecedah.org/event/sunday-mass-st-francis-of-assisi-polish/2024-07-28/
LOCATION:St Francis of Assisi Church\, 2001 S Main St\, Necedah\, WI\, 54646\, United States
ATTACH;FMTTYPE=image/jpeg:https://saintfrancisnecedah.org/wp-content/uploads/2022/12/Outside-church-St.Francis-w.jpg
END:VEVENT
BEGIN:VEVENT
DTSTART;TZID=UTC:20240728T110000
DTEND;TZID=UTC:20240728T120000
DTSTAMP:20260423T194730
CREATED:20231025T183905Z
LAST-MODIFIED:20250530T191321Z
UID:10003563-1722164400-1722168000@saintfrancisnecedah.org
SUMMARY:Sunday Mass - (St. Francis) Latin
DESCRIPTION:Latin Mass (Not Extraordinary Form) celebrated at 11:00 am St. Francis of Assisi\, Necedah
URL:https://saintfrancisnecedah.org/event/sunday-mass-st-francis-latin/2024-07-28/
LOCATION:St Francis of Assisi Church\, 2001 S Main St\, Necedah\, WI\, 54646\, United States
ATTACH;FMTTYPE=image/jpeg:https://saintfrancisnecedah.org/wp-content/uploads/2022/12/Outside-church-St.Francis-w.jpg
END:VEVENT
BEGIN:VEVENT
DTSTART;TZID=UTC:20240727T163000
DTEND;TZID=UTC:20240727T173000
DTSTAMP:20260423T194730
CREATED:20231025T201838Z
LAST-MODIFIED:20231025T201838Z
UID:10004344-1722097800-1722101400@saintfrancisnecedah.org
SUMMARY:Saturday Mass (St Francis of Assisi) English
DESCRIPTION:Saturday Evening Mass at St. Francis of Assisi\, Necedah  English Mass 4:30pm
URL:https://saintfrancisnecedah.org/event/saturday-mass-st-francis-of-assisi-english/2024-07-27/
LOCATION:St Francis of Assisi Church\, 2001 S Main St\, Necedah\, WI\, 54646\, United States
ATTACH;FMTTYPE=image/jpeg:https://saintfrancisnecedah.org/wp-content/uploads/2022/12/Outside-church-St.Francis-w.jpg
END:VEVENT
BEGIN:VEVENT
DTSTART;TZID=UTC:20240721T123000
DTEND;TZID=UTC:20240721T133000
DTSTAMP:20260423T194730
CREATED:20231025T201033Z
LAST-MODIFIED:20231025T201322Z
UID:10004082-1721565000-1721568600@saintfrancisnecedah.org
SUMMARY:Sunday Mass (St. Francis of Assisi)  Polish
DESCRIPTION:Sunday Mass at St. Francis of Assisi in Polish 12:30pm
URL:https://saintfrancisnecedah.org/event/sunday-mass-st-francis-of-assisi-polish/2024-07-21/
LOCATION:St Francis of Assisi Church\, 2001 S Main St\, Necedah\, WI\, 54646\, United States
ATTACH;FMTTYPE=image/jpeg:https://saintfrancisnecedah.org/wp-content/uploads/2022/12/Outside-church-St.Francis-w.jpg
END:VEVENT
BEGIN:VEVENT
DTSTART;TZID=UTC:20240721T110000
DTEND;TZID=UTC:20240721T120000
DTSTAMP:20260423T194730
CREATED:20231025T183905Z
LAST-MODIFIED:20250530T191321Z
UID:10003562-1721559600-1721563200@saintfrancisnecedah.org
SUMMARY:Sunday Mass - (St. Francis) Latin
DESCRIPTION:Latin Mass (Not Extraordinary Form) celebrated at 11:00 am St. Francis of Assisi\, Necedah
URL:https://saintfrancisnecedah.org/event/sunday-mass-st-francis-latin/2024-07-21/
LOCATION:St Francis of Assisi Church\, 2001 S Main St\, Necedah\, WI\, 54646\, United States
ATTACH;FMTTYPE=image/jpeg:https://saintfrancisnecedah.org/wp-content/uploads/2022/12/Outside-church-St.Francis-w.jpg
END:VEVENT
BEGIN:VEVENT
DTSTART;TZID=UTC:20240720T163000
DTEND;TZID=UTC:20240720T173000
DTSTAMP:20260423T194730
CREATED:20231025T201838Z
LAST-MODIFIED:20231025T201838Z
UID:10004343-1721493000-1721496600@saintfrancisnecedah.org
SUMMARY:Saturday Mass (St Francis of Assisi) English
DESCRIPTION:Saturday Evening Mass at St. Francis of Assisi\, Necedah  English Mass 4:30pm
URL:https://saintfrancisnecedah.org/event/saturday-mass-st-francis-of-assisi-english/2024-07-20/
LOCATION:St Francis of Assisi Church\, 2001 S Main St\, Necedah\, WI\, 54646\, United States
ATTACH;FMTTYPE=image/jpeg:https://saintfrancisnecedah.org/wp-content/uploads/2022/12/Outside-church-St.Francis-w.jpg
END:VEVENT
BEGIN:VEVENT
DTSTART;TZID=UTC:20240714T123000
DTEND;TZID=UTC:20240714T133000
DTSTAMP:20260423T194730
CREATED:20231025T201033Z
LAST-MODIFIED:20231025T201322Z
UID:10004081-1720960200-1720963800@saintfrancisnecedah.org
SUMMARY:Sunday Mass (St. Francis of Assisi)  Polish
DESCRIPTION:Sunday Mass at St. Francis of Assisi in Polish 12:30pm
URL:https://saintfrancisnecedah.org/event/sunday-mass-st-francis-of-assisi-polish/2024-07-14/
LOCATION:St Francis of Assisi Church\, 2001 S Main St\, Necedah\, WI\, 54646\, United States
ATTACH;FMTTYPE=image/jpeg:https://saintfrancisnecedah.org/wp-content/uploads/2022/12/Outside-church-St.Francis-w.jpg
END:VEVENT
BEGIN:VEVENT
DTSTART;TZID=UTC:20240714T110000
DTEND;TZID=UTC:20240714T120000
DTSTAMP:20260423T194730
CREATED:20231025T183905Z
LAST-MODIFIED:20250530T191321Z
UID:10003561-1720954800-1720958400@saintfrancisnecedah.org
SUMMARY:Sunday Mass - (St. Francis) Latin
DESCRIPTION:Latin Mass (Not Extraordinary Form) celebrated at 11:00 am St. Francis of Assisi\, Necedah
URL:https://saintfrancisnecedah.org/event/sunday-mass-st-francis-latin/2024-07-14/
LOCATION:St Francis of Assisi Church\, 2001 S Main St\, Necedah\, WI\, 54646\, United States
ATTACH;FMTTYPE=image/jpeg:https://saintfrancisnecedah.org/wp-content/uploads/2022/12/Outside-church-St.Francis-w.jpg
END:VEVENT
BEGIN:VEVENT
DTSTART;TZID=UTC:20240713T163000
DTEND;TZID=UTC:20240713T173000
DTSTAMP:20260423T194731
CREATED:20231025T201838Z
LAST-MODIFIED:20231025T201838Z
UID:10004342-1720888200-1720891800@saintfrancisnecedah.org
SUMMARY:Saturday Mass (St Francis of Assisi) English
DESCRIPTION:Saturday Evening Mass at St. Francis of Assisi\, Necedah  English Mass 4:30pm
URL:https://saintfrancisnecedah.org/event/saturday-mass-st-francis-of-assisi-english/2024-07-13/
LOCATION:St Francis of Assisi Church\, 2001 S Main St\, Necedah\, WI\, 54646\, United States
ATTACH;FMTTYPE=image/jpeg:https://saintfrancisnecedah.org/wp-content/uploads/2022/12/Outside-church-St.Francis-w.jpg
END:VEVENT
BEGIN:VEVENT
DTSTART;TZID=UTC:20240707T123000
DTEND;TZID=UTC:20240707T133000
DTSTAMP:20260423T194731
CREATED:20231025T201033Z
LAST-MODIFIED:20231025T201322Z
UID:10004080-1720355400-1720359000@saintfrancisnecedah.org
SUMMARY:Sunday Mass (St. Francis of Assisi)  Polish
DESCRIPTION:Sunday Mass at St. Francis of Assisi in Polish 12:30pm
URL:https://saintfrancisnecedah.org/event/sunday-mass-st-francis-of-assisi-polish/2024-07-07/
LOCATION:St Francis of Assisi Church\, 2001 S Main St\, Necedah\, WI\, 54646\, United States
ATTACH;FMTTYPE=image/jpeg:https://saintfrancisnecedah.org/wp-content/uploads/2022/12/Outside-church-St.Francis-w.jpg
END:VEVENT
BEGIN:VEVENT
DTSTART;TZID=UTC:20240707T110000
DTEND;TZID=UTC:20240707T120000
DTSTAMP:20260423T194731
CREATED:20231025T183905Z
LAST-MODIFIED:20250530T191321Z
UID:10003560-1720350000-1720353600@saintfrancisnecedah.org
SUMMARY:Sunday Mass - (St. Francis) Latin
DESCRIPTION:Latin Mass (Not Extraordinary Form) celebrated at 11:00 am St. Francis of Assisi\, Necedah
URL:https://saintfrancisnecedah.org/event/sunday-mass-st-francis-latin/2024-07-07/
LOCATION:St Francis of Assisi Church\, 2001 S Main St\, Necedah\, WI\, 54646\, United States
ATTACH;FMTTYPE=image/jpeg:https://saintfrancisnecedah.org/wp-content/uploads/2022/12/Outside-church-St.Francis-w.jpg
END:VEVENT
END:VCALENDAR