BEGIN:VCALENDAR
VERSION:2.0
PRODID:-//Saint Francis Of Assisi / Roman Catholic Church - ECPv6.15.6//NONSGML v1.0//EN
CALSCALE:GREGORIAN
METHOD:PUBLISH
X-ORIGINAL-URL:https://saintfrancisnecedah.org
X-WR-CALDESC:Events for Saint Francis Of Assisi / Roman Catholic Church
REFRESH-INTERVAL;VALUE=DURATION:PT1H
X-Robots-Tag:noindex
X-PUBLISHED-TTL:PT1H
BEGIN:VTIMEZONE
TZID:UTC
BEGIN:STANDARD
TZOFFSETFROM:+0000
TZOFFSETTO:+0000
TZNAME:UTC
DTSTART:20220101T000000
END:STANDARD
END:VTIMEZONE
BEGIN:VEVENT
DTSTART;TZID=UTC:20240217T163000
DTEND;TZID=UTC:20240217T173000
DTSTAMP:20260425T035304
CREATED:20231025T201838Z
LAST-MODIFIED:20231025T201838Z
UID:10004321-1708187400-1708191000@saintfrancisnecedah.org
SUMMARY:Saturday Mass (St Francis of Assisi) English
DESCRIPTION:Saturday Evening Mass at St. Francis of Assisi\, Necedah  English Mass 4:30pm
URL:https://saintfrancisnecedah.org/event/saturday-mass-st-francis-of-assisi-english/2024-02-17/
LOCATION:St Francis of Assisi Church\, 2001 S Main St\, Necedah\, WI\, 54646\, United States
ATTACH;FMTTYPE=image/jpeg:https://saintfrancisnecedah.org/wp-content/uploads/2022/12/Outside-church-St.Francis-w.jpg
END:VEVENT
BEGIN:VEVENT
DTSTART;TZID=UTC:20240211T123000
DTEND;TZID=UTC:20240211T133000
DTSTAMP:20260425T035304
CREATED:20231025T201033Z
LAST-MODIFIED:20231025T201322Z
UID:10004059-1707654600-1707658200@saintfrancisnecedah.org
SUMMARY:Sunday Mass (St. Francis of Assisi)  Polish
DESCRIPTION:Sunday Mass at St. Francis of Assisi in Polish 12:30pm
URL:https://saintfrancisnecedah.org/event/sunday-mass-st-francis-of-assisi-polish/2024-02-11/
LOCATION:St Francis of Assisi Church\, 2001 S Main St\, Necedah\, WI\, 54646\, United States
ATTACH;FMTTYPE=image/jpeg:https://saintfrancisnecedah.org/wp-content/uploads/2022/12/Outside-church-St.Francis-w.jpg
END:VEVENT
BEGIN:VEVENT
DTSTART;TZID=UTC:20240211T110000
DTEND;TZID=UTC:20240211T120000
DTSTAMP:20260425T035304
CREATED:20231025T183905Z
LAST-MODIFIED:20250530T191321Z
UID:10003539-1707649200-1707652800@saintfrancisnecedah.org
SUMMARY:Sunday Mass - (St. Francis) Latin
DESCRIPTION:Latin Mass (Not Extraordinary Form) celebrated at 11:00 am St. Francis of Assisi\, Necedah
URL:https://saintfrancisnecedah.org/event/sunday-mass-st-francis-latin/2024-02-11/
LOCATION:St Francis of Assisi Church\, 2001 S Main St\, Necedah\, WI\, 54646\, United States
ATTACH;FMTTYPE=image/jpeg:https://saintfrancisnecedah.org/wp-content/uploads/2022/12/Outside-church-St.Francis-w.jpg
END:VEVENT
BEGIN:VEVENT
DTSTART;TZID=UTC:20240210T163000
DTEND;TZID=UTC:20240210T173000
DTSTAMP:20260425T035304
CREATED:20231025T201838Z
LAST-MODIFIED:20231025T201838Z
UID:10004320-1707582600-1707586200@saintfrancisnecedah.org
SUMMARY:Saturday Mass (St Francis of Assisi) English
DESCRIPTION:Saturday Evening Mass at St. Francis of Assisi\, Necedah  English Mass 4:30pm
URL:https://saintfrancisnecedah.org/event/saturday-mass-st-francis-of-assisi-english/2024-02-10/
LOCATION:St Francis of Assisi Church\, 2001 S Main St\, Necedah\, WI\, 54646\, United States
ATTACH;FMTTYPE=image/jpeg:https://saintfrancisnecedah.org/wp-content/uploads/2022/12/Outside-church-St.Francis-w.jpg
END:VEVENT
BEGIN:VEVENT
DTSTART;TZID=UTC:20240204T123000
DTEND;TZID=UTC:20240204T133000
DTSTAMP:20260425T035304
CREATED:20231025T201033Z
LAST-MODIFIED:20231025T201322Z
UID:10004058-1707049800-1707053400@saintfrancisnecedah.org
SUMMARY:Sunday Mass (St. Francis of Assisi)  Polish
DESCRIPTION:Sunday Mass at St. Francis of Assisi in Polish 12:30pm
URL:https://saintfrancisnecedah.org/event/sunday-mass-st-francis-of-assisi-polish/2024-02-04/
LOCATION:St Francis of Assisi Church\, 2001 S Main St\, Necedah\, WI\, 54646\, United States
ATTACH;FMTTYPE=image/jpeg:https://saintfrancisnecedah.org/wp-content/uploads/2022/12/Outside-church-St.Francis-w.jpg
END:VEVENT
BEGIN:VEVENT
DTSTART;TZID=UTC:20240204T110000
DTEND;TZID=UTC:20240204T120000
DTSTAMP:20260425T035304
CREATED:20231025T183905Z
LAST-MODIFIED:20250530T191321Z
UID:10003538-1707044400-1707048000@saintfrancisnecedah.org
SUMMARY:Sunday Mass - (St. Francis) Latin
DESCRIPTION:Latin Mass (Not Extraordinary Form) celebrated at 11:00 am St. Francis of Assisi\, Necedah
URL:https://saintfrancisnecedah.org/event/sunday-mass-st-francis-latin/2024-02-04/
LOCATION:St Francis of Assisi Church\, 2001 S Main St\, Necedah\, WI\, 54646\, United States
ATTACH;FMTTYPE=image/jpeg:https://saintfrancisnecedah.org/wp-content/uploads/2022/12/Outside-church-St.Francis-w.jpg
END:VEVENT
BEGIN:VEVENT
DTSTART;TZID=UTC:20240203T163000
DTEND;TZID=UTC:20240203T173000
DTSTAMP:20260425T035304
CREATED:20231025T201838Z
LAST-MODIFIED:20231025T201838Z
UID:10004319-1706977800-1706981400@saintfrancisnecedah.org
SUMMARY:Saturday Mass (St Francis of Assisi) English
DESCRIPTION:Saturday Evening Mass at St. Francis of Assisi\, Necedah  English Mass 4:30pm
URL:https://saintfrancisnecedah.org/event/saturday-mass-st-francis-of-assisi-english/2024-02-03/
LOCATION:St Francis of Assisi Church\, 2001 S Main St\, Necedah\, WI\, 54646\, United States
ATTACH;FMTTYPE=image/jpeg:https://saintfrancisnecedah.org/wp-content/uploads/2022/12/Outside-church-St.Francis-w.jpg
END:VEVENT
BEGIN:VEVENT
DTSTART;TZID=UTC:20240128T123000
DTEND;TZID=UTC:20240128T133000
DTSTAMP:20260425T035304
CREATED:20231025T201033Z
LAST-MODIFIED:20231025T201322Z
UID:10004057-1706445000-1706448600@saintfrancisnecedah.org
SUMMARY:Sunday Mass (St. Francis of Assisi)  Polish
DESCRIPTION:Sunday Mass at St. Francis of Assisi in Polish 12:30pm
URL:https://saintfrancisnecedah.org/event/sunday-mass-st-francis-of-assisi-polish/2024-01-28/
LOCATION:St Francis of Assisi Church\, 2001 S Main St\, Necedah\, WI\, 54646\, United States
ATTACH;FMTTYPE=image/jpeg:https://saintfrancisnecedah.org/wp-content/uploads/2022/12/Outside-church-St.Francis-w.jpg
END:VEVENT
BEGIN:VEVENT
DTSTART;TZID=UTC:20240128T110000
DTEND;TZID=UTC:20240128T120000
DTSTAMP:20260425T035304
CREATED:20231025T183905Z
LAST-MODIFIED:20250530T191321Z
UID:10003537-1706439600-1706443200@saintfrancisnecedah.org
SUMMARY:Sunday Mass - (St. Francis) Latin
DESCRIPTION:Latin Mass (Not Extraordinary Form) celebrated at 11:00 am St. Francis of Assisi\, Necedah
URL:https://saintfrancisnecedah.org/event/sunday-mass-st-francis-latin/2024-01-28/
LOCATION:St Francis of Assisi Church\, 2001 S Main St\, Necedah\, WI\, 54646\, United States
ATTACH;FMTTYPE=image/jpeg:https://saintfrancisnecedah.org/wp-content/uploads/2022/12/Outside-church-St.Francis-w.jpg
END:VEVENT
BEGIN:VEVENT
DTSTART;TZID=UTC:20240127T163000
DTEND;TZID=UTC:20240127T173000
DTSTAMP:20260425T035304
CREATED:20231025T201838Z
LAST-MODIFIED:20231025T201838Z
UID:10004318-1706373000-1706376600@saintfrancisnecedah.org
SUMMARY:Saturday Mass (St Francis of Assisi) English
DESCRIPTION:Saturday Evening Mass at St. Francis of Assisi\, Necedah  English Mass 4:30pm
URL:https://saintfrancisnecedah.org/event/saturday-mass-st-francis-of-assisi-english/2024-01-27/
LOCATION:St Francis of Assisi Church\, 2001 S Main St\, Necedah\, WI\, 54646\, United States
ATTACH;FMTTYPE=image/jpeg:https://saintfrancisnecedah.org/wp-content/uploads/2022/12/Outside-church-St.Francis-w.jpg
END:VEVENT
BEGIN:VEVENT
DTSTART;TZID=UTC:20240121T123000
DTEND;TZID=UTC:20240121T133000
DTSTAMP:20260425T035304
CREATED:20231025T201033Z
LAST-MODIFIED:20231025T201322Z
UID:10004056-1705840200-1705843800@saintfrancisnecedah.org
SUMMARY:Sunday Mass (St. Francis of Assisi)  Polish
DESCRIPTION:Sunday Mass at St. Francis of Assisi in Polish 12:30pm
URL:https://saintfrancisnecedah.org/event/sunday-mass-st-francis-of-assisi-polish/2024-01-21/
LOCATION:St Francis of Assisi Church\, 2001 S Main St\, Necedah\, WI\, 54646\, United States
ATTACH;FMTTYPE=image/jpeg:https://saintfrancisnecedah.org/wp-content/uploads/2022/12/Outside-church-St.Francis-w.jpg
END:VEVENT
BEGIN:VEVENT
DTSTART;TZID=UTC:20240121T110000
DTEND;TZID=UTC:20240121T120000
DTSTAMP:20260425T035304
CREATED:20231025T183905Z
LAST-MODIFIED:20250530T191321Z
UID:10003536-1705834800-1705838400@saintfrancisnecedah.org
SUMMARY:Sunday Mass - (St. Francis) Latin
DESCRIPTION:Latin Mass (Not Extraordinary Form) celebrated at 11:00 am St. Francis of Assisi\, Necedah
URL:https://saintfrancisnecedah.org/event/sunday-mass-st-francis-latin/2024-01-21/
LOCATION:St Francis of Assisi Church\, 2001 S Main St\, Necedah\, WI\, 54646\, United States
ATTACH;FMTTYPE=image/jpeg:https://saintfrancisnecedah.org/wp-content/uploads/2022/12/Outside-church-St.Francis-w.jpg
END:VEVENT
BEGIN:VEVENT
DTSTART;TZID=UTC:20240120T163000
DTEND;TZID=UTC:20240120T173000
DTSTAMP:20260425T035304
CREATED:20231025T201838Z
LAST-MODIFIED:20231025T201838Z
UID:10004317-1705768200-1705771800@saintfrancisnecedah.org
SUMMARY:Saturday Mass (St Francis of Assisi) English
DESCRIPTION:Saturday Evening Mass at St. Francis of Assisi\, Necedah  English Mass 4:30pm
URL:https://saintfrancisnecedah.org/event/saturday-mass-st-francis-of-assisi-english/2024-01-20/
LOCATION:St Francis of Assisi Church\, 2001 S Main St\, Necedah\, WI\, 54646\, United States
ATTACH;FMTTYPE=image/jpeg:https://saintfrancisnecedah.org/wp-content/uploads/2022/12/Outside-church-St.Francis-w.jpg
END:VEVENT
BEGIN:VEVENT
DTSTART;TZID=UTC:20240114T123000
DTEND;TZID=UTC:20240114T133000
DTSTAMP:20260425T035304
CREATED:20231025T201033Z
LAST-MODIFIED:20231025T201322Z
UID:10004055-1705235400-1705239000@saintfrancisnecedah.org
SUMMARY:Sunday Mass (St. Francis of Assisi)  Polish
DESCRIPTION:Sunday Mass at St. Francis of Assisi in Polish 12:30pm
URL:https://saintfrancisnecedah.org/event/sunday-mass-st-francis-of-assisi-polish/2024-01-14/
LOCATION:St Francis of Assisi Church\, 2001 S Main St\, Necedah\, WI\, 54646\, United States
ATTACH;FMTTYPE=image/jpeg:https://saintfrancisnecedah.org/wp-content/uploads/2022/12/Outside-church-St.Francis-w.jpg
END:VEVENT
BEGIN:VEVENT
DTSTART;TZID=UTC:20240114T110000
DTEND;TZID=UTC:20240114T120000
DTSTAMP:20260425T035304
CREATED:20231025T183905Z
LAST-MODIFIED:20250530T191321Z
UID:10003535-1705230000-1705233600@saintfrancisnecedah.org
SUMMARY:Sunday Mass - (St. Francis) Latin
DESCRIPTION:Latin Mass (Not Extraordinary Form) celebrated at 11:00 am St. Francis of Assisi\, Necedah
URL:https://saintfrancisnecedah.org/event/sunday-mass-st-francis-latin/2024-01-14/
LOCATION:St Francis of Assisi Church\, 2001 S Main St\, Necedah\, WI\, 54646\, United States
ATTACH;FMTTYPE=image/jpeg:https://saintfrancisnecedah.org/wp-content/uploads/2022/12/Outside-church-St.Francis-w.jpg
END:VEVENT
BEGIN:VEVENT
DTSTART;TZID=UTC:20240113T163000
DTEND;TZID=UTC:20240113T173000
DTSTAMP:20260425T035304
CREATED:20231025T201838Z
LAST-MODIFIED:20231025T201838Z
UID:10004316-1705163400-1705167000@saintfrancisnecedah.org
SUMMARY:Saturday Mass (St Francis of Assisi) English
DESCRIPTION:Saturday Evening Mass at St. Francis of Assisi\, Necedah  English Mass 4:30pm
URL:https://saintfrancisnecedah.org/event/saturday-mass-st-francis-of-assisi-english/2024-01-13/
LOCATION:St Francis of Assisi Church\, 2001 S Main St\, Necedah\, WI\, 54646\, United States
ATTACH;FMTTYPE=image/jpeg:https://saintfrancisnecedah.org/wp-content/uploads/2022/12/Outside-church-St.Francis-w.jpg
END:VEVENT
BEGIN:VEVENT
DTSTART;TZID=UTC:20240107T123000
DTEND;TZID=UTC:20240107T133000
DTSTAMP:20260425T035304
CREATED:20231025T201033Z
LAST-MODIFIED:20231025T201322Z
UID:10004054-1704630600-1704634200@saintfrancisnecedah.org
SUMMARY:Sunday Mass (St. Francis of Assisi)  Polish
DESCRIPTION:Sunday Mass at St. Francis of Assisi in Polish 12:30pm
URL:https://saintfrancisnecedah.org/event/sunday-mass-st-francis-of-assisi-polish/2024-01-07/
LOCATION:St Francis of Assisi Church\, 2001 S Main St\, Necedah\, WI\, 54646\, United States
ATTACH;FMTTYPE=image/jpeg:https://saintfrancisnecedah.org/wp-content/uploads/2022/12/Outside-church-St.Francis-w.jpg
END:VEVENT
BEGIN:VEVENT
DTSTART;TZID=UTC:20240107T110000
DTEND;TZID=UTC:20240107T120000
DTSTAMP:20260425T035304
CREATED:20231025T183905Z
LAST-MODIFIED:20250530T191321Z
UID:10003534-1704625200-1704628800@saintfrancisnecedah.org
SUMMARY:Sunday Mass - (St. Francis) Latin
DESCRIPTION:Latin Mass (Not Extraordinary Form) celebrated at 11:00 am St. Francis of Assisi\, Necedah
URL:https://saintfrancisnecedah.org/event/sunday-mass-st-francis-latin/2024-01-07/
LOCATION:St Francis of Assisi Church\, 2001 S Main St\, Necedah\, WI\, 54646\, United States
ATTACH;FMTTYPE=image/jpeg:https://saintfrancisnecedah.org/wp-content/uploads/2022/12/Outside-church-St.Francis-w.jpg
END:VEVENT
BEGIN:VEVENT
DTSTART;TZID=UTC:20240106T163000
DTEND;TZID=UTC:20240106T173000
DTSTAMP:20260425T035304
CREATED:20231025T201838Z
LAST-MODIFIED:20231025T201838Z
UID:10004315-1704558600-1704562200@saintfrancisnecedah.org
SUMMARY:Saturday Mass (St Francis of Assisi) English
DESCRIPTION:Saturday Evening Mass at St. Francis of Assisi\, Necedah  English Mass 4:30pm
URL:https://saintfrancisnecedah.org/event/saturday-mass-st-francis-of-assisi-english/2024-01-06/
LOCATION:St Francis of Assisi Church\, 2001 S Main St\, Necedah\, WI\, 54646\, United States
ATTACH;FMTTYPE=image/jpeg:https://saintfrancisnecedah.org/wp-content/uploads/2022/12/Outside-church-St.Francis-w.jpg
END:VEVENT
BEGIN:VEVENT
DTSTART;TZID=UTC:20231231T123000
DTEND;TZID=UTC:20231231T133000
DTSTAMP:20260425T035304
CREATED:20231025T201033Z
LAST-MODIFIED:20231025T201322Z
UID:10004053-1704025800-1704029400@saintfrancisnecedah.org
SUMMARY:Sunday Mass (St. Francis of Assisi)  Polish
DESCRIPTION:Sunday Mass at St. Francis of Assisi in Polish 12:30pm
URL:https://saintfrancisnecedah.org/event/sunday-mass-st-francis-of-assisi-polish/2023-12-31/
LOCATION:St Francis of Assisi Church\, 2001 S Main St\, Necedah\, WI\, 54646\, United States
ATTACH;FMTTYPE=image/jpeg:https://saintfrancisnecedah.org/wp-content/uploads/2022/12/Outside-church-St.Francis-w.jpg
END:VEVENT
BEGIN:VEVENT
DTSTART;TZID=UTC:20231231T110000
DTEND;TZID=UTC:20231231T120000
DTSTAMP:20260425T035304
CREATED:20231025T183905Z
LAST-MODIFIED:20250530T191321Z
UID:10003533-1704020400-1704024000@saintfrancisnecedah.org
SUMMARY:Sunday Mass - (St. Francis) Latin
DESCRIPTION:Latin Mass (Not Extraordinary Form) celebrated at 11:00 am St. Francis of Assisi\, Necedah
URL:https://saintfrancisnecedah.org/event/sunday-mass-st-francis-latin/2023-12-31/
LOCATION:St Francis of Assisi Church\, 2001 S Main St\, Necedah\, WI\, 54646\, United States
ATTACH;FMTTYPE=image/jpeg:https://saintfrancisnecedah.org/wp-content/uploads/2022/12/Outside-church-St.Francis-w.jpg
END:VEVENT
BEGIN:VEVENT
DTSTART;TZID=UTC:20231230T163000
DTEND;TZID=UTC:20231230T173000
DTSTAMP:20260425T035304
CREATED:20231025T201838Z
LAST-MODIFIED:20231025T201838Z
UID:10004314-1703953800-1703957400@saintfrancisnecedah.org
SUMMARY:Saturday Mass (St Francis of Assisi) English
DESCRIPTION:Saturday Evening Mass at St. Francis of Assisi\, Necedah  English Mass 4:30pm
URL:https://saintfrancisnecedah.org/event/saturday-mass-st-francis-of-assisi-english/2023-12-30/
LOCATION:St Francis of Assisi Church\, 2001 S Main St\, Necedah\, WI\, 54646\, United States
ATTACH;FMTTYPE=image/jpeg:https://saintfrancisnecedah.org/wp-content/uploads/2022/12/Outside-church-St.Francis-w.jpg
END:VEVENT
BEGIN:VEVENT
DTSTART;TZID=UTC:20231224T123000
DTEND;TZID=UTC:20231224T133000
DTSTAMP:20260425T035304
CREATED:20231025T201033Z
LAST-MODIFIED:20231025T201322Z
UID:10004052-1703421000-1703424600@saintfrancisnecedah.org
SUMMARY:Sunday Mass (St. Francis of Assisi)  Polish
DESCRIPTION:Sunday Mass at St. Francis of Assisi in Polish 12:30pm
URL:https://saintfrancisnecedah.org/event/sunday-mass-st-francis-of-assisi-polish/2023-12-24/
LOCATION:St Francis of Assisi Church\, 2001 S Main St\, Necedah\, WI\, 54646\, United States
ATTACH;FMTTYPE=image/jpeg:https://saintfrancisnecedah.org/wp-content/uploads/2022/12/Outside-church-St.Francis-w.jpg
END:VEVENT
BEGIN:VEVENT
DTSTART;TZID=UTC:20231224T110000
DTEND;TZID=UTC:20231224T120000
DTSTAMP:20260425T035304
CREATED:20231025T183905Z
LAST-MODIFIED:20250530T191321Z
UID:10003532-1703415600-1703419200@saintfrancisnecedah.org
SUMMARY:Sunday Mass - (St. Francis) Latin
DESCRIPTION:Latin Mass (Not Extraordinary Form) celebrated at 11:00 am St. Francis of Assisi\, Necedah
URL:https://saintfrancisnecedah.org/event/sunday-mass-st-francis-latin/2023-12-24/
LOCATION:St Francis of Assisi Church\, 2001 S Main St\, Necedah\, WI\, 54646\, United States
ATTACH;FMTTYPE=image/jpeg:https://saintfrancisnecedah.org/wp-content/uploads/2022/12/Outside-church-St.Francis-w.jpg
END:VEVENT
BEGIN:VEVENT
DTSTART;TZID=UTC:20231223T163000
DTEND;TZID=UTC:20231223T173000
DTSTAMP:20260425T035304
CREATED:20231025T201838Z
LAST-MODIFIED:20231025T201838Z
UID:10004313-1703349000-1703352600@saintfrancisnecedah.org
SUMMARY:Saturday Mass (St Francis of Assisi) English
DESCRIPTION:Saturday Evening Mass at St. Francis of Assisi\, Necedah  English Mass 4:30pm
URL:https://saintfrancisnecedah.org/event/saturday-mass-st-francis-of-assisi-english/2023-12-23/
LOCATION:St Francis of Assisi Church\, 2001 S Main St\, Necedah\, WI\, 54646\, United States
ATTACH;FMTTYPE=image/jpeg:https://saintfrancisnecedah.org/wp-content/uploads/2022/12/Outside-church-St.Francis-w.jpg
END:VEVENT
BEGIN:VEVENT
DTSTART;TZID=UTC:20231217T123000
DTEND;TZID=UTC:20231217T133000
DTSTAMP:20260425T035304
CREATED:20231025T201033Z
LAST-MODIFIED:20231025T201322Z
UID:10004051-1702816200-1702819800@saintfrancisnecedah.org
SUMMARY:Sunday Mass (St. Francis of Assisi)  Polish
DESCRIPTION:Sunday Mass at St. Francis of Assisi in Polish 12:30pm
URL:https://saintfrancisnecedah.org/event/sunday-mass-st-francis-of-assisi-polish/2023-12-17/
LOCATION:St Francis of Assisi Church\, 2001 S Main St\, Necedah\, WI\, 54646\, United States
ATTACH;FMTTYPE=image/jpeg:https://saintfrancisnecedah.org/wp-content/uploads/2022/12/Outside-church-St.Francis-w.jpg
END:VEVENT
BEGIN:VEVENT
DTSTART;TZID=UTC:20231217T110000
DTEND;TZID=UTC:20231217T120000
DTSTAMP:20260425T035304
CREATED:20231025T183905Z
LAST-MODIFIED:20250530T191321Z
UID:10003531-1702810800-1702814400@saintfrancisnecedah.org
SUMMARY:Sunday Mass - (St. Francis) Latin
DESCRIPTION:Latin Mass (Not Extraordinary Form) celebrated at 11:00 am St. Francis of Assisi\, Necedah
URL:https://saintfrancisnecedah.org/event/sunday-mass-st-francis-latin/2023-12-17/
LOCATION:St Francis of Assisi Church\, 2001 S Main St\, Necedah\, WI\, 54646\, United States
ATTACH;FMTTYPE=image/jpeg:https://saintfrancisnecedah.org/wp-content/uploads/2022/12/Outside-church-St.Francis-w.jpg
END:VEVENT
BEGIN:VEVENT
DTSTART;TZID=UTC:20231216T163000
DTEND;TZID=UTC:20231216T173000
DTSTAMP:20260425T035304
CREATED:20231025T201838Z
LAST-MODIFIED:20231025T201838Z
UID:10004312-1702744200-1702747800@saintfrancisnecedah.org
SUMMARY:Saturday Mass (St Francis of Assisi) English
DESCRIPTION:Saturday Evening Mass at St. Francis of Assisi\, Necedah  English Mass 4:30pm
URL:https://saintfrancisnecedah.org/event/saturday-mass-st-francis-of-assisi-english/2023-12-16/
LOCATION:St Francis of Assisi Church\, 2001 S Main St\, Necedah\, WI\, 54646\, United States
ATTACH;FMTTYPE=image/jpeg:https://saintfrancisnecedah.org/wp-content/uploads/2022/12/Outside-church-St.Francis-w.jpg
END:VEVENT
BEGIN:VEVENT
DTSTART;TZID=UTC:20231210T123000
DTEND;TZID=UTC:20231210T133000
DTSTAMP:20260425T035304
CREATED:20231025T201033Z
LAST-MODIFIED:20231025T201322Z
UID:10004050-1702211400-1702215000@saintfrancisnecedah.org
SUMMARY:Sunday Mass (St. Francis of Assisi)  Polish
DESCRIPTION:Sunday Mass at St. Francis of Assisi in Polish 12:30pm
URL:https://saintfrancisnecedah.org/event/sunday-mass-st-francis-of-assisi-polish/2023-12-10/
LOCATION:St Francis of Assisi Church\, 2001 S Main St\, Necedah\, WI\, 54646\, United States
ATTACH;FMTTYPE=image/jpeg:https://saintfrancisnecedah.org/wp-content/uploads/2022/12/Outside-church-St.Francis-w.jpg
END:VEVENT
BEGIN:VEVENT
DTSTART;TZID=UTC:20231210T110000
DTEND;TZID=UTC:20231210T120000
DTSTAMP:20260425T035304
CREATED:20231025T183905Z
LAST-MODIFIED:20250530T191321Z
UID:10003530-1702206000-1702209600@saintfrancisnecedah.org
SUMMARY:Sunday Mass - (St. Francis) Latin
DESCRIPTION:Latin Mass (Not Extraordinary Form) celebrated at 11:00 am St. Francis of Assisi\, Necedah
URL:https://saintfrancisnecedah.org/event/sunday-mass-st-francis-latin/2023-12-10/
LOCATION:St Francis of Assisi Church\, 2001 S Main St\, Necedah\, WI\, 54646\, United States
ATTACH;FMTTYPE=image/jpeg:https://saintfrancisnecedah.org/wp-content/uploads/2022/12/Outside-church-St.Francis-w.jpg
END:VEVENT
END:VCALENDAR