BEGIN:VCALENDAR
VERSION:2.0
PRODID:-//Saint Francis Of Assisi / Roman Catholic Church - ECPv6.15.6//NONSGML v1.0//EN
CALSCALE:GREGORIAN
METHOD:PUBLISH
X-ORIGINAL-URL:https://saintfrancisnecedah.org
X-WR-CALDESC:Events for Saint Francis Of Assisi / Roman Catholic Church
REFRESH-INTERVAL;VALUE=DURATION:PT1H
X-Robots-Tag:noindex
X-PUBLISHED-TTL:PT1H
BEGIN:VTIMEZONE
TZID:UTC
BEGIN:STANDARD
TZOFFSETFROM:+0000
TZOFFSETTO:+0000
TZNAME:UTC
DTSTART:20220101T000000
END:STANDARD
END:VTIMEZONE
BEGIN:VEVENT
DTSTART;TZID=UTC:20231209T163000
DTEND;TZID=UTC:20231209T173000
DTSTAMP:20260425T143336
CREATED:20231025T201838Z
LAST-MODIFIED:20231025T201838Z
UID:10004311-1702139400-1702143000@saintfrancisnecedah.org
SUMMARY:Saturday Mass (St Francis of Assisi) English
DESCRIPTION:Saturday Evening Mass at St. Francis of Assisi\, Necedah  English Mass 4:30pm
URL:https://saintfrancisnecedah.org/event/saturday-mass-st-francis-of-assisi-english/2023-12-09/
LOCATION:St Francis of Assisi Church\, 2001 S Main St\, Necedah\, WI\, 54646\, United States
ATTACH;FMTTYPE=image/jpeg:https://saintfrancisnecedah.org/wp-content/uploads/2022/12/Outside-church-St.Francis-w.jpg
END:VEVENT
BEGIN:VEVENT
DTSTART;TZID=UTC:20231203T123000
DTEND;TZID=UTC:20231203T133000
DTSTAMP:20260425T143336
CREATED:20231025T201033Z
LAST-MODIFIED:20231025T201322Z
UID:10004049-1701606600-1701610200@saintfrancisnecedah.org
SUMMARY:Sunday Mass (St. Francis of Assisi)  Polish
DESCRIPTION:Sunday Mass at St. Francis of Assisi in Polish 12:30pm
URL:https://saintfrancisnecedah.org/event/sunday-mass-st-francis-of-assisi-polish/2023-12-03/
LOCATION:St Francis of Assisi Church\, 2001 S Main St\, Necedah\, WI\, 54646\, United States
ATTACH;FMTTYPE=image/jpeg:https://saintfrancisnecedah.org/wp-content/uploads/2022/12/Outside-church-St.Francis-w.jpg
END:VEVENT
BEGIN:VEVENT
DTSTART;TZID=UTC:20231203T110000
DTEND;TZID=UTC:20231203T120000
DTSTAMP:20260425T143336
CREATED:20231025T183905Z
LAST-MODIFIED:20250530T191321Z
UID:10003529-1701601200-1701604800@saintfrancisnecedah.org
SUMMARY:Sunday Mass - (St. Francis) Latin
DESCRIPTION:Latin Mass (Not Extraordinary Form) celebrated at 11:00 am St. Francis of Assisi\, Necedah
URL:https://saintfrancisnecedah.org/event/sunday-mass-st-francis-latin/2023-12-03/
LOCATION:St Francis of Assisi Church\, 2001 S Main St\, Necedah\, WI\, 54646\, United States
ATTACH;FMTTYPE=image/jpeg:https://saintfrancisnecedah.org/wp-content/uploads/2022/12/Outside-church-St.Francis-w.jpg
END:VEVENT
BEGIN:VEVENT
DTSTART;TZID=UTC:20231202T163000
DTEND;TZID=UTC:20231202T173000
DTSTAMP:20260425T143336
CREATED:20231025T201838Z
LAST-MODIFIED:20231025T201838Z
UID:10004310-1701534600-1701538200@saintfrancisnecedah.org
SUMMARY:Saturday Mass (St Francis of Assisi) English
DESCRIPTION:Saturday Evening Mass at St. Francis of Assisi\, Necedah  English Mass 4:30pm
URL:https://saintfrancisnecedah.org/event/saturday-mass-st-francis-of-assisi-english/2023-12-02/
LOCATION:St Francis of Assisi Church\, 2001 S Main St\, Necedah\, WI\, 54646\, United States
ATTACH;FMTTYPE=image/jpeg:https://saintfrancisnecedah.org/wp-content/uploads/2022/12/Outside-church-St.Francis-w.jpg
END:VEVENT
BEGIN:VEVENT
DTSTART;TZID=UTC:20231126T123000
DTEND;TZID=UTC:20231126T133000
DTSTAMP:20260425T143336
CREATED:20231025T201033Z
LAST-MODIFIED:20231025T201322Z
UID:10004048-1701001800-1701005400@saintfrancisnecedah.org
SUMMARY:Sunday Mass (St. Francis of Assisi)  Polish
DESCRIPTION:Sunday Mass at St. Francis of Assisi in Polish 12:30pm
URL:https://saintfrancisnecedah.org/event/sunday-mass-st-francis-of-assisi-polish/2023-11-26/
LOCATION:St Francis of Assisi Church\, 2001 S Main St\, Necedah\, WI\, 54646\, United States
ATTACH;FMTTYPE=image/jpeg:https://saintfrancisnecedah.org/wp-content/uploads/2022/12/Outside-church-St.Francis-w.jpg
END:VEVENT
BEGIN:VEVENT
DTSTART;TZID=UTC:20231126T110000
DTEND;TZID=UTC:20231126T120000
DTSTAMP:20260425T143336
CREATED:20231025T183905Z
LAST-MODIFIED:20250530T191321Z
UID:10003528-1700996400-1701000000@saintfrancisnecedah.org
SUMMARY:Sunday Mass - (St. Francis) Latin
DESCRIPTION:Latin Mass (Not Extraordinary Form) celebrated at 11:00 am St. Francis of Assisi\, Necedah
URL:https://saintfrancisnecedah.org/event/sunday-mass-st-francis-latin/2023-11-26/
LOCATION:St Francis of Assisi Church\, 2001 S Main St\, Necedah\, WI\, 54646\, United States
ATTACH;FMTTYPE=image/jpeg:https://saintfrancisnecedah.org/wp-content/uploads/2022/12/Outside-church-St.Francis-w.jpg
END:VEVENT
BEGIN:VEVENT
DTSTART;TZID=UTC:20231125T163000
DTEND;TZID=UTC:20231125T173000
DTSTAMP:20260425T143336
CREATED:20231025T201838Z
LAST-MODIFIED:20231025T201838Z
UID:10004309-1700929800-1700933400@saintfrancisnecedah.org
SUMMARY:Saturday Mass (St Francis of Assisi) English
DESCRIPTION:Saturday Evening Mass at St. Francis of Assisi\, Necedah  English Mass 4:30pm
URL:https://saintfrancisnecedah.org/event/saturday-mass-st-francis-of-assisi-english/2023-11-25/
LOCATION:St Francis of Assisi Church\, 2001 S Main St\, Necedah\, WI\, 54646\, United States
ATTACH;FMTTYPE=image/jpeg:https://saintfrancisnecedah.org/wp-content/uploads/2022/12/Outside-church-St.Francis-w.jpg
END:VEVENT
BEGIN:VEVENT
DTSTART;TZID=UTC:20231119T123000
DTEND;TZID=UTC:20231119T133000
DTSTAMP:20260425T143336
CREATED:20231025T201033Z
LAST-MODIFIED:20231025T201322Z
UID:10004047-1700397000-1700400600@saintfrancisnecedah.org
SUMMARY:Sunday Mass (St. Francis of Assisi)  Polish
DESCRIPTION:Sunday Mass at St. Francis of Assisi in Polish 12:30pm
URL:https://saintfrancisnecedah.org/event/sunday-mass-st-francis-of-assisi-polish/2023-11-19/
LOCATION:St Francis of Assisi Church\, 2001 S Main St\, Necedah\, WI\, 54646\, United States
ATTACH;FMTTYPE=image/jpeg:https://saintfrancisnecedah.org/wp-content/uploads/2022/12/Outside-church-St.Francis-w.jpg
END:VEVENT
BEGIN:VEVENT
DTSTART;TZID=UTC:20231119T110000
DTEND;TZID=UTC:20231119T120000
DTSTAMP:20260425T143336
CREATED:20231025T183905Z
LAST-MODIFIED:20250530T191321Z
UID:10003527-1700391600-1700395200@saintfrancisnecedah.org
SUMMARY:Sunday Mass - (St. Francis) Latin
DESCRIPTION:Latin Mass (Not Extraordinary Form) celebrated at 11:00 am St. Francis of Assisi\, Necedah
URL:https://saintfrancisnecedah.org/event/sunday-mass-st-francis-latin/2023-11-19/
LOCATION:St Francis of Assisi Church\, 2001 S Main St\, Necedah\, WI\, 54646\, United States
ATTACH;FMTTYPE=image/jpeg:https://saintfrancisnecedah.org/wp-content/uploads/2022/12/Outside-church-St.Francis-w.jpg
END:VEVENT
BEGIN:VEVENT
DTSTART;TZID=UTC:20231118T163000
DTEND;TZID=UTC:20231118T173000
DTSTAMP:20260425T143336
CREATED:20231025T201838Z
LAST-MODIFIED:20231025T201838Z
UID:10004308-1700325000-1700328600@saintfrancisnecedah.org
SUMMARY:Saturday Mass (St Francis of Assisi) English
DESCRIPTION:Saturday Evening Mass at St. Francis of Assisi\, Necedah  English Mass 4:30pm
URL:https://saintfrancisnecedah.org/event/saturday-mass-st-francis-of-assisi-english/2023-11-18/
LOCATION:St Francis of Assisi Church\, 2001 S Main St\, Necedah\, WI\, 54646\, United States
ATTACH;FMTTYPE=image/jpeg:https://saintfrancisnecedah.org/wp-content/uploads/2022/12/Outside-church-St.Francis-w.jpg
END:VEVENT
BEGIN:VEVENT
DTSTART;TZID=UTC:20231112T123000
DTEND;TZID=UTC:20231112T133000
DTSTAMP:20260425T143336
CREATED:20231025T201033Z
LAST-MODIFIED:20231025T201322Z
UID:10004046-1699792200-1699795800@saintfrancisnecedah.org
SUMMARY:Sunday Mass (St. Francis of Assisi)  Polish
DESCRIPTION:Sunday Mass at St. Francis of Assisi in Polish 12:30pm
URL:https://saintfrancisnecedah.org/event/sunday-mass-st-francis-of-assisi-polish/2023-11-12/
LOCATION:St Francis of Assisi Church\, 2001 S Main St\, Necedah\, WI\, 54646\, United States
ATTACH;FMTTYPE=image/jpeg:https://saintfrancisnecedah.org/wp-content/uploads/2022/12/Outside-church-St.Francis-w.jpg
END:VEVENT
BEGIN:VEVENT
DTSTART;TZID=UTC:20231112T110000
DTEND;TZID=UTC:20231112T120000
DTSTAMP:20260425T143336
CREATED:20231025T183905Z
LAST-MODIFIED:20250530T191321Z
UID:10003526-1699786800-1699790400@saintfrancisnecedah.org
SUMMARY:Sunday Mass - (St. Francis) Latin
DESCRIPTION:Latin Mass (Not Extraordinary Form) celebrated at 11:00 am St. Francis of Assisi\, Necedah
URL:https://saintfrancisnecedah.org/event/sunday-mass-st-francis-latin/2023-11-12/
LOCATION:St Francis of Assisi Church\, 2001 S Main St\, Necedah\, WI\, 54646\, United States
ATTACH;FMTTYPE=image/jpeg:https://saintfrancisnecedah.org/wp-content/uploads/2022/12/Outside-church-St.Francis-w.jpg
END:VEVENT
BEGIN:VEVENT
DTSTART;TZID=UTC:20231111T163000
DTEND;TZID=UTC:20231111T173000
DTSTAMP:20260425T143336
CREATED:20231025T201838Z
LAST-MODIFIED:20231025T201838Z
UID:10004307-1699720200-1699723800@saintfrancisnecedah.org
SUMMARY:Saturday Mass (St Francis of Assisi) English
DESCRIPTION:Saturday Evening Mass at St. Francis of Assisi\, Necedah  English Mass 4:30pm
URL:https://saintfrancisnecedah.org/event/saturday-mass-st-francis-of-assisi-english/2023-11-11/
LOCATION:St Francis of Assisi Church\, 2001 S Main St\, Necedah\, WI\, 54646\, United States
ATTACH;FMTTYPE=image/jpeg:https://saintfrancisnecedah.org/wp-content/uploads/2022/12/Outside-church-St.Francis-w.jpg
END:VEVENT
BEGIN:VEVENT
DTSTART;TZID=UTC:20231105T123000
DTEND;TZID=UTC:20231105T133000
DTSTAMP:20260425T143336
CREATED:20231025T201033Z
LAST-MODIFIED:20231025T201322Z
UID:10004045-1699187400-1699191000@saintfrancisnecedah.org
SUMMARY:Sunday Mass (St. Francis of Assisi)  Polish
DESCRIPTION:Sunday Mass at St. Francis of Assisi in Polish 12:30pm
URL:https://saintfrancisnecedah.org/event/sunday-mass-st-francis-of-assisi-polish/2023-11-05/
LOCATION:St Francis of Assisi Church\, 2001 S Main St\, Necedah\, WI\, 54646\, United States
ATTACH;FMTTYPE=image/jpeg:https://saintfrancisnecedah.org/wp-content/uploads/2022/12/Outside-church-St.Francis-w.jpg
END:VEVENT
BEGIN:VEVENT
DTSTART;TZID=UTC:20231105T110000
DTEND;TZID=UTC:20231105T120000
DTSTAMP:20260425T143336
CREATED:20231025T183905Z
LAST-MODIFIED:20250530T191321Z
UID:10003525-1699182000-1699185600@saintfrancisnecedah.org
SUMMARY:Sunday Mass - (St. Francis) Latin
DESCRIPTION:Latin Mass (Not Extraordinary Form) celebrated at 11:00 am St. Francis of Assisi\, Necedah
URL:https://saintfrancisnecedah.org/event/sunday-mass-st-francis-latin/2023-11-05/
LOCATION:St Francis of Assisi Church\, 2001 S Main St\, Necedah\, WI\, 54646\, United States
ATTACH;FMTTYPE=image/jpeg:https://saintfrancisnecedah.org/wp-content/uploads/2022/12/Outside-church-St.Francis-w.jpg
END:VEVENT
BEGIN:VEVENT
DTSTART;TZID=UTC:20231104T163000
DTEND;TZID=UTC:20231104T173000
DTSTAMP:20260425T143336
CREATED:20231025T201838Z
LAST-MODIFIED:20231025T201838Z
UID:10004306-1699115400-1699119000@saintfrancisnecedah.org
SUMMARY:Saturday Mass (St Francis of Assisi) English
DESCRIPTION:Saturday Evening Mass at St. Francis of Assisi\, Necedah  English Mass 4:30pm
URL:https://saintfrancisnecedah.org/event/saturday-mass-st-francis-of-assisi-english/2023-11-04/
LOCATION:St Francis of Assisi Church\, 2001 S Main St\, Necedah\, WI\, 54646\, United States
ATTACH;FMTTYPE=image/jpeg:https://saintfrancisnecedah.org/wp-content/uploads/2022/12/Outside-church-St.Francis-w.jpg
END:VEVENT
BEGIN:VEVENT
DTSTART;TZID=UTC:20231031T183000
DTEND;TZID=UTC:20231031T193000
DTSTAMP:20260425T143336
CREATED:20231026T110333Z
LAST-MODIFIED:20231026T110612Z
UID:10004568-1698777000-1698780600@saintfrancisnecedah.org
SUMMARY:All Saints' Day Vigil Mass
DESCRIPTION:6:30 pm at St. Francis
URL:https://saintfrancisnecedah.org/event/all-saints-day-vigil-mass/
LOCATION:St Francis of Assisi Church\, 2001 S Main St\, Necedah\, WI\, 54646\, United States
END:VEVENT
BEGIN:VEVENT
DTSTART;TZID=UTC:20231029T100000
DTEND;TZID=UTC:20231029T150000
DTSTAMP:20260425T143336
CREATED:20231025T204151Z
LAST-MODIFIED:20231025T204151Z
UID:10002622-1698573600-1698591600@saintfrancisnecedah.org
SUMMARY:October 29\, 2023 Mass at 8:45 am only!
DESCRIPTION:No Latin or Polish Mass today! Celebration of the 20th Anniversary of the Church Dedication following the 8:45 am Mass. (St. Francis of Assisi\, Necedah)
URL:https://saintfrancisnecedah.org/event/october-29-2023-mass-at-845-am-only-2/
LOCATION:St Francis of Assisi Church\, 2001 S Main St\, Necedah\, WI\, 54646\, United States
ATTACH;FMTTYPE=image/jpeg:https://saintfrancisnecedah.org/wp-content/uploads/2022/12/Outside-church-St.Francis-w.jpg
END:VEVENT
BEGIN:VEVENT
DTSTART;TZID=UTC:20231028T163000
DTEND;TZID=UTC:20231028T173000
DTSTAMP:20260425T143336
CREATED:20231025T201838Z
LAST-MODIFIED:20231025T201838Z
UID:10004305-1698510600-1698514200@saintfrancisnecedah.org
SUMMARY:Saturday Mass (St Francis of Assisi) English
DESCRIPTION:Saturday Evening Mass at St. Francis of Assisi\, Necedah  English Mass 4:30pm
URL:https://saintfrancisnecedah.org/event/saturday-mass-st-francis-of-assisi-english/2023-10-28/
LOCATION:St Francis of Assisi Church\, 2001 S Main St\, Necedah\, WI\, 54646\, United States
ATTACH;FMTTYPE=image/jpeg:https://saintfrancisnecedah.org/wp-content/uploads/2022/12/Outside-church-St.Francis-w.jpg
END:VEVENT
END:VCALENDAR