BEGIN:VCALENDAR
VERSION:2.0
PRODID:-//Saint Francis Of Assisi / Roman Catholic Church - ECPv6.15.6//NONSGML v1.0//EN
CALSCALE:GREGORIAN
METHOD:PUBLISH
X-WR-CALNAME:Saint Francis Of Assisi / Roman Catholic Church
X-ORIGINAL-URL:https://saintfrancisnecedah.org
X-WR-CALDESC:Events for Saint Francis Of Assisi / Roman Catholic Church
REFRESH-INTERVAL;VALUE=DURATION:PT1H
X-Robots-Tag:noindex
X-PUBLISHED-TTL:PT1H
BEGIN:VTIMEZONE
TZID:UTC
BEGIN:STANDARD
TZOFFSETFROM:+0000
TZOFFSETTO:+0000
TZNAME:UTC
DTSTART:20250101T000000
END:STANDARD
END:VTIMEZONE
BEGIN:VEVENT
DTSTART;TZID=UTC:20260712T123000
DTEND;TZID=UTC:20260712T133000
DTSTAMP:20260420T172352
CREATED:20231025T201033Z
LAST-MODIFIED:20231025T201322Z
UID:10004185-1783859400-1783863000@saintfrancisnecedah.org
SUMMARY:Sunday Mass (St. Francis of Assisi)  Polish
DESCRIPTION:Sunday Mass at St. Francis of Assisi in Polish 12:30pm
URL:https://saintfrancisnecedah.org/event/sunday-mass-st-francis-of-assisi-polish/2026-07-12/
LOCATION:St Francis of Assisi Church\, 2001 S Main St\, Necedah\, WI\, 54646\, United States
ATTACH;FMTTYPE=image/jpeg:https://saintfrancisnecedah.org/wp-content/uploads/2022/12/Outside-church-St.Francis-w.jpg
END:VEVENT
BEGIN:VEVENT
DTSTART;TZID=UTC:20260718T163000
DTEND;TZID=UTC:20260718T173000
DTSTAMP:20260420T172352
CREATED:20250227T185502Z
LAST-MODIFIED:20250227T191917Z
UID:10004447-1784392200-1784395800@saintfrancisnecedah.org
SUMMARY:Saturday Mass (St Francis of Assisi) English
DESCRIPTION:Saturday Evening Mass at St. Francis of Assisi\, Necedah  English Mass 4:30pm
URL:https://saintfrancisnecedah.org/event/saturday-mass-st-francis-of-assisi-english-2/2026-07-18/
LOCATION:St Francis of Assisi Church\, 2001 S Main St\, Necedah\, WI\, 54646\, United States
ATTACH;FMTTYPE=image/jpeg:https://saintfrancisnecedah.org/wp-content/uploads/2022/12/Outside-church-St.Francis-w.jpg
END:VEVENT
BEGIN:VEVENT
DTSTART;TZID=UTC:20260719T110000
DTEND;TZID=UTC:20260719T120000
DTSTAMP:20260420T172352
CREATED:20231025T183905Z
LAST-MODIFIED:20250530T191321Z
UID:10003666-1784458800-1784462400@saintfrancisnecedah.org
SUMMARY:Sunday Mass - (St. Francis) Latin
DESCRIPTION:Latin Mass (Not Extraordinary Form) celebrated at 11:00 am St. Francis of Assisi\, Necedah
URL:https://saintfrancisnecedah.org/event/sunday-mass-st-francis-latin/2026-07-19/
LOCATION:St Francis of Assisi Church\, 2001 S Main St\, Necedah\, WI\, 54646\, United States
ATTACH;FMTTYPE=image/jpeg:https://saintfrancisnecedah.org/wp-content/uploads/2022/12/Outside-church-St.Francis-w.jpg
END:VEVENT
BEGIN:VEVENT
DTSTART;TZID=UTC:20260719T123000
DTEND;TZID=UTC:20260719T133000
DTSTAMP:20260420T172352
CREATED:20231025T201033Z
LAST-MODIFIED:20231025T201322Z
UID:10004186-1784464200-1784467800@saintfrancisnecedah.org
SUMMARY:Sunday Mass (St. Francis of Assisi)  Polish
DESCRIPTION:Sunday Mass at St. Francis of Assisi in Polish 12:30pm
URL:https://saintfrancisnecedah.org/event/sunday-mass-st-francis-of-assisi-polish/2026-07-19/
LOCATION:St Francis of Assisi Church\, 2001 S Main St\, Necedah\, WI\, 54646\, United States
ATTACH;FMTTYPE=image/jpeg:https://saintfrancisnecedah.org/wp-content/uploads/2022/12/Outside-church-St.Francis-w.jpg
END:VEVENT
BEGIN:VEVENT
DTSTART;TZID=UTC:20260725T163000
DTEND;TZID=UTC:20260725T173000
DTSTAMP:20260420T172352
CREATED:20250227T185502Z
LAST-MODIFIED:20250227T191917Z
UID:10004448-1784997000-1785000600@saintfrancisnecedah.org
SUMMARY:Saturday Mass (St Francis of Assisi) English
DESCRIPTION:Saturday Evening Mass at St. Francis of Assisi\, Necedah  English Mass 4:30pm
URL:https://saintfrancisnecedah.org/event/saturday-mass-st-francis-of-assisi-english-2/2026-07-25/
LOCATION:St Francis of Assisi Church\, 2001 S Main St\, Necedah\, WI\, 54646\, United States
ATTACH;FMTTYPE=image/jpeg:https://saintfrancisnecedah.org/wp-content/uploads/2022/12/Outside-church-St.Francis-w.jpg
END:VEVENT
BEGIN:VEVENT
DTSTART;TZID=UTC:20260726T110000
DTEND;TZID=UTC:20260726T120000
DTSTAMP:20260420T172352
CREATED:20231025T183905Z
LAST-MODIFIED:20250530T191321Z
UID:10003667-1785063600-1785067200@saintfrancisnecedah.org
SUMMARY:Sunday Mass - (St. Francis) Latin
DESCRIPTION:Latin Mass (Not Extraordinary Form) celebrated at 11:00 am St. Francis of Assisi\, Necedah
URL:https://saintfrancisnecedah.org/event/sunday-mass-st-francis-latin/2026-07-26/
LOCATION:St Francis of Assisi Church\, 2001 S Main St\, Necedah\, WI\, 54646\, United States
ATTACH;FMTTYPE=image/jpeg:https://saintfrancisnecedah.org/wp-content/uploads/2022/12/Outside-church-St.Francis-w.jpg
END:VEVENT
BEGIN:VEVENT
DTSTART;TZID=UTC:20260726T123000
DTEND;TZID=UTC:20260726T133000
DTSTAMP:20260420T172352
CREATED:20231025T201033Z
LAST-MODIFIED:20231025T201322Z
UID:10004187-1785069000-1785072600@saintfrancisnecedah.org
SUMMARY:Sunday Mass (St. Francis of Assisi)  Polish
DESCRIPTION:Sunday Mass at St. Francis of Assisi in Polish 12:30pm
URL:https://saintfrancisnecedah.org/event/sunday-mass-st-francis-of-assisi-polish/2026-07-26/
LOCATION:St Francis of Assisi Church\, 2001 S Main St\, Necedah\, WI\, 54646\, United States
ATTACH;FMTTYPE=image/jpeg:https://saintfrancisnecedah.org/wp-content/uploads/2022/12/Outside-church-St.Francis-w.jpg
END:VEVENT
BEGIN:VEVENT
DTSTART;TZID=UTC:20260801T163000
DTEND;TZID=UTC:20260801T173000
DTSTAMP:20260420T172352
CREATED:20250227T185502Z
LAST-MODIFIED:20250227T191917Z
UID:10004449-1785601800-1785605400@saintfrancisnecedah.org
SUMMARY:Saturday Mass (St Francis of Assisi) English
DESCRIPTION:Saturday Evening Mass at St. Francis of Assisi\, Necedah  English Mass 4:30pm
URL:https://saintfrancisnecedah.org/event/saturday-mass-st-francis-of-assisi-english-2/2026-08-01/
LOCATION:St Francis of Assisi Church\, 2001 S Main St\, Necedah\, WI\, 54646\, United States
ATTACH;FMTTYPE=image/jpeg:https://saintfrancisnecedah.org/wp-content/uploads/2022/12/Outside-church-St.Francis-w.jpg
END:VEVENT
BEGIN:VEVENT
DTSTART;TZID=UTC:20260802T110000
DTEND;TZID=UTC:20260802T120000
DTSTAMP:20260420T172352
CREATED:20231025T183905Z
LAST-MODIFIED:20250530T191321Z
UID:10003668-1785668400-1785672000@saintfrancisnecedah.org
SUMMARY:Sunday Mass - (St. Francis) Latin
DESCRIPTION:Latin Mass (Not Extraordinary Form) celebrated at 11:00 am St. Francis of Assisi\, Necedah
URL:https://saintfrancisnecedah.org/event/sunday-mass-st-francis-latin/2026-08-02/
LOCATION:St Francis of Assisi Church\, 2001 S Main St\, Necedah\, WI\, 54646\, United States
ATTACH;FMTTYPE=image/jpeg:https://saintfrancisnecedah.org/wp-content/uploads/2022/12/Outside-church-St.Francis-w.jpg
END:VEVENT
BEGIN:VEVENT
DTSTART;TZID=UTC:20260802T123000
DTEND;TZID=UTC:20260802T133000
DTSTAMP:20260420T172352
CREATED:20231025T201033Z
LAST-MODIFIED:20231025T201322Z
UID:10004188-1785673800-1785677400@saintfrancisnecedah.org
SUMMARY:Sunday Mass (St. Francis of Assisi)  Polish
DESCRIPTION:Sunday Mass at St. Francis of Assisi in Polish 12:30pm
URL:https://saintfrancisnecedah.org/event/sunday-mass-st-francis-of-assisi-polish/2026-08-02/
LOCATION:St Francis of Assisi Church\, 2001 S Main St\, Necedah\, WI\, 54646\, United States
ATTACH;FMTTYPE=image/jpeg:https://saintfrancisnecedah.org/wp-content/uploads/2022/12/Outside-church-St.Francis-w.jpg
END:VEVENT
BEGIN:VEVENT
DTSTART;TZID=UTC:20260808T163000
DTEND;TZID=UTC:20260808T173000
DTSTAMP:20260420T172352
CREATED:20250227T185502Z
LAST-MODIFIED:20250227T191917Z
UID:10004450-1786206600-1786210200@saintfrancisnecedah.org
SUMMARY:Saturday Mass (St Francis of Assisi) English
DESCRIPTION:Saturday Evening Mass at St. Francis of Assisi\, Necedah  English Mass 4:30pm
URL:https://saintfrancisnecedah.org/event/saturday-mass-st-francis-of-assisi-english-2/2026-08-08/
LOCATION:St Francis of Assisi Church\, 2001 S Main St\, Necedah\, WI\, 54646\, United States
ATTACH;FMTTYPE=image/jpeg:https://saintfrancisnecedah.org/wp-content/uploads/2022/12/Outside-church-St.Francis-w.jpg
END:VEVENT
BEGIN:VEVENT
DTSTART;TZID=UTC:20260809T110000
DTEND;TZID=UTC:20260809T120000
DTSTAMP:20260420T172352
CREATED:20231025T183905Z
LAST-MODIFIED:20250530T191321Z
UID:10003669-1786273200-1786276800@saintfrancisnecedah.org
SUMMARY:Sunday Mass - (St. Francis) Latin
DESCRIPTION:Latin Mass (Not Extraordinary Form) celebrated at 11:00 am St. Francis of Assisi\, Necedah
URL:https://saintfrancisnecedah.org/event/sunday-mass-st-francis-latin/2026-08-09/
LOCATION:St Francis of Assisi Church\, 2001 S Main St\, Necedah\, WI\, 54646\, United States
ATTACH;FMTTYPE=image/jpeg:https://saintfrancisnecedah.org/wp-content/uploads/2022/12/Outside-church-St.Francis-w.jpg
END:VEVENT
BEGIN:VEVENT
DTSTART;TZID=UTC:20260809T123000
DTEND;TZID=UTC:20260809T133000
DTSTAMP:20260420T172352
CREATED:20231025T201033Z
LAST-MODIFIED:20231025T201322Z
UID:10004189-1786278600-1786282200@saintfrancisnecedah.org
SUMMARY:Sunday Mass (St. Francis of Assisi)  Polish
DESCRIPTION:Sunday Mass at St. Francis of Assisi in Polish 12:30pm
URL:https://saintfrancisnecedah.org/event/sunday-mass-st-francis-of-assisi-polish/2026-08-09/
LOCATION:St Francis of Assisi Church\, 2001 S Main St\, Necedah\, WI\, 54646\, United States
ATTACH;FMTTYPE=image/jpeg:https://saintfrancisnecedah.org/wp-content/uploads/2022/12/Outside-church-St.Francis-w.jpg
END:VEVENT
BEGIN:VEVENT
DTSTART;TZID=UTC:20260815T163000
DTEND;TZID=UTC:20260815T173000
DTSTAMP:20260420T172352
CREATED:20250227T185502Z
LAST-MODIFIED:20250227T191917Z
UID:10004451-1786811400-1786815000@saintfrancisnecedah.org
SUMMARY:Saturday Mass (St Francis of Assisi) English
DESCRIPTION:Saturday Evening Mass at St. Francis of Assisi\, Necedah  English Mass 4:30pm
URL:https://saintfrancisnecedah.org/event/saturday-mass-st-francis-of-assisi-english-2/2026-08-15/
LOCATION:St Francis of Assisi Church\, 2001 S Main St\, Necedah\, WI\, 54646\, United States
ATTACH;FMTTYPE=image/jpeg:https://saintfrancisnecedah.org/wp-content/uploads/2022/12/Outside-church-St.Francis-w.jpg
END:VEVENT
BEGIN:VEVENT
DTSTART;TZID=UTC:20260816T110000
DTEND;TZID=UTC:20260816T120000
DTSTAMP:20260420T172352
CREATED:20231025T183905Z
LAST-MODIFIED:20250530T191321Z
UID:10003670-1786878000-1786881600@saintfrancisnecedah.org
SUMMARY:Sunday Mass - (St. Francis) Latin
DESCRIPTION:Latin Mass (Not Extraordinary Form) celebrated at 11:00 am St. Francis of Assisi\, Necedah
URL:https://saintfrancisnecedah.org/event/sunday-mass-st-francis-latin/2026-08-16/
LOCATION:St Francis of Assisi Church\, 2001 S Main St\, Necedah\, WI\, 54646\, United States
ATTACH;FMTTYPE=image/jpeg:https://saintfrancisnecedah.org/wp-content/uploads/2022/12/Outside-church-St.Francis-w.jpg
END:VEVENT
BEGIN:VEVENT
DTSTART;TZID=UTC:20260816T123000
DTEND;TZID=UTC:20260816T133000
DTSTAMP:20260420T172352
CREATED:20231025T201033Z
LAST-MODIFIED:20231025T201322Z
UID:10004190-1786883400-1786887000@saintfrancisnecedah.org
SUMMARY:Sunday Mass (St. Francis of Assisi)  Polish
DESCRIPTION:Sunday Mass at St. Francis of Assisi in Polish 12:30pm
URL:https://saintfrancisnecedah.org/event/sunday-mass-st-francis-of-assisi-polish/2026-08-16/
LOCATION:St Francis of Assisi Church\, 2001 S Main St\, Necedah\, WI\, 54646\, United States
ATTACH;FMTTYPE=image/jpeg:https://saintfrancisnecedah.org/wp-content/uploads/2022/12/Outside-church-St.Francis-w.jpg
END:VEVENT
BEGIN:VEVENT
DTSTART;TZID=UTC:20260822T163000
DTEND;TZID=UTC:20260822T173000
DTSTAMP:20260420T172352
CREATED:20250227T185502Z
LAST-MODIFIED:20250227T191917Z
UID:10004452-1787416200-1787419800@saintfrancisnecedah.org
SUMMARY:Saturday Mass (St Francis of Assisi) English
DESCRIPTION:Saturday Evening Mass at St. Francis of Assisi\, Necedah  English Mass 4:30pm
URL:https://saintfrancisnecedah.org/event/saturday-mass-st-francis-of-assisi-english-2/2026-08-22/
LOCATION:St Francis of Assisi Church\, 2001 S Main St\, Necedah\, WI\, 54646\, United States
ATTACH;FMTTYPE=image/jpeg:https://saintfrancisnecedah.org/wp-content/uploads/2022/12/Outside-church-St.Francis-w.jpg
END:VEVENT
BEGIN:VEVENT
DTSTART;TZID=UTC:20260823T110000
DTEND;TZID=UTC:20260823T120000
DTSTAMP:20260420T172352
CREATED:20231025T183905Z
LAST-MODIFIED:20250530T191321Z
UID:10003671-1787482800-1787486400@saintfrancisnecedah.org
SUMMARY:Sunday Mass - (St. Francis) Latin
DESCRIPTION:Latin Mass (Not Extraordinary Form) celebrated at 11:00 am St. Francis of Assisi\, Necedah
URL:https://saintfrancisnecedah.org/event/sunday-mass-st-francis-latin/2026-08-23/
LOCATION:St Francis of Assisi Church\, 2001 S Main St\, Necedah\, WI\, 54646\, United States
ATTACH;FMTTYPE=image/jpeg:https://saintfrancisnecedah.org/wp-content/uploads/2022/12/Outside-church-St.Francis-w.jpg
END:VEVENT
BEGIN:VEVENT
DTSTART;TZID=UTC:20260823T123000
DTEND;TZID=UTC:20260823T133000
DTSTAMP:20260420T172352
CREATED:20231025T201033Z
LAST-MODIFIED:20231025T201322Z
UID:10004191-1787488200-1787491800@saintfrancisnecedah.org
SUMMARY:Sunday Mass (St. Francis of Assisi)  Polish
DESCRIPTION:Sunday Mass at St. Francis of Assisi in Polish 12:30pm
URL:https://saintfrancisnecedah.org/event/sunday-mass-st-francis-of-assisi-polish/2026-08-23/
LOCATION:St Francis of Assisi Church\, 2001 S Main St\, Necedah\, WI\, 54646\, United States
ATTACH;FMTTYPE=image/jpeg:https://saintfrancisnecedah.org/wp-content/uploads/2022/12/Outside-church-St.Francis-w.jpg
END:VEVENT
BEGIN:VEVENT
DTSTART;TZID=UTC:20260829T163000
DTEND;TZID=UTC:20260829T173000
DTSTAMP:20260420T172352
CREATED:20250227T185502Z
LAST-MODIFIED:20250227T191917Z
UID:10004453-1788021000-1788024600@saintfrancisnecedah.org
SUMMARY:Saturday Mass (St Francis of Assisi) English
DESCRIPTION:Saturday Evening Mass at St. Francis of Assisi\, Necedah  English Mass 4:30pm
URL:https://saintfrancisnecedah.org/event/saturday-mass-st-francis-of-assisi-english-2/2026-08-29/
LOCATION:St Francis of Assisi Church\, 2001 S Main St\, Necedah\, WI\, 54646\, United States
ATTACH;FMTTYPE=image/jpeg:https://saintfrancisnecedah.org/wp-content/uploads/2022/12/Outside-church-St.Francis-w.jpg
END:VEVENT
BEGIN:VEVENT
DTSTART;TZID=UTC:20260830T110000
DTEND;TZID=UTC:20260830T120000
DTSTAMP:20260420T172352
CREATED:20231025T183905Z
LAST-MODIFIED:20250530T191321Z
UID:10003672-1788087600-1788091200@saintfrancisnecedah.org
SUMMARY:Sunday Mass - (St. Francis) Latin
DESCRIPTION:Latin Mass (Not Extraordinary Form) celebrated at 11:00 am St. Francis of Assisi\, Necedah
URL:https://saintfrancisnecedah.org/event/sunday-mass-st-francis-latin/2026-08-30/
LOCATION:St Francis of Assisi Church\, 2001 S Main St\, Necedah\, WI\, 54646\, United States
ATTACH;FMTTYPE=image/jpeg:https://saintfrancisnecedah.org/wp-content/uploads/2022/12/Outside-church-St.Francis-w.jpg
END:VEVENT
BEGIN:VEVENT
DTSTART;TZID=UTC:20260830T123000
DTEND;TZID=UTC:20260830T133000
DTSTAMP:20260420T172352
CREATED:20231025T201033Z
LAST-MODIFIED:20231025T201322Z
UID:10004192-1788093000-1788096600@saintfrancisnecedah.org
SUMMARY:Sunday Mass (St. Francis of Assisi)  Polish
DESCRIPTION:Sunday Mass at St. Francis of Assisi in Polish 12:30pm
URL:https://saintfrancisnecedah.org/event/sunday-mass-st-francis-of-assisi-polish/2026-08-30/
LOCATION:St Francis of Assisi Church\, 2001 S Main St\, Necedah\, WI\, 54646\, United States
ATTACH;FMTTYPE=image/jpeg:https://saintfrancisnecedah.org/wp-content/uploads/2022/12/Outside-church-St.Francis-w.jpg
END:VEVENT
BEGIN:VEVENT
DTSTART;TZID=UTC:20260905T163000
DTEND;TZID=UTC:20260905T173000
DTSTAMP:20260420T172352
CREATED:20250227T185502Z
LAST-MODIFIED:20250227T191917Z
UID:10004454-1788625800-1788629400@saintfrancisnecedah.org
SUMMARY:Saturday Mass (St Francis of Assisi) English
DESCRIPTION:Saturday Evening Mass at St. Francis of Assisi\, Necedah  English Mass 4:30pm
URL:https://saintfrancisnecedah.org/event/saturday-mass-st-francis-of-assisi-english-2/2026-09-05/
LOCATION:St Francis of Assisi Church\, 2001 S Main St\, Necedah\, WI\, 54646\, United States
ATTACH;FMTTYPE=image/jpeg:https://saintfrancisnecedah.org/wp-content/uploads/2022/12/Outside-church-St.Francis-w.jpg
END:VEVENT
BEGIN:VEVENT
DTSTART;TZID=UTC:20260906T110000
DTEND;TZID=UTC:20260906T120000
DTSTAMP:20260420T172352
CREATED:20231025T183905Z
LAST-MODIFIED:20250530T191321Z
UID:10003673-1788692400-1788696000@saintfrancisnecedah.org
SUMMARY:Sunday Mass - (St. Francis) Latin
DESCRIPTION:Latin Mass (Not Extraordinary Form) celebrated at 11:00 am St. Francis of Assisi\, Necedah
URL:https://saintfrancisnecedah.org/event/sunday-mass-st-francis-latin/2026-09-06/
LOCATION:St Francis of Assisi Church\, 2001 S Main St\, Necedah\, WI\, 54646\, United States
ATTACH;FMTTYPE=image/jpeg:https://saintfrancisnecedah.org/wp-content/uploads/2022/12/Outside-church-St.Francis-w.jpg
END:VEVENT
BEGIN:VEVENT
DTSTART;TZID=UTC:20260906T123000
DTEND;TZID=UTC:20260906T133000
DTSTAMP:20260420T172352
CREATED:20231025T201033Z
LAST-MODIFIED:20231025T201322Z
UID:10004193-1788697800-1788701400@saintfrancisnecedah.org
SUMMARY:Sunday Mass (St. Francis of Assisi)  Polish
DESCRIPTION:Sunday Mass at St. Francis of Assisi in Polish 12:30pm
URL:https://saintfrancisnecedah.org/event/sunday-mass-st-francis-of-assisi-polish/2026-09-06/
LOCATION:St Francis of Assisi Church\, 2001 S Main St\, Necedah\, WI\, 54646\, United States
ATTACH;FMTTYPE=image/jpeg:https://saintfrancisnecedah.org/wp-content/uploads/2022/12/Outside-church-St.Francis-w.jpg
END:VEVENT
BEGIN:VEVENT
DTSTART;TZID=UTC:20260912T163000
DTEND;TZID=UTC:20260912T173000
DTSTAMP:20260420T172352
CREATED:20250227T185502Z
LAST-MODIFIED:20250227T191917Z
UID:10004455-1789230600-1789234200@saintfrancisnecedah.org
SUMMARY:Saturday Mass (St Francis of Assisi) English
DESCRIPTION:Saturday Evening Mass at St. Francis of Assisi\, Necedah  English Mass 4:30pm
URL:https://saintfrancisnecedah.org/event/saturday-mass-st-francis-of-assisi-english-2/2026-09-12/
LOCATION:St Francis of Assisi Church\, 2001 S Main St\, Necedah\, WI\, 54646\, United States
ATTACH;FMTTYPE=image/jpeg:https://saintfrancisnecedah.org/wp-content/uploads/2022/12/Outside-church-St.Francis-w.jpg
END:VEVENT
BEGIN:VEVENT
DTSTART;TZID=UTC:20260913T110000
DTEND;TZID=UTC:20260913T120000
DTSTAMP:20260420T172352
CREATED:20231025T183905Z
LAST-MODIFIED:20250530T191321Z
UID:10003674-1789297200-1789300800@saintfrancisnecedah.org
SUMMARY:Sunday Mass - (St. Francis) Latin
DESCRIPTION:Latin Mass (Not Extraordinary Form) celebrated at 11:00 am St. Francis of Assisi\, Necedah
URL:https://saintfrancisnecedah.org/event/sunday-mass-st-francis-latin/2026-09-13/
LOCATION:St Francis of Assisi Church\, 2001 S Main St\, Necedah\, WI\, 54646\, United States
ATTACH;FMTTYPE=image/jpeg:https://saintfrancisnecedah.org/wp-content/uploads/2022/12/Outside-church-St.Francis-w.jpg
END:VEVENT
BEGIN:VEVENT
DTSTART;TZID=UTC:20260913T123000
DTEND;TZID=UTC:20260913T133000
DTSTAMP:20260420T172352
CREATED:20231025T201033Z
LAST-MODIFIED:20231025T201322Z
UID:10004194-1789302600-1789306200@saintfrancisnecedah.org
SUMMARY:Sunday Mass (St. Francis of Assisi)  Polish
DESCRIPTION:Sunday Mass at St. Francis of Assisi in Polish 12:30pm
URL:https://saintfrancisnecedah.org/event/sunday-mass-st-francis-of-assisi-polish/2026-09-13/
LOCATION:St Francis of Assisi Church\, 2001 S Main St\, Necedah\, WI\, 54646\, United States
ATTACH;FMTTYPE=image/jpeg:https://saintfrancisnecedah.org/wp-content/uploads/2022/12/Outside-church-St.Francis-w.jpg
END:VEVENT
BEGIN:VEVENT
DTSTART;TZID=UTC:20260919T163000
DTEND;TZID=UTC:20260919T173000
DTSTAMP:20260420T172352
CREATED:20250227T185502Z
LAST-MODIFIED:20250227T191917Z
UID:10004456-1789835400-1789839000@saintfrancisnecedah.org
SUMMARY:Saturday Mass (St Francis of Assisi) English
DESCRIPTION:Saturday Evening Mass at St. Francis of Assisi\, Necedah  English Mass 4:30pm
URL:https://saintfrancisnecedah.org/event/saturday-mass-st-francis-of-assisi-english-2/2026-09-19/
LOCATION:St Francis of Assisi Church\, 2001 S Main St\, Necedah\, WI\, 54646\, United States
ATTACH;FMTTYPE=image/jpeg:https://saintfrancisnecedah.org/wp-content/uploads/2022/12/Outside-church-St.Francis-w.jpg
END:VEVENT
BEGIN:VEVENT
DTSTART;TZID=UTC:20260920T110000
DTEND;TZID=UTC:20260920T120000
DTSTAMP:20260420T172352
CREATED:20231025T183905Z
LAST-MODIFIED:20250530T191321Z
UID:10003675-1789902000-1789905600@saintfrancisnecedah.org
SUMMARY:Sunday Mass - (St. Francis) Latin
DESCRIPTION:Latin Mass (Not Extraordinary Form) celebrated at 11:00 am St. Francis of Assisi\, Necedah
URL:https://saintfrancisnecedah.org/event/sunday-mass-st-francis-latin/2026-09-20/
LOCATION:St Francis of Assisi Church\, 2001 S Main St\, Necedah\, WI\, 54646\, United States
ATTACH;FMTTYPE=image/jpeg:https://saintfrancisnecedah.org/wp-content/uploads/2022/12/Outside-church-St.Francis-w.jpg
END:VEVENT
END:VCALENDAR